Workbook

Sheet Masterz
D1: =INFO!C1 -> Slalom Petersburg battle | AZ1: Database development by
D2: =INFO!C9 -> September, 7 • Murinskiy park | AZ2: Dan Gesmer, SeismicSK8@aol.com
D3: =INFO!C3&" / Masters" -> Giant slalom / Masters
A6: 0.1 | B6: secs penalty per hit cone | D6: Under "Raw Time," enter "DQ" or"DNF" for
A7: 20 | B7: maximum hit cones before DQ | D7: "Disqualified" and "DNR" for "Did Not Race."
B9: Bib Number | C9: Racer Name | D9: Run 1 | J9: Run 2 | P9: Run 3 | V9: Run 4 | AA9: Qual Rank (w/out DQs) | AB9: Best Time | AC9: Final Position | AD9: Qual Rank (w/DQs sequenced) | AE9: Racer No. & Name | AF9: Best Time | AG9: Double DQ Place Factor | AH9: No. of Ties per Best Time | AI9: Tied-at Time | AJ9: Tied-at Time Rank | AK9: Run 1 Time w/DQ Adjust | AL9: Run 2 Time w/DQ Adjust | AM9: Total Time w/DQ Adjust | AN9: Total Time Rank | AO9: Total Tie Place Factor | AP9: Tie 1 Total Time Rank | AQ9: Tie 1 Place Factor | AR9: Tie 2 Total Time Rank | AS9: Tie 2 Place Factor | AT9: Tie 3 Total Time Rank | AU9: Tie 3 Place Factor | AV9: Placed Racer No. & Name | AW9: Withdrawal Place Factor | AX9: Double DQ Place Factor 2 | AY9: Final Spot - Withdrawals | AZ9: Final Position | BA9: Racer No. & Name | BB9: Best Time
D10: Reaction Time | E10: Raw Time | F10: Cones | G10: Final Time | H10: Run Rank | J10: Reaction Time | K10: Raw Time | L10: Cones | M10: Final Time | N10: Run Rank | P10: Reaction Time | Q10: Raw Time | R10: Cones | S10: Final Time | T10: Run Rank | V10: Reaction Time | W10: Raw Time | X10: Cones | Y10: Final Time | Z10: Run Rank
A11: 1 | C11: Vlad Popov | D11: 7.913 | E11: 16.504 | F11: 0 | G11: {=IF(LEFT(E11:E110,1)="D","-",IF(F11:F110>A7,"-",IF(E11:E110>0,E11:E110+F11:F110*A6,"")))} -> 16.504 | H11: {=IF(G11:G110="","",IF(G11:G110="-","",RANK(G11:G110,G11:G110,1)))} -> 1 | J11: 2.848 | K11: 16.354 | L11: 0 | M11: {=IF(LEFT(K11:K110,1)="D","-",IF(L11:L110>A7,"-",IF(K11:K110>0,K11:K110+L11:L110*A6,"")))} -> 16.354 | N11: {=IF(M11:M110="","",IF(M11:M110="-","",RANK(M11:M110,M11:M110,1)))} -> 1 | S11: {=IF(LEFT(Q11:Q110,1)="D","-",IF(R11:R110>A7,"-",IF(Q11:Q110>0,Q11:Q110+R11:R110*A6,"")))} | T11: {=IF(S11:S110="","",IF(S11:S110="-","",RANK(S11:S110,S11:S110,1)))} | Y11: {=IF(LEFT(W11:W110,1)="D","-",IF(X11:X110>A7,"-",IF(W11:W110>0,W11:W110+X11:X110*A6,"")))} | Z11: {=IF(Y11:Y110="","",IF(Y11:Y110="-","",RANK(Y11:Y110,Y11:Y110,1)))} | AA11: {=IF(AB11:AB110="","",IF(AB11:AB110="-","",RANK(AB11:AB110,AB11:AB110,1)))} -> 1 | AB11: =IF(AND(ISBLANK(E11),ISBLANK(K11),ISBLANK(Q11),ISBLANK(W11)),"",IF(AND(G11="-",M11="-",S11="-",Y11="-"),"-",IF(AND(G11="-",ISBLANK(K11),ISBLANK(Q11),ISBLANK(W11)),"-",IF(AND(G11="-",M11="-",ISBLANK(Q11),ISBLANK(W11)),"-",IF(AND(G11="-",M11="-",S11="-",ISBLANK(W11)),"-",MIN(G11,M11,S11,Y11)))))) -> 16.354 | AC11: {=IF(AB11:AB110="","",VLOOKUP(AE11:AE110,AV11:AZ110,5,FALSE))} -> 1 | AD11: {=IF(AB11:AB110="","",IF(AB11:AB110="-",COUNT(AA11:AA110)+AG11:AG110,AA11:AA110+AO11:AO110+AQ11:AQ110+AS11:AS110+AU11:AU110))} -> 1 | AE11: {=IF(B11:B110 ="","",B11:B110 & " ")&C11:C110} -> Vlad Popov | AF11: {=AB11:AB110} -> 16.354 | AG11: =IF(AB11="","",COUNTIF(AB11:AB11,"-")) -> 0 | AH11: {=IF(AA11:AA110="","",COUNTIF(AA11:AA110,AA11:AA110)-1)} -> 0 | AI11: {=IF(AB11:AB110="-","",IF(AH11:AH110=0,"",AB11:AB110))} | AJ11: {=IF(AI11:AI110="","",RANK(AI11:AI110,AI11:AI110,1))} | AK11: {=IF(AH11:AH110="","",IF(AH11:AH110=0,"",IF(LEFT(G11:G110,1)="-","199",G11:G110)))} | AL11: {=IF(AH11:AH110="","",IF(AH11:AH110=0,"",IF(LEFT(M11:M110,1)="-","199",M11:M110)))} | AM11: {=IF(ISERROR(AK11:AK110+AL11:AL110)=TRUE,AK11:AK110,AK11:AK110+AL11:AL110)} | AN11: {=IF(AB11:AB110="","",IF(AH11:AH110=0,"0",IF(ISERROR(RANK(AM11:AM110,AM11:AM110,1))=TRUE,"0",RANK(AM11:AM110,AM11:AM110,1))))} -> 0 | AO11: 0 | AP11: {=IF(ISERROR(AH11:AH110)=TRUE,"",IF(AJ11:AJ110=1,AN11:AN110,""))} | AQ11: {=IF(AB11:AB110="","",IF(AP11:AP110="","0",RANK(AP11:AP110,AP11:AP110,1)-1))} -> 0 | AR11: {=IF(ISERROR(AH11:AH110)=TRUE,"",IF(AJ11:AJ110=COUNT(AP11:AP110)+1,AN11:AN110,""))} | AS11: {=IF(AB11:AB110="","",IF(AR11:AR110="","0",RANK(AR11:AR110,AR11:AR110,1)-1))} -> 0 | AT11: {=IF(ISERROR(AH11:AH110)=TRUE,"",IF(AJ11:AJ110=COUNT(AP11:AP110)+COUNT(AR11:AR110)+1,AN11:AN110,""))} | AU11: {=IF(AB11:AB110="","",IF(AT11:AT110="","0",RANK(AT11:AT110,AT11:AT110,1)-1))} -> 0 | AV11: {=BA11:BA110} -> Vlad Popov | AW11: =COUNTIF(#REF!,"AA") -> #REF! | AX11: =IF(BB11="","",COUNTIF(BB11:BB11,"-")) -> 0 | AY11: {=IF(BA11:BA110="BYE","",IF(#REF!="W","",IF(#REF!="N",IF(AZ11:AZ110<=COUNT(AA11:AA110),AZ11:AZ110-AW11:AW110,""),IF(AZ11:AZ110<=COUNT(AA11:AA110),AZ11:AZ110-AW11:AW110,AZ11:AZ110-AW11:AW110+AX11:AX110-1))))} -> #REF! | AZ11: {=IF(AB11:AB110="","",IF(AZ10:AZ109+1<=COUNT(AA11:AA110),AZ10:AZ109+1,COUNT(AA11:AA110)+1))} -> 1 | BA11: {=IF(AB11:AB110="","BYE",IF(ISERROR(VLOOKUP(A11:A110,AD11:AE110,2,FALSE))=TRUE,"",VLOOKUP(A11:A110,AD11:AE110,2,FALSE)))} -> Vlad Popov | BB11: {=IF(C11:C110="BYE", "",IF(A11:A110="","",IF(ISERROR(VLOOKUP(A11:A110,AD11:AF110,3,FALSE))=TRUE,"",VLOOKUP(A11:A110,AD11:AF110,3,FALSE))))} -> 16.354
A12: 2 | C12: Lars Tuxen | D12: 1.404 | E12: 16.827 | F12: 0 | G12: 16.827 | H12: 2 | J12: 1.501 | K12: 16.567 | L12: 1 | M12: 16.667 | N12: 2 | AA12: 2 | AB12: =IF(AND(ISBLANK(E12),ISBLANK(K12),ISBLANK(Q12),ISBLANK(W12)),"",IF(AND(G12="-",M12="-",S12="-",Y12="-"),"-",IF(AND(G12="-",ISBLANK(K12),ISBLANK(Q12),ISBLANK(W12)),"-",IF(AND(G12="-",M12="-",ISBLANK(Q12),ISBLANK(W12)),"-",IF(AND(G12="-",M12="-",S12="-",ISBLANK(W12)),"-",MIN(G12,M12,S12,Y12)))))) -> 16.667 | AC12: 2 | AD12: 2 | AE12: Lars Tuxen | AF12: 16.667 | AG12: =IF(AB12="","",COUNTIF(AB11:AB12,"-")) -> 0 | AH12: 0 | AN12: 0 | AO12: =IF(AB12="","",IF(AN12="0","0",COUNTIF(AN11:AN11,AN12))) -> 0 | AQ12: 0 | AS12: 0 | AU12: 0 | AV12: Lars Tuxen | AW12: =COUNTIF(#REF!,"AA") -> #REF! | AX12: =IF(BB12="","",COUNTIF(BB11:BB12,"-")) -> 0 | AY12: #REF! | AZ12: 2 | BA12: Lars Tuxen | BB12: 16.667
A13: 3 | C13: Grisha Mirgorodskiy | D13: 1.908 | E13: 18.63 | F13: 0 | G13: 18.63 | H13: 4 | J13: 1.255 | K13: 18.545 | L13: 0 | M13: 18.545 | N13: 4 | AA13: 4 | AB13: =IF(AND(ISBLANK(E13),ISBLANK(K13),ISBLANK(Q13),ISBLANK(W13)),"",IF(AND(G13="-",M13="-",S13="-",Y13="-"),"-",IF(AND(G13="-",ISBLANK(K13),ISBLANK(Q13),ISBLANK(W13)),"-",IF(AND(G13="-",M13="-",ISBLANK(Q13),ISBLANK(W13)),"-",IF(AND(G13="-",M13="-",S13="-",ISBLANK(W13)),"-",MIN(G13,M13,S13,Y13)))))) -> 18.545 | AC13: 4 | AD13: 4 | AE13: Grisha Mirgorodskiy | AF13: 18.545 | AG13: =IF(AB13="","",COUNTIF(AB11:AB13,"-")) -> 0 | AH13: 0 | AN13: 0 | AO13: =IF(AB13="","",IF(AN13="0","0",COUNTIF(AN11:AN12,AN13))) -> 0 | AQ13: 0 | AS13: 0 | AU13: 0 | AV13: Sergey Skobelev | AW13: =COUNTIF(#REF!,"AA") -> #REF! | AX13: =IF(BB13="","",COUNTIF(BB11:BB13,"-")) -> 0 | AY13: #REF! | AZ13: 3 | BA13: Sergey Skobelev | BB13: 18.486
A14: 4 | C14: Vladimir Solodovnikov | D14: 2.105 | E14: 19.401 | F14: 0 | G14: 19.401 | H14: 5 | J14: 1.686 | K14: 19.137 | L14: 0 | M14: 19.137 | N14: 5 | AA14: 5 | AB14: =IF(AND(ISBLANK(E14),ISBLANK(K14),ISBLANK(Q14),ISBLANK(W14)),"",IF(AND(G14="-",M14="-",S14="-",Y14="-"),"-",IF(AND(G14="-",ISBLANK(K14),ISBLANK(Q14),ISBLANK(W14)),"-",IF(AND(G14="-",M14="-",ISBLANK(Q14),ISBLANK(W14)),"-",IF(AND(G14="-",M14="-",S14="-",ISBLANK(W14)),"-",MIN(G14,M14,S14,Y14)))))) -> 19.137 | AC14: 5 | AD14: 5 | AE14: Vladimir Solodovnikov | AF14: 19.137 | AG14: =IF(AB14="","",COUNTIF(AB11:AB14,"-")) -> 0 | AH14: 0 | AN14: 0 | AO14: =IF(AB14="","",IF(AN14="0","0",COUNTIF(AN11:AN13,AN14))) -> 0 | AQ14: 0 | AS14: 0 | AU14: 0 | AV14: Grisha Mirgorodskiy | AW14: =COUNTIF(#REF!,"AA") -> #REF! | AX14: =IF(BB14="","",COUNTIF(BB11:BB14,"-")) -> 0 | AY14: #REF! | AZ14: 4 | BA14: Grisha Mirgorodskiy | BB14: 18.545
A15: 5 | C15: Sergey Skobelev | D15: 0.802 | E15: 18.547 | F15: 0 | G15: 18.547 | H15: 3 | J15: 1.136 | K15: 18.486 | L15: 0 | M15: 18.486 | N15: 3 | AA15: 3 | AB15: =IF(AND(ISBLANK(E15),ISBLANK(K15),ISBLANK(Q15),ISBLANK(W15)),"",IF(AND(G15="-",M15="-",S15="-",Y15="-"),"-",IF(AND(G15="-",ISBLANK(K15),ISBLANK(Q15),ISBLANK(W15)),"-",IF(AND(G15="-",M15="-",ISBLANK(Q15),ISBLANK(W15)),"-",IF(AND(G15="-",M15="-",S15="-",ISBLANK(W15)),"-",MIN(G15,M15,S15,Y15)))))) -> 18.486 | AC15: 3 | AD15: 3 | AE15: Sergey Skobelev | AF15: 18.486 | AG15: =IF(AB15="","",COUNTIF(AB11:AB15,"-")) -> 0 | AH15: 0 | AN15: 0 | AO15: =IF(AB15="","",IF(AN15="0","0",COUNTIF(AN11:AN14,AN15))) -> 0 | AQ15: 0 | AS15: 0 | AU15: 0 | AV15: Vladimir Solodovnikov | AW15: =COUNTIF(#REF!,"AA") -> #REF! | AX15: =IF(BB15="","",COUNTIF(BB11:BB15,"-")) -> 0 | AY15: #REF! | AZ15: 5 | BA15: Vladimir Solodovnikov | BB15: 19.137
A16: 6 | AB16: =IF(AND(ISBLANK(E16),ISBLANK(K16),ISBLANK(Q16),ISBLANK(W16)),"",IF(AND(G16="-",M16="-",S16="-",Y16="-"),"-",IF(AND(G16="-",ISBLANK(K16),ISBLANK(Q16),ISBLANK(W16)),"-",IF(AND(G16="-",M16="-",ISBLANK(Q16),ISBLANK(W16)),"-",IF(AND(G16="-",M16="-",S16="-",ISBLANK(W16)),"-",MIN(G16,M16,S16,Y16)))))) | AG16: =IF(AB16="","",COUNTIF(AB11:AB16,"-")) | AO16: =IF(AB16="","",IF(AN16="0","0",COUNTIF(AN11:AN15,AN16))) | AV16: BYE | AW16: =COUNTIF(#REF!,"AA") -> #REF! | AX16: =IF(BB16="","",COUNTIF(BB11:BB16,"-")) | BA16: BYE
A17: 7 | AB17: =IF(AND(ISBLANK(E17),ISBLANK(K17),ISBLANK(Q17),ISBLANK(W17)),"",IF(AND(G17="-",M17="-",S17="-",Y17="-"),"-",IF(AND(G17="-",ISBLANK(K17),ISBLANK(Q17),ISBLANK(W17)),"-",IF(AND(G17="-",M17="-",ISBLANK(Q17),ISBLANK(W17)),"-",IF(AND(G17="-",M17="-",S17="-",ISBLANK(W17)),"-",MIN(G17,M17,S17,Y17)))))) | AG17: =IF(AB17="","",COUNTIF(AB11:AB17,"-")) | AO17: =IF(AB17="","",IF(AB17="","",IF(AN17="0","0",COUNTIF(AN11:AN16,AN17)))) | AV17: BYE | AW17: =COUNTIF(#REF!,"AA") -> #REF! | AX17: =IF(BB17="","",COUNTIF(BB11:BB17,"-")) | BA17: BYE
A18: 8 | AB18: =IF(AND(ISBLANK(E18),ISBLANK(K18),ISBLANK(Q18),ISBLANK(W18)),"",IF(AND(G18="-",M18="-",S18="-",Y18="-"),"-",IF(AND(G18="-",ISBLANK(K18),ISBLANK(Q18),ISBLANK(W18)),"-",IF(AND(G18="-",M18="-",ISBLANK(Q18),ISBLANK(W18)),"-",IF(AND(G18="-",M18="-",S18="-",ISBLANK(W18)),"-",MIN(G18,M18,S18,Y18)))))) | AG18: =IF(AB18="","",COUNTIF(AB11:AB18,"-")) | AO18: =IF(AB18="","",IF(AB18="","",IF(AN18="0","0",COUNTIF(AN11:AN17,AN18)))) | AV18: BYE | AW18: =COUNTIF(#REF!,"AA") -> #REF! | AX18: =IF(BB18="","",COUNTIF(BB11:BB18,"-")) | BA18: BYE
A19: 9 | AB19: =IF(AND(ISBLANK(E19),ISBLANK(K19),ISBLANK(Q19),ISBLANK(W19)),"",IF(AND(G19="-",M19="-",S19="-",Y19="-"),"-",IF(AND(G19="-",ISBLANK(K19),ISBLANK(Q19),ISBLANK(W19)),"-",IF(AND(G19="-",M19="-",ISBLANK(Q19),ISBLANK(W19)),"-",IF(AND(G19="-",M19="-",S19="-",ISBLANK(W19)),"-",MIN(G19,M19,S19,Y19)))))) | AG19: =IF(AB19="","",COUNTIF(AB11:AB19,"-")) | AO19: =IF(AB19="","",IF(AB19="","",IF(AN19="0","0",COUNTIF(AN11:AN18,AN19)))) | AV19: BYE | AW19: =COUNTIF(#REF!,"AA") -> #REF! | AX19: =IF(BB19="","",COUNTIF(BB11:BB19,"-")) | BA19: BYE
A20: 10 | AB20: =IF(AND(ISBLANK(E20),ISBLANK(K20),ISBLANK(Q20),ISBLANK(W20)),"",IF(AND(G20="-",M20="-",S20="-",Y20="-"),"-",IF(AND(G20="-",ISBLANK(K20),ISBLANK(Q20),ISBLANK(W20)),"-",IF(AND(G20="-",M20="-",ISBLANK(Q20),ISBLANK(W20)),"-",IF(AND(G20="-",M20="-",S20="-",ISBLANK(W20)),"-",MIN(G20,M20,S20,Y20)))))) | AG20: =IF(AB20="","",COUNTIF(AB11:AB20,"-")) | AO20: =IF(AB20="","",IF(AN20="0","0",COUNTIF(AN11:AN19,AN20))) | AV20: BYE | AW20: =COUNTIF(#REF!,"AA") -> #REF! | AX20: =IF(BB20="","",COUNTIF(BB11:BB20,"-")) | BA20: BYE
A21: 11 | AB21: =IF(AND(ISBLANK(E21),ISBLANK(K21),ISBLANK(Q21),ISBLANK(W21)),"",IF(AND(G21="-",M21="-",S21="-",Y21="-"),"-",IF(AND(G21="-",ISBLANK(K21),ISBLANK(Q21),ISBLANK(W21)),"-",IF(AND(G21="-",M21="-",ISBLANK(Q21),ISBLANK(W21)),"-",IF(AND(G21="-",M21="-",S21="-",ISBLANK(W21)),"-",MIN(G21,M21,S21,Y21)))))) | AG21: =IF(AB21="","",COUNTIF(AB11:AB21,"-")) | AO21: =IF(AB21="","",IF(AN21="0","0",COUNTIF(AN1:AN20,AN21))) | AV21: BYE | AW21: =COUNTIF(#REF!,"AA") -> #REF! | AX21: =IF(BB21="","",COUNTIF(BB11:BB21,"-")) | BA21: BYE
A22: 12 | AB22: =IF(AND(ISBLANK(E22),ISBLANK(K22),ISBLANK(Q22),ISBLANK(W22)),"",IF(AND(G22="-",M22="-",S22="-",Y22="-"),"-",IF(AND(G22="-",ISBLANK(K22),ISBLANK(Q22),ISBLANK(W22)),"-",IF(AND(G22="-",M22="-",ISBLANK(Q22),ISBLANK(W22)),"-",IF(AND(G22="-",M22="-",S22="-",ISBLANK(W22)),"-",MIN(G22,M22,S22,Y22)))))) | AG22: =IF(AB22="","",COUNTIF(AB11:AB22,"-")) | AO22: =IF(AB22="","",IF(AN22="0","0",COUNTIF(AN11:AN21,AN22))) | AV22: BYE | AW22: =COUNTIF(#REF!,"AA") -> #REF! | AX22: =IF(BB22="","",COUNTIF(BB11:BB22,"-")) | BA22: BYE
A23: 13 | AB23: =IF(AND(ISBLANK(E23),ISBLANK(K23),ISBLANK(Q23),ISBLANK(W23)),"",IF(AND(G23="-",M23="-",S23="-",Y23="-"),"-",IF(AND(G23="-",ISBLANK(K23),ISBLANK(Q23),ISBLANK(W23)),"-",IF(AND(G23="-",M23="-",ISBLANK(Q23),ISBLANK(W23)),"-",IF(AND(G23="-",M23="-",S23="-",ISBLANK(W23)),"-",MIN(G23,M23,S23,Y23)))))) | AG23: =IF(AB23="","",COUNTIF(AB11:AB23,"-")) | AO23: =IF(AB23="","",IF(AN23="0","0",COUNTIF(AN11:AN22,AN23))) | AV23: BYE | AW23: =COUNTIF(#REF!,"AA") -> #REF! | AX23: =IF(BB23="","",COUNTIF(BB11:BB23,"-")) | BA23: BYE
A24: 14 | AB24: =IF(AND(ISBLANK(E24),ISBLANK(K24),ISBLANK(Q24),ISBLANK(W24)),"",IF(AND(G24="-",M24="-",S24="-",Y24="-"),"-",IF(AND(G24="-",ISBLANK(K24),ISBLANK(Q24),ISBLANK(W24)),"-",IF(AND(G24="-",M24="-",ISBLANK(Q24),ISBLANK(W24)),"-",IF(AND(G24="-",M24="-",S24="-",ISBLANK(W24)),"-",MIN(G24,M24,S24,Y24)))))) | AG24: =IF(AB24="","",COUNTIF(AB11:AB24,"-")) | AO24: =IF(AB24="","",IF(AN24="0","0",COUNTIF(AN11:AN23,AN24))) | AV24: BYE | AW24: =COUNTIF(#REF!,"AA") -> #REF! | AX24: =IF(BB24="","",COUNTIF(BB11:BB24,"-")) | BA24: BYE
A25: 15 | AB25: =IF(AND(ISBLANK(E25),ISBLANK(K25),ISBLANK(Q25),ISBLANK(W25)),"",IF(AND(G25="-",M25="-",S25="-",Y25="-"),"-",IF(AND(G25="-",ISBLANK(K25),ISBLANK(Q25),ISBLANK(W25)),"-",IF(AND(G25="-",M25="-",ISBLANK(Q25),ISBLANK(W25)),"-",IF(AND(G25="-",M25="-",S25="-",ISBLANK(W25)),"-",MIN(G25,M25,S25,Y25)))))) | AG25: =IF(AB25="","",COUNTIF(AB11:AB25,"-")) | AO25: =IF(AB25="","",IF(AN25="0","0",COUNTIF(AN11:AN24,AN25))) | AV25: BYE | AW25: =COUNTIF(#REF!,"AA") -> #REF! | AX25: =IF(BB25="","",COUNTIF(BB11:BB25,"-")) | BA25: BYE
A26: 16 | AB26: =IF(AND(ISBLANK(E26),ISBLANK(K26),ISBLANK(Q26),ISBLANK(W26)),"",IF(AND(G26="-",M26="-",S26="-",Y26="-"),"-",IF(AND(G26="-",ISBLANK(K26),ISBLANK(Q26),ISBLANK(W26)),"-",IF(AND(G26="-",M26="-",ISBLANK(Q26),ISBLANK(W26)),"-",IF(AND(G26="-",M26="-",S26="-",ISBLANK(W26)),"-",MIN(G26,M26,S26,Y26)))))) | AG26: =IF(AB26="","",COUNTIF(AB11:AB26,"-")) | AO26: =IF(AB26="","",IF(AN26="0","0",COUNTIF(AN11:AN25,AN26))) | AV26: BYE | AW26: =COUNTIF(#REF!,"AA") -> #REF! | AX26: =IF(BB26="","",COUNTIF(BB11:BB26,"-")) | BA26: BYE
A27: 17 | AB27: =IF(AND(ISBLANK(E27),ISBLANK(K27),ISBLANK(Q27),ISBLANK(W27)),"",IF(AND(G27="-",M27="-",S27="-",Y27="-"),"-",IF(AND(G27="-",ISBLANK(K27),ISBLANK(Q27),ISBLANK(W27)),"-",IF(AND(G27="-",M27="-",ISBLANK(Q27),ISBLANK(W27)),"-",IF(AND(G27="-",M27="-",S27="-",ISBLANK(W27)),"-",MIN(G27,M27,S27,Y27)))))) | AG27: =IF(AB27="","",COUNTIF(AB11:AB27,"-")) | AO27: =IF(AB27="","",IF(AN27="0","0",COUNTIF(AN11:AN26,AN27))) | AV27: BYE | AW27: =COUNTIF(#REF!,"AA") -> #REF! | AX27: =IF(BB27="","",COUNTIF(BB11:BB27,"-")) | BA27: BYE
A28: 18 | AB28: =IF(AND(ISBLANK(E28),ISBLANK(K28),ISBLANK(Q28),ISBLANK(W28)),"",IF(AND(G28="-",M28="-",S28="-",Y28="-"),"-",IF(AND(G28="-",ISBLANK(K28),ISBLANK(Q28),ISBLANK(W28)),"-",IF(AND(G28="-",M28="-",ISBLANK(Q28),ISBLANK(W28)),"-",IF(AND(G28="-",M28="-",S28="-",ISBLANK(W28)),"-",MIN(G28,M28,S28,Y28)))))) | AG28: =IF(AB28="","",COUNTIF(AB11:AB28,"-")) | AO28: =IF(AB28="","",IF(AN28="0","0",COUNTIF(AN11:AN27,AN28))) | AV28: BYE | AW28: =COUNTIF(#REF!,"AA") -> #REF! | AX28: =IF(BB28="","",COUNTIF(BB11:BB28,"-")) | BA28: BYE
A29: 19 | AB29: =IF(AND(ISBLANK(E29),ISBLANK(K29),ISBLANK(Q29),ISBLANK(W29)),"",IF(AND(G29="-",M29="-",S29="-",Y29="-"),"-",IF(AND(G29="-",ISBLANK(K29),ISBLANK(Q29),ISBLANK(W29)),"-",IF(AND(G29="-",M29="-",ISBLANK(Q29),ISBLANK(W29)),"-",IF(AND(G29="-",M29="-",S29="-",ISBLANK(W29)),"-",MIN(G29,M29,S29,Y29)))))) | AG29: =IF(AB29="","",COUNTIF(AB11:AB29,"-")) | AO29: =IF(AB29="","",IF(AN29="0","0",COUNTIF(AN11:AN28,AN29))) | AV29: BYE | AW29: =COUNTIF(#REF!,"AA") -> #REF! | AX29: =IF(BB29="","",COUNTIF(BB11:BB29,"-")) | BA29: BYE
A30: 20 | AB30: =IF(AND(ISBLANK(E30),ISBLANK(K30),ISBLANK(Q30),ISBLANK(W30)),"",IF(AND(G30="-",M30="-",S30="-",Y30="-"),"-",IF(AND(G30="-",ISBLANK(K30),ISBLANK(Q30),ISBLANK(W30)),"-",IF(AND(G30="-",M30="-",ISBLANK(Q30),ISBLANK(W30)),"-",IF(AND(G30="-",M30="-",S30="-",ISBLANK(W30)),"-",MIN(G30,M30,S30,Y30)))))) | AG30: =IF(AB30="","",COUNTIF(AB11:AB30,"-")) | AO30: =IF(AB30="","",IF(AN30="0","0",COUNTIF(AN11:AN29,AN30))) | AV30: BYE | AW30: =COUNTIF(#REF!,"AA") -> #REF! | AX30: =IF(BB30="","",COUNTIF(BB11:BB30,"-")) | BA30: BYE
A31: 21 | AB31: =IF(AND(ISBLANK(E31),ISBLANK(K31),ISBLANK(Q31),ISBLANK(W31)),"",IF(AND(G31="-",M31="-",S31="-",Y31="-"),"-",IF(AND(G31="-",ISBLANK(K31),ISBLANK(Q31),ISBLANK(W31)),"-",IF(AND(G31="-",M31="-",ISBLANK(Q31),ISBLANK(W31)),"-",IF(AND(G31="-",M31="-",S31="-",ISBLANK(W31)),"-",MIN(G31,M31,S31,Y31)))))) | AG31: =IF(AB31="","",COUNTIF(AB11:AB31,"-")) | AO31: =IF(AB31="","",IF(AN31="0","0",COUNTIF(AN11:AN30,AN31))) | AV31: BYE | AW31: =COUNTIF(#REF!,"AA") -> #REF! | AX31: =IF(BB31="","",COUNTIF(BB11:BB31,"-")) | BA31: BYE
A32: 22 | AB32: =IF(AND(ISBLANK(E32),ISBLANK(K32),ISBLANK(Q32),ISBLANK(W32)),"",IF(AND(G32="-",M32="-",S32="-",Y32="-"),"-",IF(AND(G32="-",ISBLANK(K32),ISBLANK(Q32),ISBLANK(W32)),"-",IF(AND(G32="-",M32="-",ISBLANK(Q32),ISBLANK(W32)),"-",IF(AND(G32="-",M32="-",S32="-",ISBLANK(W32)),"-",MIN(G32,M32,S32,Y32)))))) | AG32: =IF(AB32="","",COUNTIF(AB11:AB32,"-")) | AO32: =IF(AB32="","",IF(AN32="0","0",COUNTIF(AN11:AN31,AN32))) | AV32: BYE | AW32: =COUNTIF(#REF!,"AA") -> #REF! | AX32: =IF(BB32="","",COUNTIF(BB11:BB32,"-")) | BA32: BYE
A33: 23 | AB33: =IF(AND(ISBLANK(E33),ISBLANK(K33),ISBLANK(Q33),ISBLANK(W33)),"",IF(AND(G33="-",M33="-",S33="-",Y33="-"),"-",IF(AND(G33="-",ISBLANK(K33),ISBLANK(Q33),ISBLANK(W33)),"-",IF(AND(G33="-",M33="-",ISBLANK(Q33),ISBLANK(W33)),"-",IF(AND(G33="-",M33="-",S33="-",ISBLANK(W33)),"-",MIN(G33,M33,S33,Y33)))))) | AG33: =IF(AB33="","",COUNTIF(AB11:AB33,"-")) | AO33: =IF(AB33="","",IF(AN33="0","0",COUNTIF(AN11:AN32,AN33))) | AV33: BYE | AW33: =COUNTIF(#REF!,"AA") -> #REF! | AX33: =IF(BB33="","",COUNTIF(BB11:BB33,"-")) | BA33: BYE
A34: 24 | AB34: =IF(AND(ISBLANK(E34),ISBLANK(K34),ISBLANK(Q34),ISBLANK(W34)),"",IF(AND(G34="-",M34="-",S34="-",Y34="-"),"-",IF(AND(G34="-",ISBLANK(K34),ISBLANK(Q34),ISBLANK(W34)),"-",IF(AND(G34="-",M34="-",ISBLANK(Q34),ISBLANK(W34)),"-",IF(AND(G34="-",M34="-",S34="-",ISBLANK(W34)),"-",MIN(G34,M34,S34,Y34)))))) | AG34: =IF(AB34="","",COUNTIF(AB11:AB34,"-")) | AO34: =IF(AB34="","",IF(AN34="0","0",COUNTIF(AN11:AN33,AN34))) | AV34: BYE | AW34: =COUNTIF(#REF!,"AA") -> #REF! | AX34: =IF(BB34="","",COUNTIF(BB11:BB34,"-")) | BA34: BYE
A35: 25 | AB35: =IF(AND(ISBLANK(E35),ISBLANK(K35),ISBLANK(Q35),ISBLANK(W35)),"",IF(AND(G35="-",M35="-",S35="-",Y35="-"),"-",IF(AND(G35="-",ISBLANK(K35),ISBLANK(Q35),ISBLANK(W35)),"-",IF(AND(G35="-",M35="-",ISBLANK(Q35),ISBLANK(W35)),"-",IF(AND(G35="-",M35="-",S35="-",ISBLANK(W35)),"-",MIN(G35,M35,S35,Y35)))))) | AG35: =IF(AB35="","",COUNTIF(AB11:AB35,"-")) | AO35: =IF(AB35="","",IF(AN35="0","0",COUNTIF(AN11:AN34,AN35))) | AV35: BYE | AW35: =COUNTIF(#REF!,"AA") -> #REF! | AX35: =IF(BB35="","",COUNTIF(BB11:BB35,"-")) | BA35: BYE
A36: 26 | AB36: =IF(AND(ISBLANK(E36),ISBLANK(K36),ISBLANK(Q36),ISBLANK(W36)),"",IF(AND(G36="-",M36="-",S36="-",Y36="-"),"-",IF(AND(G36="-",ISBLANK(K36),ISBLANK(Q36),ISBLANK(W36)),"-",IF(AND(G36="-",M36="-",ISBLANK(Q36),ISBLANK(W36)),"-",IF(AND(G36="-",M36="-",S36="-",ISBLANK(W36)),"-",MIN(G36,M36,S36,Y36)))))) | AG36: =IF(AB36="","",COUNTIF(AB11:AB36,"-")) | AO36: =IF(AB36="","",IF(AN36="0","0",COUNTIF(AN11:AN35,AN36))) | AV36: BYE | AW36: =COUNTIF(#REF!,"AA") -> #REF! | AX36: =IF(BB36="","",COUNTIF(BB11:BB36,"-")) | BA36: BYE
A37: 27 | AB37: =IF(AND(ISBLANK(E37),ISBLANK(K37),ISBLANK(Q37),ISBLANK(W37)),"",IF(AND(G37="-",M37="-",S37="-",Y37="-"),"-",IF(AND(G37="-",ISBLANK(K37),ISBLANK(Q37),ISBLANK(W37)),"-",IF(AND(G37="-",M37="-",ISBLANK(Q37),ISBLANK(W37)),"-",IF(AND(G37="-",M37="-",S37="-",ISBLANK(W37)),"-",MIN(G37,M37,S37,Y37)))))) | AG37: =IF(AB37="","",COUNTIF(AB11:AB37,"-")) | AO37: =IF(AB37="","",IF(AN37="0","0",COUNTIF(AN11:AN36,AN37))) | AV37: BYE | AW37: =COUNTIF(#REF!,"AA") -> #REF! | AX37: =IF(BB37="","",COUNTIF(BB11:BB37,"-")) | BA37: BYE
A38: 28 | AB38: =IF(AND(ISBLANK(E38),ISBLANK(K38),ISBLANK(Q38),ISBLANK(W38)),"",IF(AND(G38="-",M38="-",S38="-",Y38="-"),"-",IF(AND(G38="-",ISBLANK(K38),ISBLANK(Q38),ISBLANK(W38)),"-",IF(AND(G38="-",M38="-",ISBLANK(Q38),ISBLANK(W38)),"-",IF(AND(G38="-",M38="-",S38="-",ISBLANK(W38)),"-",MIN(G38,M38,S38,Y38)))))) | AG38: =IF(AB38="","",COUNTIF(AB11:AB38,"-")) | AO38: =IF(AB38="","",IF(AN38="0","0",COUNTIF(AN11:AN37,AN38))) | AV38: BYE | AW38: =COUNTIF(#REF!,"AA") -> #REF! | AX38: =IF(BB38="","",COUNTIF(BB11:BB38,"-")) | BA38: BYE
A39: 29 | AB39: =IF(AND(ISBLANK(E39),ISBLANK(K39),ISBLANK(Q39),ISBLANK(W39)),"",IF(AND(G39="-",M39="-",S39="-",Y39="-"),"-",IF(AND(G39="-",ISBLANK(K39),ISBLANK(Q39),ISBLANK(W39)),"-",IF(AND(G39="-",M39="-",ISBLANK(Q39),ISBLANK(W39)),"-",IF(AND(G39="-",M39="-",S39="-",ISBLANK(W39)),"-",MIN(G39,M39,S39,Y39)))))) | AG39: =IF(AB39="","",COUNTIF(AB11:AB39,"-")) | AO39: =IF(AB39="","",IF(AN39="0","0",COUNTIF(AN11:AN38,AN39))) | AV39: BYE | AW39: =COUNTIF(#REF!,"AA") -> #REF! | AX39: =IF(BB39="","",COUNTIF(BB11:BB39,"-")) | BA39: BYE
A40: 30 | AB40: =IF(AND(ISBLANK(E40),ISBLANK(K40),ISBLANK(Q40),ISBLANK(W40)),"",IF(AND(G40="-",M40="-",S40="-",Y40="-"),"-",IF(AND(G40="-",ISBLANK(K40),ISBLANK(Q40),ISBLANK(W40)),"-",IF(AND(G40="-",M40="-",ISBLANK(Q40),ISBLANK(W40)),"-",IF(AND(G40="-",M40="-",S40="-",ISBLANK(W40)),"-",MIN(G40,M40,S40,Y40)))))) | AG40: =IF(AB40="","",COUNTIF(AB11:AB40,"-")) | AO40: =IF(AB40="","",IF(AN40="0","0",COUNTIF(AN11:AN39,AN40))) | AV40: BYE | AW40: =COUNTIF(#REF!,"AA") -> #REF! | AX40: =IF(BB40="","",COUNTIF(BB11:BB40,"-")) | BA40: BYE
A41: 31 | AB41: =IF(AND(ISBLANK(E41),ISBLANK(K41),ISBLANK(Q41),ISBLANK(W41)),"",IF(AND(G41="-",M41="-",S41="-",Y41="-"),"-",IF(AND(G41="-",ISBLANK(K41),ISBLANK(Q41),ISBLANK(W41)),"-",IF(AND(G41="-",M41="-",ISBLANK(Q41),ISBLANK(W41)),"-",IF(AND(G41="-",M41="-",S41="-",ISBLANK(W41)),"-",MIN(G41,M41,S41,Y41)))))) | AG41: =IF(AB41="","",COUNTIF(AB11:AB41,"-")) | AO41: =IF(AB41="","",IF(AN41="0","0",COUNTIF(AN11:AN40,AN41))) | AV41: BYE | AW41: =COUNTIF(#REF!,"AA") -> #REF! | AX41: =IF(BB41="","",COUNTIF(BB11:BB41,"-")) | BA41: BYE
A42: 32 | AB42: =IF(AND(ISBLANK(E42),ISBLANK(K42),ISBLANK(Q42),ISBLANK(W42)),"",IF(AND(G42="-",M42="-",S42="-",Y42="-"),"-",IF(AND(G42="-",ISBLANK(K42),ISBLANK(Q42),ISBLANK(W42)),"-",IF(AND(G42="-",M42="-",ISBLANK(Q42),ISBLANK(W42)),"-",IF(AND(G42="-",M42="-",S42="-",ISBLANK(W42)),"-",MIN(G42,M42,S42,Y42)))))) | AG42: =IF(AB42="","",COUNTIF(AB11:AB42,"-")) | AO42: =IF(AB42="","",IF(AN42="0","0",COUNTIF(AN11:AN41,AN42))) | AV42: BYE | AW42: =COUNTIF(#REF!,"AA") -> #REF! | AX42: =IF(BB42="","",COUNTIF(BB11:BB42,"-")) | BA42: BYE
A43: 33 | AB43: =IF(AND(ISBLANK(E43),ISBLANK(K43),ISBLANK(Q43),ISBLANK(W43)),"",IF(AND(G43="-",M43="-",S43="-",Y43="-"),"-",IF(AND(G43="-",ISBLANK(K43),ISBLANK(Q43),ISBLANK(W43)),"-",IF(AND(G43="-",M43="-",ISBLANK(Q43),ISBLANK(W43)),"-",IF(AND(G43="-",M43="-",S43="-",ISBLANK(W43)),"-",MIN(G43,M43,S43,Y43)))))) | AG43: =IF(AB43="","",COUNTIF(AB11:AB43,"-")) | AO43: =IF(AB43="","",IF(AN43="0","0",COUNTIF(AN11:AN42,AN43))) | AV43: BYE | AW43: =COUNTIF(#REF!,"AA") -> #REF! | AX43: =IF(BB43="","",COUNTIF(BB11:BB43,"-")) | BA43: BYE
...

Sheet INFO
A1: event name | C1: Slalom Petersburg battle
E2: менять зеленое
A3: discipline | C3: Giant slalom
E4: красное не менять
A5: date | C5: September, 7
A7: place | C7: Murinskiy park
A9: date & place | C9: =C5&" • "&C7 -> September, 7 • Murinskiy park

Sheet Kids
D1: =INFO!C1 -> Slalom Petersburg battle | AZ1: Database development by
D2: =INFO!C9 -> September, 7 • Murinskiy park | AZ2: Dan Gesmer, SeismicSK8@aol.com
D3: =INFO!C3&" / Kids" -> Giant slalom / Kids
A6: 0.1 | B6: secs penalty per hit cone | D6: Under "Raw Time," enter "DQ" or"DNF" for
A7: 20 | B7: maximum hit cones before DQ | D7: "Disqualified" and "DNR" for "Did Not Race."
B9: Bib Number | C9: Racer Name | D9: Run 1 | J9: Run 2 | P9: Run 3 | V9: Run 4 | AA9: Qual Rank (w/out DQs) | AB9: Best Time | AC9: Final Position | AD9: Qual Rank (w/DQs sequenced) | AE9: Racer No. & Name | AF9: Best Time | AG9: Double DQ Place Factor | AH9: No. of Ties per Best Time | AI9: Tied-at Time | AJ9: Tied-at Time Rank | AK9: Run 1 Time w/DQ Adjust | AL9: Run 2 Time w/DQ Adjust | AM9: Total Time w/DQ Adjust | AN9: Total Time Rank | AO9: Total Tie Place Factor | AP9: Tie 1 Total Time Rank | AQ9: Tie 1 Place Factor | AR9: Tie 2 Total Time Rank | AS9: Tie 2 Place Factor | AT9: Tie 3 Total Time Rank | AU9: Tie 3 Place Factor | AV9: Placed Racer No. & Name | AW9: Withdrawal Place Factor | AX9: Double DQ Place Factor 2 | AY9: Final Spot - Withdrawals | AZ9: Final Position | BA9: Racer No. & Name | BB9: Best Time
D10: Reaction Time | E10: Raw Time | F10: Cones | G10: Final Time | H10: Run Rank | J10: Reaction Time | K10: Raw Time | L10: Cones | M10: Final Time | N10: Run Rank | P10: Reaction Time | Q10: Raw Time | R10: Cones | S10: Final Time | T10: Run Rank | V10: Reaction Time | W10: Raw Time | X10: Cones | Y10: Final Time | Z10: Run Rank
A11: 1 | C11: Matvei Kudimov | E11: 19.664 | F11: 0 | G11: {=IF(LEFT(E11:E110,1)="D","-",IF(F11:F110>A7,"-",IF(E11:E110>0,E11:E110+F11:F110*A6,"")))} -> 19.664 | H11: {=IF(G11:G110="","",IF(G11:G110="-","",RANK(G11:G110,G11:G110,1)))} -> 1 | K11: 19.556 | L11: 0 | M11: {=IF(LEFT(K11:K110,1)="D","-",IF(L11:L110>A7,"-",IF(K11:K110>0,K11:K110+L11:L110*A6,"")))} -> 19.556 | N11: {=IF(M11:M110="","",IF(M11:M110="-","",RANK(M11:M110,M11:M110,1)))} -> 1 | S11: {=IF(LEFT(Q11:Q110,1)="D","-",IF(R11:R110>A7,"-",IF(Q11:Q110>0,Q11:Q110+R11:R110*A6,"")))} | T11: {=IF(S11:S110="","",IF(S11:S110="-","",RANK(S11:S110,S11:S110,1)))} | Y11: {=IF(LEFT(W11:W110,1)="D","-",IF(X11:X110>A7,"-",IF(W11:W110>0,W11:W110+X11:X110*A6,"")))} | Z11: {=IF(Y11:Y110="","",IF(Y11:Y110="-","",RANK(Y11:Y110,Y11:Y110,1)))} | AA11: {=IF(AB11:AB110="","",IF(AB11:AB110="-","",RANK(AB11:AB110,AB11:AB110,1)))} -> 1 | AB11: =IF(AND(ISBLANK(E11),ISBLANK(K11),ISBLANK(Q11),ISBLANK(W11)),"",IF(AND(G11="-",M11="-",S11="-",Y11="-"),"-",IF(AND(G11="-",ISBLANK(K11),ISBLANK(Q11),ISBLANK(W11)),"-",IF(AND(G11="-",M11="-",ISBLANK(Q11),ISBLANK(W11)),"-",IF(AND(G11="-",M11="-",S11="-",ISBLANK(W11)),"-",MIN(G11,M11,S11,Y11)))))) -> 19.556 | AC11: {=IF(AB11:AB110="","",VLOOKUP(AE11:AE110,AV11:AZ110,5,FALSE))} -> 1 | AD11: {=IF(AB11:AB110="","",IF(AB11:AB110="-",COUNT(AA11:AA110)+AG11:AG110,AA11:AA110+AO11:AO110+AQ11:AQ110+AS11:AS110+AU11:AU110))} -> 1 | AE11: {=IF(B11:B110 ="","",B11:B110 & " ")&C11:C110} -> Matvei Kudimov | AF11: {=AB11:AB110} -> 19.556 | AG11: =IF(AB11="","",COUNTIF(AB11:AB11,"-")) -> 0 | AH11: {=IF(AA11:AA110="","",COUNTIF(AA11:AA110,AA11:AA110)-1)} -> 0 | AI11: {=IF(AB11:AB110="-","",IF(AH11:AH110=0,"",AB11:AB110))} | AJ11: {=IF(AI11:AI110="","",RANK(AI11:AI110,AI11:AI110,1))} | AK11: {=IF(AH11:AH110="","",IF(AH11:AH110=0,"",IF(LEFT(G11:G110,1)="-","199",G11:G110)))} | AL11: {=IF(AH11:AH110="","",IF(AH11:AH110=0,"",IF(LEFT(M11:M110,1)="-","199",M11:M110)))} | AM11: {=IF(ISERROR(AK11:AK110+AL11:AL110)=TRUE,AK11:AK110,AK11:AK110+AL11:AL110)} | AN11: {=IF(AB11:AB110="","",IF(AH11:AH110=0,"0",IF(ISERROR(RANK(AM11:AM110,AM11:AM110,1))=TRUE,"0",RANK(AM11:AM110,AM11:AM110,1))))} -> 0 | AO11: 0 | AP11: {=IF(ISERROR(AH11:AH110)=TRUE,"",IF(AJ11:AJ110=1,AN11:AN110,""))} | AQ11: {=IF(AB11:AB110="","",IF(AP11:AP110="","0",RANK(AP11:AP110,AP11:AP110,1)-1))} -> 0 | AR11: {=IF(ISERROR(AH11:AH110)=TRUE,"",IF(AJ11:AJ110=COUNT(AP11:AP110)+1,AN11:AN110,""))} | AS11: {=IF(AB11:AB110="","",IF(AR11:AR110="","0",RANK(AR11:AR110,AR11:AR110,1)-1))} -> 0 | AT11: {=IF(ISERROR(AH11:AH110)=TRUE,"",IF(AJ11:AJ110=COUNT(AP11:AP110)+COUNT(AR11:AR110)+1,AN11:AN110,""))} | AU11: {=IF(AB11:AB110="","",IF(AT11:AT110="","0",RANK(AT11:AT110,AT11:AT110,1)-1))} -> 0 | AV11: {=BA11:BA110} -> Matvei Kudimov | AW11: =COUNTIF(#REF!,"AA") -> #REF! | AX11: =IF(BB11="","",COUNTIF(BB11:BB11,"-")) -> 0 | AY11: {=IF(BA11:BA110="BYE","",IF(#REF!="W","",IF(#REF!="N",IF(AZ11:AZ110<=COUNT(AA11:AA110),AZ11:AZ110-AW11:AW110,""),IF(AZ11:AZ110<=COUNT(AA11:AA110),AZ11:AZ110-AW11:AW110,AZ11:AZ110-AW11:AW110+AX11:AX110-1))))} -> #REF! | AZ11: {=IF(AB11:AB110="","",IF(AZ10:AZ109+1<=COUNT(AA11:AA110),AZ10:AZ109+1,COUNT(AA11:AA110)+1))} -> 1 | BA11: {=IF(AB11:AB110="","BYE",IF(ISERROR(VLOOKUP(A11:A110,AD11:AE110,2,FALSE))=TRUE,"",VLOOKUP(A11:A110,AD11:AE110,2,FALSE)))} -> Matvei Kudimov | BB11: {=IF(C11:C110="BYE", "",IF(A11:A110="","",IF(ISERROR(VLOOKUP(A11:A110,AD11:AF110,3,FALSE))=TRUE,"",VLOOKUP(A11:A110,AD11:AF110,3,FALSE))))} -> 19.556
A12: 2 | AB12: =IF(AND(ISBLANK(E12),ISBLANK(K12),ISBLANK(Q12),ISBLANK(W12)),"",IF(AND(G12="-",M12="-",S12="-",Y12="-"),"-",IF(AND(G12="-",ISBLANK(K12),ISBLANK(Q12),ISBLANK(W12)),"-",IF(AND(G12="-",M12="-",ISBLANK(Q12),ISBLANK(W12)),"-",IF(AND(G12="-",M12="-",S12="-",ISBLANK(W12)),"-",MIN(G12,M12,S12,Y12)))))) | AG12: =IF(AB12="","",COUNTIF(AB11:AB12,"-")) | AO12: =IF(AB12="","",IF(AN12="0","0",COUNTIF(AN11:AN11,AN12))) | AV12: BYE | AW12: =COUNTIF(#REF!,"AA") -> #REF! | AX12: =IF(BB12="","",COUNTIF(BB11:BB12,"-")) | BA12: BYE
A13: 3 | AB13: =IF(AND(ISBLANK(E13),ISBLANK(K13),ISBLANK(Q13),ISBLANK(W13)),"",IF(AND(G13="-",M13="-",S13="-",Y13="-"),"-",IF(AND(G13="-",ISBLANK(K13),ISBLANK(Q13),ISBLANK(W13)),"-",IF(AND(G13="-",M13="-",ISBLANK(Q13),ISBLANK(W13)),"-",IF(AND(G13="-",M13="-",S13="-",ISBLANK(W13)),"-",MIN(G13,M13,S13,Y13)))))) | AG13: =IF(AB13="","",COUNTIF(AB11:AB13,"-")) | AO13: =IF(AB13="","",IF(AN13="0","0",COUNTIF(AN11:AN12,AN13))) | AV13: BYE | AW13: =COUNTIF(#REF!,"AA") -> #REF! | AX13: =IF(BB13="","",COUNTIF(BB11:BB13,"-")) | BA13: BYE
A14: 4 | AB14: =IF(AND(ISBLANK(E14),ISBLANK(K14),ISBLANK(Q14),ISBLANK(W14)),"",IF(AND(G14="-",M14="-",S14="-",Y14="-"),"-",IF(AND(G14="-",ISBLANK(K14),ISBLANK(Q14),ISBLANK(W14)),"-",IF(AND(G14="-",M14="-",ISBLANK(Q14),ISBLANK(W14)),"-",IF(AND(G14="-",M14="-",S14="-",ISBLANK(W14)),"-",MIN(G14,M14,S14,Y14)))))) | AG14: =IF(AB14="","",COUNTIF(AB11:AB14,"-")) | AO14: =IF(AB14="","",IF(AN14="0","0",COUNTIF(AN11:AN13,AN14))) | AV14: BYE | AW14: =COUNTIF(#REF!,"AA") -> #REF! | AX14: =IF(BB14="","",COUNTIF(BB11:BB14,"-")) | BA14: BYE
A15: 5 | AB15: =IF(AND(ISBLANK(E15),ISBLANK(K15),ISBLANK(Q15),ISBLANK(W15)),"",IF(AND(G15="-",M15="-",S15="-",Y15="-"),"-",IF(AND(G15="-",ISBLANK(K15),ISBLANK(Q15),ISBLANK(W15)),"-",IF(AND(G15="-",M15="-",ISBLANK(Q15),ISBLANK(W15)),"-",IF(AND(G15="-",M15="-",S15="-",ISBLANK(W15)),"-",MIN(G15,M15,S15,Y15)))))) | AG15: =IF(AB15="","",COUNTIF(AB11:AB15,"-")) | AO15: =IF(AB15="","",IF(AN15="0","0",COUNTIF(AN11:AN14,AN15))) | AV15: BYE | AW15: =COUNTIF(#REF!,"AA") -> #REF! | AX15: =IF(BB15="","",COUNTIF(BB11:BB15,"-")) | BA15: BYE
A16: 6 | AB16: =IF(AND(ISBLANK(E16),ISBLANK(K16),ISBLANK(Q16),ISBLANK(W16)),"",IF(AND(G16="-",M16="-",S16="-",Y16="-"),"-",IF(AND(G16="-",ISBLANK(K16),ISBLANK(Q16),ISBLANK(W16)),"-",IF(AND(G16="-",M16="-",ISBLANK(Q16),ISBLANK(W16)),"-",IF(AND(G16="-",M16="-",S16="-",ISBLANK(W16)),"-",MIN(G16,M16,S16,Y16)))))) | AG16: =IF(AB16="","",COUNTIF(AB11:AB16,"-")) | AO16: =IF(AB16="","",IF(AN16="0","0",COUNTIF(AN11:AN15,AN16))) | AV16: BYE | AW16: =COUNTIF(#REF!,"AA") -> #REF! | AX16: =IF(BB16="","",COUNTIF(BB11:BB16,"-")) | BA16: BYE
A17: 7 | AB17: =IF(AND(ISBLANK(E17),ISBLANK(K17),ISBLANK(Q17),ISBLANK(W17)),"",IF(AND(G17="-",M17="-",S17="-",Y17="-"),"-",IF(AND(G17="-",ISBLANK(K17),ISBLANK(Q17),ISBLANK(W17)),"-",IF(AND(G17="-",M17="-",ISBLANK(Q17),ISBLANK(W17)),"-",IF(AND(G17="-",M17="-",S17="-",ISBLANK(W17)),"-",MIN(G17,M17,S17,Y17)))))) | AG17: =IF(AB17="","",COUNTIF(AB11:AB17,"-")) | AO17: =IF(AB17="","",IF(AB17="","",IF(AN17="0","0",COUNTIF(AN11:AN16,AN17)))) | AV17: BYE | AW17: =COUNTIF(#REF!,"AA") -> #REF! | AX17: =IF(BB17="","",COUNTIF(BB11:BB17,"-")) | BA17: BYE
A18: 8 | AB18: =IF(AND(ISBLANK(E18),ISBLANK(K18),ISBLANK(Q18),ISBLANK(W18)),"",IF(AND(G18="-",M18="-",S18="-",Y18="-"),"-",IF(AND(G18="-",ISBLANK(K18),ISBLANK(Q18),ISBLANK(W18)),"-",IF(AND(G18="-",M18="-",ISBLANK(Q18),ISBLANK(W18)),"-",IF(AND(G18="-",M18="-",S18="-",ISBLANK(W18)),"-",MIN(G18,M18,S18,Y18)))))) | AG18: =IF(AB18="","",COUNTIF(AB11:AB18,"-")) | AO18: =IF(AB18="","",IF(AB18="","",IF(AN18="0","0",COUNTIF(AN11:AN17,AN18)))) | AV18: BYE | AW18: =COUNTIF(#REF!,"AA") -> #REF! | AX18: =IF(BB18="","",COUNTIF(BB11:BB18,"-")) | BA18: BYE
A19: 9 | AB19: =IF(AND(ISBLANK(E19),ISBLANK(K19),ISBLANK(Q19),ISBLANK(W19)),"",IF(AND(G19="-",M19="-",S19="-",Y19="-"),"-",IF(AND(G19="-",ISBLANK(K19),ISBLANK(Q19),ISBLANK(W19)),"-",IF(AND(G19="-",M19="-",ISBLANK(Q19),ISBLANK(W19)),"-",IF(AND(G19="-",M19="-",S19="-",ISBLANK(W19)),"-",MIN(G19,M19,S19,Y19)))))) | AG19: =IF(AB19="","",COUNTIF(AB11:AB19,"-")) | AO19: =IF(AB19="","",IF(AB19="","",IF(AN19="0","0",COUNTIF(AN11:AN18,AN19)))) | AV19: BYE | AW19: =COUNTIF(#REF!,"AA") -> #REF! | AX19: =IF(BB19="","",COUNTIF(BB11:BB19,"-")) | BA19: BYE
A20: 10 | AB20: =IF(AND(ISBLANK(E20),ISBLANK(K20),ISBLANK(Q20),ISBLANK(W20)),"",IF(AND(G20="-",M20="-",S20="-",Y20="-"),"-",IF(AND(G20="-",ISBLANK(K20),ISBLANK(Q20),ISBLANK(W20)),"-",IF(AND(G20="-",M20="-",ISBLANK(Q20),ISBLANK(W20)),"-",IF(AND(G20="-",M20="-",S20="-",ISBLANK(W20)),"-",MIN(G20,M20,S20,Y20)))))) | AG20: =IF(AB20="","",COUNTIF(AB11:AB20,"-")) | AO20: =IF(AB20="","",IF(AN20="0","0",COUNTIF(AN11:AN19,AN20))) | AV20: BYE | AW20: =COUNTIF(#REF!,"AA") -> #REF! | AX20: =IF(BB20="","",COUNTIF(BB11:BB20,"-")) | BA20: BYE
A21: 11 | AB21: =IF(AND(ISBLANK(E21),ISBLANK(K21),ISBLANK(Q21),ISBLANK(W21)),"",IF(AND(G21="-",M21="-",S21="-",Y21="-"),"-",IF(AND(G21="-",ISBLANK(K21),ISBLANK(Q21),ISBLANK(W21)),"-",IF(AND(G21="-",M21="-",ISBLANK(Q21),ISBLANK(W21)),"-",IF(AND(G21="-",M21="-",S21="-",ISBLANK(W21)),"-",MIN(G21,M21,S21,Y21)))))) | AG21: =IF(AB21="","",COUNTIF(AB11:AB21,"-")) | AO21: =IF(AB21="","",IF(AN21="0","0",COUNTIF(AN1:AN20,AN21))) | AV21: BYE | AW21: =COUNTIF(#REF!,"AA") -> #REF! | AX21: =IF(BB21="","",COUNTIF(BB11:BB21,"-")) | BA21: BYE
A22: 12 | AB22: =IF(AND(ISBLANK(E22),ISBLANK(K22),ISBLANK(Q22),ISBLANK(W22)),"",IF(AND(G22="-",M22="-",S22="-",Y22="-"),"-",IF(AND(G22="-",ISBLANK(K22),ISBLANK(Q22),ISBLANK(W22)),"-",IF(AND(G22="-",M22="-",ISBLANK(Q22),ISBLANK(W22)),"-",IF(AND(G22="-",M22="-",S22="-",ISBLANK(W22)),"-",MIN(G22,M22,S22,Y22)))))) | AG22: =IF(AB22="","",COUNTIF(AB11:AB22,"-")) | AO22: =IF(AB22="","",IF(AN22="0","0",COUNTIF(AN11:AN21,AN22))) | AV22: BYE | AW22: =COUNTIF(#REF!,"AA") -> #REF! | AX22: =IF(BB22="","",COUNTIF(BB11:BB22,"-")) | BA22: BYE
A23: 13 | AB23: =IF(AND(ISBLANK(E23),ISBLANK(K23),ISBLANK(Q23),ISBLANK(W23)),"",IF(AND(G23="-",M23="-",S23="-",Y23="-"),"-",IF(AND(G23="-",ISBLANK(K23),ISBLANK(Q23),ISBLANK(W23)),"-",IF(AND(G23="-",M23="-",ISBLANK(Q23),ISBLANK(W23)),"-",IF(AND(G23="-",M23="-",S23="-",ISBLANK(W23)),"-",MIN(G23,M23,S23,Y23)))))) | AG23: =IF(AB23="","",COUNTIF(AB11:AB23,"-")) | AO23: =IF(AB23="","",IF(AN23="0","0",COUNTIF(AN11:AN22,AN23))) | AV23: BYE | AW23: =COUNTIF(#REF!,"AA") -> #REF! | AX23: =IF(BB23="","",COUNTIF(BB11:BB23,"-")) | BA23: BYE
A24: 14 | AB24: =IF(AND(ISBLANK(E24),ISBLANK(K24),ISBLANK(Q24),ISBLANK(W24)),"",IF(AND(G24="-",M24="-",S24="-",Y24="-"),"-",IF(AND(G24="-",ISBLANK(K24),ISBLANK(Q24),ISBLANK(W24)),"-",IF(AND(G24="-",M24="-",ISBLANK(Q24),ISBLANK(W24)),"-",IF(AND(G24="-",M24="-",S24="-",ISBLANK(W24)),"-",MIN(G24,M24,S24,Y24)))))) | AG24: =IF(AB24="","",COUNTIF(AB11:AB24,"-")) | AO24: =IF(AB24="","",IF(AN24="0","0",COUNTIF(AN11:AN23,AN24))) | AV24: BYE | AW24: =COUNTIF(#REF!,"AA") -> #REF! | AX24: =IF(BB24="","",COUNTIF(BB11:BB24,"-")) | BA24: BYE
A25: 15 | AB25: =IF(AND(ISBLANK(E25),ISBLANK(K25),ISBLANK(Q25),ISBLANK(W25)),"",IF(AND(G25="-",M25="-",S25="-",Y25="-"),"-",IF(AND(G25="-",ISBLANK(K25),ISBLANK(Q25),ISBLANK(W25)),"-",IF(AND(G25="-",M25="-",ISBLANK(Q25),ISBLANK(W25)),"-",IF(AND(G25="-",M25="-",S25="-",ISBLANK(W25)),"-",MIN(G25,M25,S25,Y25)))))) | AG25: =IF(AB25="","",COUNTIF(AB11:AB25,"-")) | AO25: =IF(AB25="","",IF(AN25="0","0",COUNTIF(AN11:AN24,AN25))) | AV25: BYE | AW25: =COUNTIF(#REF!,"AA") -> #REF! | AX25: =IF(BB25="","",COUNTIF(BB11:BB25,"-")) | BA25: BYE
A26: 16 | AB26: =IF(AND(ISBLANK(E26),ISBLANK(K26),ISBLANK(Q26),ISBLANK(W26)),"",IF(AND(G26="-",M26="-",S26="-",Y26="-"),"-",IF(AND(G26="-",ISBLANK(K26),ISBLANK(Q26),ISBLANK(W26)),"-",IF(AND(G26="-",M26="-",ISBLANK(Q26),ISBLANK(W26)),"-",IF(AND(G26="-",M26="-",S26="-",ISBLANK(W26)),"-",MIN(G26,M26,S26,Y26)))))) | AG26: =IF(AB26="","",COUNTIF(AB11:AB26,"-")) | AO26: =IF(AB26="","",IF(AN26="0","0",COUNTIF(AN11:AN25,AN26))) | AV26: BYE | AW26: =COUNTIF(#REF!,"AA") -> #REF! | AX26: =IF(BB26="","",COUNTIF(BB11:BB26,"-")) | BA26: BYE
A27: 17 | AB27: =IF(AND(ISBLANK(E27),ISBLANK(K27),ISBLANK(Q27),ISBLANK(W27)),"",IF(AND(G27="-",M27="-",S27="-",Y27="-"),"-",IF(AND(G27="-",ISBLANK(K27),ISBLANK(Q27),ISBLANK(W27)),"-",IF(AND(G27="-",M27="-",ISBLANK(Q27),ISBLANK(W27)),"-",IF(AND(G27="-",M27="-",S27="-",ISBLANK(W27)),"-",MIN(G27,M27,S27,Y27)))))) | AG27: =IF(AB27="","",COUNTIF(AB11:AB27,"-")) | AO27: =IF(AB27="","",IF(AN27="0","0",COUNTIF(AN11:AN26,AN27))) | AV27: BYE | AW27: =COUNTIF(#REF!,"AA") -> #REF! | AX27: =IF(BB27="","",COUNTIF(BB11:BB27,"-")) | BA27: BYE
A28: 18 | AB28: =IF(AND(ISBLANK(E28),ISBLANK(K28),ISBLANK(Q28),ISBLANK(W28)),"",IF(AND(G28="-",M28="-",S28="-",Y28="-"),"-",IF(AND(G28="-",ISBLANK(K28),ISBLANK(Q28),ISBLANK(W28)),"-",IF(AND(G28="-",M28="-",ISBLANK(Q28),ISBLANK(W28)),"-",IF(AND(G28="-",M28="-",S28="-",ISBLANK(W28)),"-",MIN(G28,M28,S28,Y28)))))) | AG28: =IF(AB28="","",COUNTIF(AB11:AB28,"-")) | AO28: =IF(AB28="","",IF(AN28="0","0",COUNTIF(AN11:AN27,AN28))) | AV28: BYE | AW28: =COUNTIF(#REF!,"AA") -> #REF! | AX28: =IF(BB28="","",COUNTIF(BB11:BB28,"-")) | BA28: BYE
A29: 19 | AB29: =IF(AND(ISBLANK(E29),ISBLANK(K29),ISBLANK(Q29),ISBLANK(W29)),"",IF(AND(G29="-",M29="-",S29="-",Y29="-"),"-",IF(AND(G29="-",ISBLANK(K29),ISBLANK(Q29),ISBLANK(W29)),"-",IF(AND(G29="-",M29="-",ISBLANK(Q29),ISBLANK(W29)),"-",IF(AND(G29="-",M29="-",S29="-",ISBLANK(W29)),"-",MIN(G29,M29,S29,Y29)))))) | AG29: =IF(AB29="","",COUNTIF(AB11:AB29,"-")) | AO29: =IF(AB29="","",IF(AN29="0","0",COUNTIF(AN11:AN28,AN29))) | AV29: BYE | AW29: =COUNTIF(#REF!,"AA") -> #REF! | AX29: =IF(BB29="","",COUNTIF(BB11:BB29,"-")) | BA29: BYE
A30: 20 | AB30: =IF(AND(ISBLANK(E30),ISBLANK(K30),ISBLANK(Q30),ISBLANK(W30)),"",IF(AND(G30="-",M30="-",S30="-",Y30="-"),"-",IF(AND(G30="-",ISBLANK(K30),ISBLANK(Q30),ISBLANK(W30)),"-",IF(AND(G30="-",M30="-",ISBLANK(Q30),ISBLANK(W30)),"-",IF(AND(G30="-",M30="-",S30="-",ISBLANK(W30)),"-",MIN(G30,M30,S30,Y30)))))) | AG30: =IF(AB30="","",COUNTIF(AB11:AB30,"-")) | AO30: =IF(AB30="","",IF(AN30="0","0",COUNTIF(AN11:AN29,AN30))) | AV30: BYE | AW30: =COUNTIF(#REF!,"AA") -> #REF! | AX30: =IF(BB30="","",COUNTIF(BB11:BB30,"-")) | BA30: BYE
A31: 21 | AB31: =IF(AND(ISBLANK(E31),ISBLANK(K31),ISBLANK(Q31),ISBLANK(W31)),"",IF(AND(G31="-",M31="-",S31="-",Y31="-"),"-",IF(AND(G31="-",ISBLANK(K31),ISBLANK(Q31),ISBLANK(W31)),"-",IF(AND(G31="-",M31="-",ISBLANK(Q31),ISBLANK(W31)),"-",IF(AND(G31="-",M31="-",S31="-",ISBLANK(W31)),"-",MIN(G31,M31,S31,Y31)))))) | AG31: =IF(AB31="","",COUNTIF(AB11:AB31,"-")) | AO31: =IF(AB31="","",IF(AN31="0","0",COUNTIF(AN11:AN30,AN31))) | AV31: BYE | AW31: =COUNTIF(#REF!,"AA") -> #REF! | AX31: =IF(BB31="","",COUNTIF(BB11:BB31,"-")) | BA31: BYE
A32: 22 | AB32: =IF(AND(ISBLANK(E32),ISBLANK(K32),ISBLANK(Q32),ISBLANK(W32)),"",IF(AND(G32="-",M32="-",S32="-",Y32="-"),"-",IF(AND(G32="-",ISBLANK(K32),ISBLANK(Q32),ISBLANK(W32)),"-",IF(AND(G32="-",M32="-",ISBLANK(Q32),ISBLANK(W32)),"-",IF(AND(G32="-",M32="-",S32="-",ISBLANK(W32)),"-",MIN(G32,M32,S32,Y32)))))) | AG32: =IF(AB32="","",COUNTIF(AB11:AB32,"-")) | AO32: =IF(AB32="","",IF(AN32="0","0",COUNTIF(AN11:AN31,AN32))) | AV32: BYE | AW32: =COUNTIF(#REF!,"AA") -> #REF! | AX32: =IF(BB32="","",COUNTIF(BB11:BB32,"-")) | BA32: BYE
A33: 23 | AB33: =IF(AND(ISBLANK(E33),ISBLANK(K33),ISBLANK(Q33),ISBLANK(W33)),"",IF(AND(G33="-",M33="-",S33="-",Y33="-"),"-",IF(AND(G33="-",ISBLANK(K33),ISBLANK(Q33),ISBLANK(W33)),"-",IF(AND(G33="-",M33="-",ISBLANK(Q33),ISBLANK(W33)),"-",IF(AND(G33="-",M33="-",S33="-",ISBLANK(W33)),"-",MIN(G33,M33,S33,Y33)))))) | AG33: =IF(AB33="","",COUNTIF(AB11:AB33,"-")) | AO33: =IF(AB33="","",IF(AN33="0","0",COUNTIF(AN11:AN32,AN33))) | AV33: BYE | AW33: =COUNTIF(#REF!,"AA") -> #REF! | AX33: =IF(BB33="","",COUNTIF(BB11:BB33,"-")) | BA33: BYE
A34: 24 | AB34: =IF(AND(ISBLANK(E34),ISBLANK(K34),ISBLANK(Q34),ISBLANK(W34)),"",IF(AND(G34="-",M34="-",S34="-",Y34="-"),"-",IF(AND(G34="-",ISBLANK(K34),ISBLANK(Q34),ISBLANK(W34)),"-",IF(AND(G34="-",M34="-",ISBLANK(Q34),ISBLANK(W34)),"-",IF(AND(G34="-",M34="-",S34="-",ISBLANK(W34)),"-",MIN(G34,M34,S34,Y34)))))) | AG34: =IF(AB34="","",COUNTIF(AB11:AB34,"-")) | AO34: =IF(AB34="","",IF(AN34="0","0",COUNTIF(AN11:AN33,AN34))) | AV34: BYE | AW34: =COUNTIF(#REF!,"AA") -> #REF! | AX34: =IF(BB34="","",COUNTIF(BB11:BB34,"-")) | BA34: BYE
A35: 25 | AB35: =IF(AND(ISBLANK(E35),ISBLANK(K35),ISBLANK(Q35),ISBLANK(W35)),"",IF(AND(G35="-",M35="-",S35="-",Y35="-"),"-",IF(AND(G35="-",ISBLANK(K35),ISBLANK(Q35),ISBLANK(W35)),"-",IF(AND(G35="-",M35="-",ISBLANK(Q35),ISBLANK(W35)),"-",IF(AND(G35="-",M35="-",S35="-",ISBLANK(W35)),"-",MIN(G35,M35,S35,Y35)))))) | AG35: =IF(AB35="","",COUNTIF(AB11:AB35,"-")) | AO35: =IF(AB35="","",IF(AN35="0","0",COUNTIF(AN11:AN34,AN35))) | AV35: BYE | AW35: =COUNTIF(#REF!,"AA") -> #REF! | AX35: =IF(BB35="","",COUNTIF(BB11:BB35,"-")) | BA35: BYE
A36: 26 | AB36: =IF(AND(ISBLANK(E36),ISBLANK(K36),ISBLANK(Q36),ISBLANK(W36)),"",IF(AND(G36="-",M36="-",S36="-",Y36="-"),"-",IF(AND(G36="-",ISBLANK(K36),ISBLANK(Q36),ISBLANK(W36)),"-",IF(AND(G36="-",M36="-",ISBLANK(Q36),ISBLANK(W36)),"-",IF(AND(G36="-",M36="-",S36="-",ISBLANK(W36)),"-",MIN(G36,M36,S36,Y36)))))) | AG36: =IF(AB36="","",COUNTIF(AB11:AB36,"-")) | AO36: =IF(AB36="","",IF(AN36="0","0",COUNTIF(AN11:AN35,AN36))) | AV36: BYE | AW36: =COUNTIF(#REF!,"AA") -> #REF! | AX36: =IF(BB36="","",COUNTIF(BB11:BB36,"-")) | BA36: BYE
A37: 27 | AB37: =IF(AND(ISBLANK(E37),ISBLANK(K37),ISBLANK(Q37),ISBLANK(W37)),"",IF(AND(G37="-",M37="-",S37="-",Y37="-"),"-",IF(AND(G37="-",ISBLANK(K37),ISBLANK(Q37),ISBLANK(W37)),"-",IF(AND(G37="-",M37="-",ISBLANK(Q37),ISBLANK(W37)),"-",IF(AND(G37="-",M37="-",S37="-",ISBLANK(W37)),"-",MIN(G37,M37,S37,Y37)))))) | AG37: =IF(AB37="","",COUNTIF(AB11:AB37,"-")) | AO37: =IF(AB37="","",IF(AN37="0","0",COUNTIF(AN11:AN36,AN37))) | AV37: BYE | AW37: =COUNTIF(#REF!,"AA") -> #REF! | AX37: =IF(BB37="","",COUNTIF(BB11:BB37,"-")) | BA37: BYE
A38: 28 | AB38: =IF(AND(ISBLANK(E38),ISBLANK(K38),ISBLANK(Q38),ISBLANK(W38)),"",IF(AND(G38="-",M38="-",S38="-",Y38="-"),"-",IF(AND(G38="-",ISBLANK(K38),ISBLANK(Q38),ISBLANK(W38)),"-",IF(AND(G38="-",M38="-",ISBLANK(Q38),ISBLANK(W38)),"-",IF(AND(G38="-",M38="-",S38="-",ISBLANK(W38)),"-",MIN(G38,M38,S38,Y38)))))) | AG38: =IF(AB38="","",COUNTIF(AB11:AB38,"-")) | AO38: =IF(AB38="","",IF(AN38="0","0",COUNTIF(AN11:AN37,AN38))) | AV38: BYE | AW38: =COUNTIF(#REF!,"AA") -> #REF! | AX38: =IF(BB38="","",COUNTIF(BB11:BB38,"-")) | BA38: BYE
A39: 29 | AB39: =IF(AND(ISBLANK(E39),ISBLANK(K39),ISBLANK(Q39),ISBLANK(W39)),"",IF(AND(G39="-",M39="-",S39="-",Y39="-"),"-",IF(AND(G39="-",ISBLANK(K39),ISBLANK(Q39),ISBLANK(W39)),"-",IF(AND(G39="-",M39="-",ISBLANK(Q39),ISBLANK(W39)),"-",IF(AND(G39="-",M39="-",S39="-",ISBLANK(W39)),"-",MIN(G39,M39,S39,Y39)))))) | AG39: =IF(AB39="","",COUNTIF(AB11:AB39,"-")) | AO39: =IF(AB39="","",IF(AN39="0","0",COUNTIF(AN11:AN38,AN39))) | AV39: BYE | AW39: =COUNTIF(#REF!,"AA") -> #REF! | AX39: =IF(BB39="","",COUNTIF(BB11:BB39,"-")) | BA39: BYE
A40: 30 | AB40: =IF(AND(ISBLANK(E40),ISBLANK(K40),ISBLANK(Q40),ISBLANK(W40)),"",IF(AND(G40="-",M40="-",S40="-",Y40="-"),"-",IF(AND(G40="-",ISBLANK(K40),ISBLANK(Q40),ISBLANK(W40)),"-",IF(AND(G40="-",M40="-",ISBLANK(Q40),ISBLANK(W40)),"-",IF(AND(G40="-",M40="-",S40="-",ISBLANK(W40)),"-",MIN(G40,M40,S40,Y40)))))) | AG40: =IF(AB40="","",COUNTIF(AB11:AB40,"-")) | AO40: =IF(AB40="","",IF(AN40="0","0",COUNTIF(AN11:AN39,AN40))) | AV40: BYE | AW40: =COUNTIF(#REF!,"AA") -> #REF! | AX40: =IF(BB40="","",COUNTIF(BB11:BB40,"-")) | BA40: BYE
A41: 31 | AB41: =IF(AND(ISBLANK(E41),ISBLANK(K41),ISBLANK(Q41),ISBLANK(W41)),"",IF(AND(G41="-",M41="-",S41="-",Y41="-"),"-",IF(AND(G41="-",ISBLANK(K41),ISBLANK(Q41),ISBLANK(W41)),"-",IF(AND(G41="-",M41="-",ISBLANK(Q41),ISBLANK(W41)),"-",IF(AND(G41="-",M41="-",S41="-",ISBLANK(W41)),"-",MIN(G41,M41,S41,Y41)))))) | AG41: =IF(AB41="","",COUNTIF(AB11:AB41,"-")) | AO41: =IF(AB41="","",IF(AN41="0","0",COUNTIF(AN11:AN40,AN41))) | AV41: BYE | AW41: =COUNTIF(#REF!,"AA") -> #REF! | AX41: =IF(BB41="","",COUNTIF(BB11:BB41,"-")) | BA41: BYE
A42: 32 | AB42: =IF(AND(ISBLANK(E42),ISBLANK(K42),ISBLANK(Q42),ISBLANK(W42)),"",IF(AND(G42="-",M42="-",S42="-",Y42="-"),"-",IF(AND(G42="-",ISBLANK(K42),ISBLANK(Q42),ISBLANK(W42)),"-",IF(AND(G42="-",M42="-",ISBLANK(Q42),ISBLANK(W42)),"-",IF(AND(G42="-",M42="-",S42="-",ISBLANK(W42)),"-",MIN(G42,M42,S42,Y42)))))) | AG42: =IF(AB42="","",COUNTIF(AB11:AB42,"-")) | AO42: =IF(AB42="","",IF(AN42="0","0",COUNTIF(AN11:AN41,AN42))) | AV42: BYE | AW42: =COUNTIF(#REF!,"AA") -> #REF! | AX42: =IF(BB42="","",COUNTIF(BB11:BB42,"-")) | BA42: BYE
A43: 33 | AB43: =IF(AND(ISBLANK(E43),ISBLANK(K43),ISBLANK(Q43),ISBLANK(W43)),"",IF(AND(G43="-",M43="-",S43="-",Y43="-"),"-",IF(AND(G43="-",ISBLANK(K43),ISBLANK(Q43),ISBLANK(W43)),"-",IF(AND(G43="-",M43="-",ISBLANK(Q43),ISBLANK(W43)),"-",IF(AND(G43="-",M43="-",S43="-",ISBLANK(W43)),"-",MIN(G43,M43,S43,Y43)))))) | AG43: =IF(AB43="","",COUNTIF(AB11:AB43,"-")) | AO43: =IF(AB43="","",IF(AN43="0","0",COUNTIF(AN11:AN42,AN43))) | AV43: BYE | AW43: =COUNTIF(#REF!,"AA") -> #REF! | AX43: =IF(BB43="","",COUNTIF(BB11:BB43,"-")) | BA43: BYE
...

Sheet Teens
D1: =INFO!C1 -> Slalom Petersburg battle | AZ1: Database development by
D2: =INFO!C9 -> September, 7 • Murinskiy park | AZ2: Dan Gesmer, SeismicSK8@aol.com
D3: =INFO!C3&" / Teens" -> Giant slalom / Teens
A6: 0.1 | B6: secs penalty per hit cone | D6: Under "Raw Time," enter "DQ" or"DNF" for
A7: 20 | B7: maximum hit cones before DQ | D7: "Disqualified" and "DNR" for "Did Not Race."
B9: Bib Number | C9: Racer Name | D9: Run 1 | J9: Run 2 | P9: Run 3 | V9: Run 4 | AA9: Qual Rank (w/out DQs) | AB9: Best Time | AC9: Final Position | AD9: Qual Rank (w/DQs sequenced) | AE9: Racer No. & Name | AF9: Best Time | AG9: Double DQ Place Factor | AH9: No. of Ties per Best Time | AI9: Tied-at Time | AJ9: Tied-at Time Rank | AK9: Run 1 Time w/DQ Adjust | AL9: Run 2 Time w/DQ Adjust | AM9: Total Time w/DQ Adjust | AN9: Total Time Rank | AO9: Total Tie Place Factor | AP9: Tie 1 Total Time Rank | AQ9: Tie 1 Place Factor | AR9: Tie 2 Total Time Rank | AS9: Tie 2 Place Factor | AT9: Tie 3 Total Time Rank | AU9: Tie 3 Place Factor | AV9: Placed Racer No. & Name | AW9: Withdrawal Place Factor | AX9: Double DQ Place Factor 2 | AY9: Final Spot - Withdrawals | AZ9: Final Position | BA9: Racer No. & Name | BB9: Best Time
D10: Reaction Time | E10: Raw Time | F10: Cones | G10: Final Time | H10: Run Rank | J10: Reaction Time | K10: Raw Time | L10: Cones | M10: Final Time | N10: Run Rank | P10: Reaction Time | Q10: Raw Time | R10: Cones | S10: Final Time | T10: Run Rank | V10: Reaction Time | W10: Raw Time | X10: Cones | Y10: Final Time | Z10: Run Rank
A11: 1 | C11: Matvei Sargsian | E11: 16.366 | G11: {=IF(LEFT(E11:E110,1)="D","-",IF(F11:F110>A7,"-",IF(E11:E110>0,E11:E110+F11:F110*A6,"")))} -> 16.366 | H11: {=IF(G11:G110="","",IF(G11:G110="-","",RANK(G11:G110,G11:G110,1)))} -> 1 | K11: 15.365 | M11: {=IF(LEFT(K11:K110,1)="D","-",IF(L11:L110>A7,"-",IF(K11:K110>0,K11:K110+L11:L110*A6,"")))} -> 15.365 | N11: {=IF(M11:M110="","",IF(M11:M110="-","",RANK(M11:M110,M11:M110,1)))} -> 1 | S11: {=IF(LEFT(Q11:Q110,1)="D","-",IF(R11:R110>A7,"-",IF(Q11:Q110>0,Q11:Q110+R11:R110*A6,"")))} | T11: {=IF(S11:S110="","",IF(S11:S110="-","",RANK(S11:S110,S11:S110,1)))} | Y11: {=IF(LEFT(W11:W110,1)="D","-",IF(X11:X110>A7,"-",IF(W11:W110>0,W11:W110+X11:X110*A6,"")))} | Z11: {=IF(Y11:Y110="","",IF(Y11:Y110="-","",RANK(Y11:Y110,Y11:Y110,1)))} | AA11: {=IF(AB11:AB110="","",IF(AB11:AB110="-","",RANK(AB11:AB110,AB11:AB110,1)))} -> 1 | AB11: =IF(AND(ISBLANK(E11),ISBLANK(K11),ISBLANK(Q11),ISBLANK(W11)),"",IF(AND(G11="-",M11="-",S11="-",Y11="-"),"-",IF(AND(G11="-",ISBLANK(K11),ISBLANK(Q11),ISBLANK(W11)),"-",IF(AND(G11="-",M11="-",ISBLANK(Q11),ISBLANK(W11)),"-",IF(AND(G11="-",M11="-",S11="-",ISBLANK(W11)),"-",MIN(G11,M11,S11,Y11)))))) -> 15.365 | AC11: {=IF(AB11:AB110="","",VLOOKUP(AE11:AE110,AV11:AZ110,5,FALSE))} -> 1 | AD11: {=IF(AB11:AB110="","",IF(AB11:AB110="-",COUNT(AA11:AA110)+AG11:AG110,AA11:AA110+AO11:AO110+AQ11:AQ110+AS11:AS110+AU11:AU110))} -> 1 | AE11: {=IF(B11:B110 ="","",B11:B110 & " ")&C11:C110} -> Matvei Sargsian | AF11: {=AB11:AB110} -> 15.365 | AG11: =IF(AB11="","",COUNTIF(AB11:AB11,"-")) -> 0 | AH11: {=IF(AA11:AA110="","",COUNTIF(AA11:AA110,AA11:AA110)-1)} -> 0 | AI11: {=IF(AB11:AB110="-","",IF(AH11:AH110=0,"",AB11:AB110))} | AJ11: {=IF(AI11:AI110="","",RANK(AI11:AI110,AI11:AI110,1))} | AK11: {=IF(AH11:AH110="","",IF(AH11:AH110=0,"",IF(LEFT(G11:G110,1)="-","199",G11:G110)))} | AL11: {=IF(AH11:AH110="","",IF(AH11:AH110=0,"",IF(LEFT(M11:M110,1)="-","199",M11:M110)))} | AM11: {=IF(ISERROR(AK11:AK110+AL11:AL110)=TRUE,AK11:AK110,AK11:AK110+AL11:AL110)} | AN11: {=IF(AB11:AB110="","",IF(AH11:AH110=0,"0",IF(ISERROR(RANK(AM11:AM110,AM11:AM110,1))=TRUE,"0",RANK(AM11:AM110,AM11:AM110,1))))} -> 0 | AO11: 0 | AP11: {=IF(ISERROR(AH11:AH110)=TRUE,"",IF(AJ11:AJ110=1,AN11:AN110,""))} | AQ11: {=IF(AB11:AB110="","",IF(AP11:AP110="","0",RANK(AP11:AP110,AP11:AP110,1)-1))} -> 0 | AR11: {=IF(ISERROR(AH11:AH110)=TRUE,"",IF(AJ11:AJ110=COUNT(AP11:AP110)+1,AN11:AN110,""))} | AS11: {=IF(AB11:AB110="","",IF(AR11:AR110="","0",RANK(AR11:AR110,AR11:AR110,1)-1))} -> 0 | AT11: {=IF(ISERROR(AH11:AH110)=TRUE,"",IF(AJ11:AJ110=COUNT(AP11:AP110)+COUNT(AR11:AR110)+1,AN11:AN110,""))} | AU11: {=IF(AB11:AB110="","",IF(AT11:AT110="","0",RANK(AT11:AT110,AT11:AT110,1)-1))} -> 0 | AV11: {=BA11:BA110} -> Matvei Sargsian | AW11: =COUNTIF(#REF!,"AA") -> #REF! | AX11: =IF(BB11="","",COUNTIF(BB11:BB11,"-")) -> 0 | AY11: {=IF(BA11:BA110="BYE","",IF(#REF!="W","",IF(#REF!="N",IF(AZ11:AZ110<=COUNT(AA11:AA110),AZ11:AZ110-AW11:AW110,""),IF(AZ11:AZ110<=COUNT(AA11:AA110),AZ11:AZ110-AW11:AW110,AZ11:AZ110-AW11:AW110+AX11:AX110-1))))} -> #REF! | AZ11: {=IF(AB11:AB110="","",IF(AZ10:AZ109+1<=COUNT(AA11:AA110),AZ10:AZ109+1,COUNT(AA11:AA110)+1))} -> 1 | BA11: {=IF(AB11:AB110="","BYE",IF(ISERROR(VLOOKUP(A11:A110,AD11:AE110,2,FALSE))=TRUE,"",VLOOKUP(A11:A110,AD11:AE110,2,FALSE)))} -> Matvei Sargsian | BB11: {=IF(C11:C110="BYE", "",IF(A11:A110="","",IF(ISERROR(VLOOKUP(A11:A110,AD11:AF110,3,FALSE))=TRUE,"",VLOOKUP(A11:A110,AD11:AF110,3,FALSE))))} -> 15.365
A12: 2 | C12: Iliya Krasukov | E12: 16.784 | G12: 16.784 | H12: 2 | K12: 17.264 | M12: 17.264 | N12: 2 | AA12: 2 | AB12: =IF(AND(ISBLANK(E12),ISBLANK(K12),ISBLANK(Q12),ISBLANK(W12)),"",IF(AND(G12="-",M12="-",S12="-",Y12="-"),"-",IF(AND(G12="-",ISBLANK(K12),ISBLANK(Q12),ISBLANK(W12)),"-",IF(AND(G12="-",M12="-",ISBLANK(Q12),ISBLANK(W12)),"-",IF(AND(G12="-",M12="-",S12="-",ISBLANK(W12)),"-",MIN(G12,M12,S12,Y12)))))) -> 16.784 | AC12: 2 | AD12: 2 | AE12: Iliya Krasukov | AF12: 16.784 | AG12: =IF(AB12="","",COUNTIF(AB11:AB12,"-")) -> 0 | AH12: 0 | AN12: 0 | AO12: =IF(AB12="","",IF(AN12="0","0",COUNTIF(AN11:AN11,AN12))) -> 0 | AQ12: 0 | AS12: 0 | AU12: 0 | AV12: Iliya Krasukov | AW12: =COUNTIF(#REF!,"AA") -> #REF! | AX12: =IF(BB12="","",COUNTIF(BB11:BB12,"-")) -> 0 | AY12: #REF! | AZ12: 2 | BA12: Iliya Krasukov | BB12: 16.784
A13: 3 | AB13: =IF(AND(ISBLANK(E13),ISBLANK(K13),ISBLANK(Q13),ISBLANK(W13)),"",IF(AND(G13="-",M13="-",S13="-",Y13="-"),"-",IF(AND(G13="-",ISBLANK(K13),ISBLANK(Q13),ISBLANK(W13)),"-",IF(AND(G13="-",M13="-",ISBLANK(Q13),ISBLANK(W13)),"-",IF(AND(G13="-",M13="-",S13="-",ISBLANK(W13)),"-",MIN(G13,M13,S13,Y13)))))) | AG13: =IF(AB13="","",COUNTIF(AB11:AB13,"-")) | AO13: =IF(AB13="","",IF(AN13="0","0",COUNTIF(AN11:AN12,AN13))) | AV13: BYE | AW13: =COUNTIF(#REF!,"AA") -> #REF! | AX13: =IF(BB13="","",COUNTIF(BB11:BB13,"-")) | BA13: BYE
A14: 4 | AB14: =IF(AND(ISBLANK(E14),ISBLANK(K14),ISBLANK(Q14),ISBLANK(W14)),"",IF(AND(G14="-",M14="-",S14="-",Y14="-"),"-",IF(AND(G14="-",ISBLANK(K14),ISBLANK(Q14),ISBLANK(W14)),"-",IF(AND(G14="-",M14="-",ISBLANK(Q14),ISBLANK(W14)),"-",IF(AND(G14="-",M14="-",S14="-",ISBLANK(W14)),"-",MIN(G14,M14,S14,Y14)))))) | AG14: =IF(AB14="","",COUNTIF(AB11:AB14,"-")) | AO14: =IF(AB14="","",IF(AN14="0","0",COUNTIF(AN11:AN13,AN14))) | AV14: BYE | AW14: =COUNTIF(#REF!,"AA") -> #REF! | AX14: =IF(BB14="","",COUNTIF(BB11:BB14,"-")) | BA14: BYE
A15: 5 | AB15: =IF(AND(ISBLANK(E15),ISBLANK(K15),ISBLANK(Q15),ISBLANK(W15)),"",IF(AND(G15="-",M15="-",S15="-",Y15="-"),"-",IF(AND(G15="-",ISBLANK(K15),ISBLANK(Q15),ISBLANK(W15)),"-",IF(AND(G15="-",M15="-",ISBLANK(Q15),ISBLANK(W15)),"-",IF(AND(G15="-",M15="-",S15="-",ISBLANK(W15)),"-",MIN(G15,M15,S15,Y15)))))) | AG15: =IF(AB15="","",COUNTIF(AB11:AB15,"-")) | AO15: =IF(AB15="","",IF(AN15="0","0",COUNTIF(AN11:AN14,AN15))) | AV15: BYE | AW15: =COUNTIF(#REF!,"AA") -> #REF! | AX15: =IF(BB15="","",COUNTIF(BB11:BB15,"-")) | BA15: BYE
A16: 6 | AB16: =IF(AND(ISBLANK(E16),ISBLANK(K16),ISBLANK(Q16),ISBLANK(W16)),"",IF(AND(G16="-",M16="-",S16="-",Y16="-"),"-",IF(AND(G16="-",ISBLANK(K16),ISBLANK(Q16),ISBLANK(W16)),"-",IF(AND(G16="-",M16="-",ISBLANK(Q16),ISBLANK(W16)),"-",IF(AND(G16="-",M16="-",S16="-",ISBLANK(W16)),"-",MIN(G16,M16,S16,Y16)))))) | AG16: =IF(AB16="","",COUNTIF(AB11:AB16,"-")) | AO16: =IF(AB16="","",IF(AN16="0","0",COUNTIF(AN11:AN15,AN16))) | AV16: BYE | AW16: =COUNTIF(#REF!,"AA") -> #REF! | AX16: =IF(BB16="","",COUNTIF(BB11:BB16,"-")) | BA16: BYE
A17: 7 | AB17: =IF(AND(ISBLANK(E17),ISBLANK(K17),ISBLANK(Q17),ISBLANK(W17)),"",IF(AND(G17="-",M17="-",S17="-",Y17="-"),"-",IF(AND(G17="-",ISBLANK(K17),ISBLANK(Q17),ISBLANK(W17)),"-",IF(AND(G17="-",M17="-",ISBLANK(Q17),ISBLANK(W17)),"-",IF(AND(G17="-",M17="-",S17="-",ISBLANK(W17)),"-",MIN(G17,M17,S17,Y17)))))) | AG17: =IF(AB17="","",COUNTIF(AB11:AB17,"-")) | AO17: =IF(AB17="","",IF(AB17="","",IF(AN17="0","0",COUNTIF(AN11:AN16,AN17)))) | AV17: BYE | AW17: =COUNTIF(#REF!,"AA") -> #REF! | AX17: =IF(BB17="","",COUNTIF(BB11:BB17,"-")) | BA17: BYE
A18: 8 | AB18: =IF(AND(ISBLANK(E18),ISBLANK(K18),ISBLANK(Q18),ISBLANK(W18)),"",IF(AND(G18="-",M18="-",S18="-",Y18="-"),"-",IF(AND(G18="-",ISBLANK(K18),ISBLANK(Q18),ISBLANK(W18)),"-",IF(AND(G18="-",M18="-",ISBLANK(Q18),ISBLANK(W18)),"-",IF(AND(G18="-",M18="-",S18="-",ISBLANK(W18)),"-",MIN(G18,M18,S18,Y18)))))) | AG18: =IF(AB18="","",COUNTIF(AB11:AB18,"-")) | AO18: =IF(AB18="","",IF(AB18="","",IF(AN18="0","0",COUNTIF(AN11:AN17,AN18)))) | AV18: BYE | AW18: =COUNTIF(#REF!,"AA") -> #REF! | AX18: =IF(BB18="","",COUNTIF(BB11:BB18,"-")) | BA18: BYE
A19: 9 | AB19: =IF(AND(ISBLANK(E19),ISBLANK(K19),ISBLANK(Q19),ISBLANK(W19)),"",IF(AND(G19="-",M19="-",S19="-",Y19="-"),"-",IF(AND(G19="-",ISBLANK(K19),ISBLANK(Q19),ISBLANK(W19)),"-",IF(AND(G19="-",M19="-",ISBLANK(Q19),ISBLANK(W19)),"-",IF(AND(G19="-",M19="-",S19="-",ISBLANK(W19)),"-",MIN(G19,M19,S19,Y19)))))) | AG19: =IF(AB19="","",COUNTIF(AB11:AB19,"-")) | AO19: =IF(AB19="","",IF(AB19="","",IF(AN19="0","0",COUNTIF(AN11:AN18,AN19)))) | AV19: BYE | AW19: =COUNTIF(#REF!,"AA") -> #REF! | AX19: =IF(BB19="","",COUNTIF(BB11:BB19,"-")) | BA19: BYE
A20: 10 | AB20: =IF(AND(ISBLANK(E20),ISBLANK(K20),ISBLANK(Q20),ISBLANK(W20)),"",IF(AND(G20="-",M20="-",S20="-",Y20="-"),"-",IF(AND(G20="-",ISBLANK(K20),ISBLANK(Q20),ISBLANK(W20)),"-",IF(AND(G20="-",M20="-",ISBLANK(Q20),ISBLANK(W20)),"-",IF(AND(G20="-",M20="-",S20="-",ISBLANK(W20)),"-",MIN(G20,M20,S20,Y20)))))) | AG20: =IF(AB20="","",COUNTIF(AB11:AB20,"-")) | AO20: =IF(AB20="","",IF(AN20="0","0",COUNTIF(AN11:AN19,AN20))) | AV20: BYE | AW20: =COUNTIF(#REF!,"AA") -> #REF! | AX20: =IF(BB20="","",COUNTIF(BB11:BB20,"-")) | BA20: BYE
A21: 11 | AB21: =IF(AND(ISBLANK(E21),ISBLANK(K21),ISBLANK(Q21),ISBLANK(W21)),"",IF(AND(G21="-",M21="-",S21="-",Y21="-"),"-",IF(AND(G21="-",ISBLANK(K21),ISBLANK(Q21),ISBLANK(W21)),"-",IF(AND(G21="-",M21="-",ISBLANK(Q21),ISBLANK(W21)),"-",IF(AND(G21="-",M21="-",S21="-",ISBLANK(W21)),"-",MIN(G21,M21,S21,Y21)))))) | AG21: =IF(AB21="","",COUNTIF(AB11:AB21,"-")) | AO21: =IF(AB21="","",IF(AN21="0","0",COUNTIF(AN1:AN20,AN21))) | AV21: BYE | AW21: =COUNTIF(#REF!,"AA") -> #REF! | AX21: =IF(BB21="","",COUNTIF(BB11:BB21,"-")) | BA21: BYE
A22: 12 | AB22: =IF(AND(ISBLANK(E22),ISBLANK(K22),ISBLANK(Q22),ISBLANK(W22)),"",IF(AND(G22="-",M22="-",S22="-",Y22="-"),"-",IF(AND(G22="-",ISBLANK(K22),ISBLANK(Q22),ISBLANK(W22)),"-",IF(AND(G22="-",M22="-",ISBLANK(Q22),ISBLANK(W22)),"-",IF(AND(G22="-",M22="-",S22="-",ISBLANK(W22)),"-",MIN(G22,M22,S22,Y22)))))) | AG22: =IF(AB22="","",COUNTIF(AB11:AB22,"-")) | AO22: =IF(AB22="","",IF(AN22="0","0",COUNTIF(AN11:AN21,AN22))) | AV22: BYE | AW22: =COUNTIF(#REF!,"AA") -> #REF! | AX22: =IF(BB22="","",COUNTIF(BB11:BB22,"-")) | BA22: BYE
A23: 13 | AB23: =IF(AND(ISBLANK(E23),ISBLANK(K23),ISBLANK(Q23),ISBLANK(W23)),"",IF(AND(G23="-",M23="-",S23="-",Y23="-"),"-",IF(AND(G23="-",ISBLANK(K23),ISBLANK(Q23),ISBLANK(W23)),"-",IF(AND(G23="-",M23="-",ISBLANK(Q23),ISBLANK(W23)),"-",IF(AND(G23="-",M23="-",S23="-",ISBLANK(W23)),"-",MIN(G23,M23,S23,Y23)))))) | AG23: =IF(AB23="","",COUNTIF(AB11:AB23,"-")) | AO23: =IF(AB23="","",IF(AN23="0","0",COUNTIF(AN11:AN22,AN23))) | AV23: BYE | AW23: =COUNTIF(#REF!,"AA") -> #REF! | AX23: =IF(BB23="","",COUNTIF(BB11:BB23,"-")) | BA23: BYE
A24: 14 | AB24: =IF(AND(ISBLANK(E24),ISBLANK(K24),ISBLANK(Q24),ISBLANK(W24)),"",IF(AND(G24="-",M24="-",S24="-",Y24="-"),"-",IF(AND(G24="-",ISBLANK(K24),ISBLANK(Q24),ISBLANK(W24)),"-",IF(AND(G24="-",M24="-",ISBLANK(Q24),ISBLANK(W24)),"-",IF(AND(G24="-",M24="-",S24="-",ISBLANK(W24)),"-",MIN(G24,M24,S24,Y24)))))) | AG24: =IF(AB24="","",COUNTIF(AB11:AB24,"-")) | AO24: =IF(AB24="","",IF(AN24="0","0",COUNTIF(AN11:AN23,AN24))) | AV24: BYE | AW24: =COUNTIF(#REF!,"AA") -> #REF! | AX24: =IF(BB24="","",COUNTIF(BB11:BB24,"-")) | BA24: BYE
A25: 15 | AB25: =IF(AND(ISBLANK(E25),ISBLANK(K25),ISBLANK(Q25),ISBLANK(W25)),"",IF(AND(G25="-",M25="-",S25="-",Y25="-"),"-",IF(AND(G25="-",ISBLANK(K25),ISBLANK(Q25),ISBLANK(W25)),"-",IF(AND(G25="-",M25="-",ISBLANK(Q25),ISBLANK(W25)),"-",IF(AND(G25="-",M25="-",S25="-",ISBLANK(W25)),"-",MIN(G25,M25,S25,Y25)))))) | AG25: =IF(AB25="","",COUNTIF(AB11:AB25,"-")) | AO25: =IF(AB25="","",IF(AN25="0","0",COUNTIF(AN11:AN24,AN25))) | AV25: BYE | AW25: =COUNTIF(#REF!,"AA") -> #REF! | AX25: =IF(BB25="","",COUNTIF(BB11:BB25,"-")) | BA25: BYE
A26: 16 | AB26: =IF(AND(ISBLANK(E26),ISBLANK(K26),ISBLANK(Q26),ISBLANK(W26)),"",IF(AND(G26="-",M26="-",S26="-",Y26="-"),"-",IF(AND(G26="-",ISBLANK(K26),ISBLANK(Q26),ISBLANK(W26)),"-",IF(AND(G26="-",M26="-",ISBLANK(Q26),ISBLANK(W26)),"-",IF(AND(G26="-",M26="-",S26="-",ISBLANK(W26)),"-",MIN(G26,M26,S26,Y26)))))) | AG26: =IF(AB26="","",COUNTIF(AB11:AB26,"-")) | AO26: =IF(AB26="","",IF(AN26="0","0",COUNTIF(AN11:AN25,AN26))) | AV26: BYE | AW26: =COUNTIF(#REF!,"AA") -> #REF! | AX26: =IF(BB26="","",COUNTIF(BB11:BB26,"-")) | BA26: BYE
A27: 17 | AB27: =IF(AND(ISBLANK(E27),ISBLANK(K27),ISBLANK(Q27),ISBLANK(W27)),"",IF(AND(G27="-",M27="-",S27="-",Y27="-"),"-",IF(AND(G27="-",ISBLANK(K27),ISBLANK(Q27),ISBLANK(W27)),"-",IF(AND(G27="-",M27="-",ISBLANK(Q27),ISBLANK(W27)),"-",IF(AND(G27="-",M27="-",S27="-",ISBLANK(W27)),"-",MIN(G27,M27,S27,Y27)))))) | AG27: =IF(AB27="","",COUNTIF(AB11:AB27,"-")) | AO27: =IF(AB27="","",IF(AN27="0","0",COUNTIF(AN11:AN26,AN27))) | AV27: BYE | AW27: =COUNTIF(#REF!,"AA") -> #REF! | AX27: =IF(BB27="","",COUNTIF(BB11:BB27,"-")) | BA27: BYE
