Workbook

Sheet Masterz
D1: =INFO!C1 -> Slalom Petersburg battle | AZ1: Database development by
D2: =INFO!C9 -> September, 7 • Murinskiy park | AZ2: Dan Gesmer, SeismicSK8@aol.com
D3: =INFO!C3&" / Masters" -> Giant slalom / Masters
A6: 0.1 | B6: secs penalty per hit cone | D6: Under "Raw Time," enter "DQ" or"DNF" for
A7: 20 | B7: maximum hit cones before DQ | D7: "Disqualified" and "DNR" for "Did Not Race."
B9: Bib Number | C9: Racer Name | D9: Run 1 | J9: Run 2 | P9: Run 3 | V9: Run 4 | AA9: Qual Rank (w/out DQs) | AB9: Best Time | AC9: Final Position | AD9: Qual Rank (w/DQs sequenced) | AE9: Racer No. & Name | AF9: Best Time | AG9: Double DQ Place Factor | AH9: No. of Ties per Best Time | AI9: Tied-at Time | AJ9: Tied-at Time Rank | AK9: Run 1 Time w/DQ Adjust | AL9: Run 2 Time w/DQ Adjust | AM9: Total Time w/DQ Adjust | AN9: Total Time Rank | AO9: Total Tie Place Factor | AP9: Tie 1 Total Time Rank | AQ9: Tie 1 Place Factor | AR9: Tie 2 Total Time Rank | AS9: Tie 2 Place Factor | AT9: Tie 3 Total Time Rank | AU9: Tie 3 Place Factor | AV9: Placed Racer No. & Name | AW9: Withdrawal Place Factor | AX9: Double DQ Place Factor 2 | AY9: Final Spot - Withdrawals | AZ9: Final Position | BA9: Racer No. & Name | BB9: Best Time
D10: Reaction Time | E10: Raw Time | F10: Cones | G10: Final Time | H10: Run Rank | J10: Reaction Time | K10: Raw Time | L10: Cones | M10: Final Time | N10: Run Rank | P10: Reaction Time | Q10: Raw Time | R10: Cones | S10: Final Time | T10: Run Rank | V10: Reaction Time | W10: Raw Time | X10: Cones | Y10: Final Time | Z10: Run Rank
A11: 1 | C11: Vlad Popov | D11: 7.913 | E11: 16.504 | F11: 0 | G11: {=IF(LEFT(E11:E110,1)="D","-",IF(F11:F110>A7,"-",IF(E11:E110>0,E11:E110+F11:F110*A6,"")))} -> 16.504 | H11: {=IF(G11:G110="","",IF(G11:G110="-","",RANK(G11:G110,G11:G110,1)))} -> 1 | J11: 2.848 | K11: 16.354 | L11: 0 | M11: {=IF(LEFT(K11:K110,1)="D","-",IF(L11:L110>A7,"-",IF(K11:K110>0,K11:K110+L11:L110*A6,"")))} -> 16.354 | N11: {=IF(M11:M110="","",IF(M11:M110="-","",RANK(M11:M110,M11:M110,1)))} -> 1 | S11: {=IF(LEFT(Q11:Q110,1)="D","-",IF(R11:R110>A7,"-",IF(Q11:Q110>0,Q11:Q110+R11:R110*A6,"")))} | T11: {=IF(S11:S110="","",IF(S11:S110="-","",RANK(S11:S110,S11:S110,1)))} | Y11: {=IF(LEFT(W11:W110,1)="D","-",IF(X11:X110>A7,"-",IF(W11:W110>0,W11:W110+X11:X110*A6,"")))} | Z11: {=IF(Y11:Y110="","",IF(Y11:Y110="-","",RANK(Y11:Y110,Y11:Y110,1)))} | AA11: {=IF(AB11:AB110="","",IF(AB11:AB110="-","",RANK(AB11:AB110,AB11:AB110,1)))} -> 1 | AB11: =IF(AND(ISBLANK(E11),ISBLANK(K11),ISBLANK(Q11),ISBLANK(W11)),"",IF(AND(G11="-",M11="-",S11="-",Y11="-"),"-",IF(AND(G11="-",ISBLANK(K11),ISBLANK(Q11),ISBLANK(W11)),"-",IF(AND(G11="-",M11="-",ISBLANK(Q11),ISBLANK(W11)),"-",IF(AND(G11="-",M11="-",S11="-",ISBLANK(W11)),"-",MIN(G11,M11,S11,Y11)))))) -> 16.354 | AC11: {=IF(AB11:AB110="","",VLOOKUP(AE11:AE110,AV11:AZ110,5,FALSE))} -> 1 | AD11: {=IF(AB11:AB110="","",IF(AB11:AB110="-",COUNT(AA11:AA110)+AG11:AG110,AA11:AA110+AO11:AO110+AQ11:AQ110+AS11:AS110+AU11:AU110))} -> 1 | AE11: {=IF(B11:B110 ="","",B11:B110 & " ")&C11:C110} -> Vlad Popov | AF11: {=AB11:AB110} -> 16.354 | AG11: =IF(AB11="","",COUNTIF(AB11:AB11,"-")) -> 0 | AH11: {=IF(AA11:AA110="","",COUNTIF(AA11:AA110,AA11:AA110)-1)} -> 0 | AI11: {=IF(AB11:AB110="-","",IF(AH11:AH110=0,"",AB11:AB110))} | AJ11: {=IF(AI11:AI110="","",RANK(AI11:AI110,AI11:AI110,1))} | AK11: {=IF(AH11:AH110="","",IF(AH11:AH110=0,"",IF(LEFT(G11:G110,1)="-","199",G11:G110)))} | AL11: {=IF(AH11:AH110="","",IF(AH11:AH110=0,"",IF(LEFT(M11:M110,1)="-","199",M11:M110)))} | AM11: {=IF(ISERROR(AK11:AK110+AL11:AL110)=TRUE,AK11:AK110,AK11:AK110+AL11:AL110)} | AN11: {=IF(AB11:AB110="","",IF(AH11:AH110=0,"0",IF(ISERROR(RANK(AM11:AM110,AM11:AM110,1))=TRUE,"0",RANK(AM11:AM110,AM11:AM110,1))))} -> 0 | AO11: 0 | AP11: {=IF(ISERROR(AH11:AH110)=TRUE,"",IF(AJ11:AJ110=1,AN11:AN110,""))} | AQ11: {=IF(AB11:AB110="","",IF(AP11:AP110="","0",RANK(AP11:AP110,AP11:AP110,1)-1))} -> 0 | AR11: {=IF(ISERROR(AH11:AH110)=TRUE,"",IF(AJ11:AJ110=COUNT(AP11:AP110)+1,AN11:AN110,""))} | AS11: {=IF(AB11:AB110="","",IF(AR11:AR110="","0",RANK(AR11:AR110,AR11:AR110,1)-1))} -> 0 | AT11: {=IF(ISERROR(AH11:AH110)=TRUE,"",IF(AJ11:AJ110=COUNT(AP11:AP110)+COUNT(AR11:AR110)+1,AN11:AN110,""))} | AU11: {=IF(AB11:AB110="","",IF(AT11:AT110="","0",RANK(AT11:AT110,AT11:AT110,1)-1))} -> 0 | AV11: {=BA11:BA110} -> Vlad Popov | AW11: =COUNTIF(#REF!,"AA") -> #REF! | AX11: =IF(BB11="","",COUNTIF(BB11:BB11,"-")) -> 0 | AY11: {=IF(BA11:BA110="BYE","",IF(#REF!="W","",IF(#REF!="N",IF(AZ11:AZ110<=COUNT(AA11:AA110),AZ11:AZ110-AW11:AW110,""),IF(AZ11:AZ110<=COUNT(AA11:AA110),AZ11:AZ110-AW11:AW110,AZ11:AZ110-AW11:AW110+AX11:AX110-1))))} -> #REF! | AZ11: {=IF(AB11:AB110="","",IF(AZ10:AZ109+1<=COUNT(AA11:AA110),AZ10:AZ109+1,COUNT(AA11:AA110)+1))} -> 1 | BA11: {=IF(AB11:AB110="","BYE",IF(ISERROR(VLOOKUP(A11:A110,AD11:AE110,2,FALSE))=TRUE,"",VLOOKUP(A11:A110,AD11:AE110,2,FALSE)))} -> Vlad Popov | BB11: {=IF(C11:C110="BYE", "",IF(A11:A110="","",IF(ISERROR(VLOOKUP(A11:A110,AD11:AF110,3,FALSE))=TRUE,"",VLOOKUP(A11:A110,AD11:AF110,3,FALSE))))} -> 16.354
A12: 2 | C12: Lars Tuxen | D12: 1.404 | E12: 16.827 | F12: 0 | G12: 16.827 | H12: 2 | J12: 1.501 | K12: 16.567 | L12: 1 | M12: 16.667 | N12: 2 | AA12: 2 | AB12: =IF(AND(ISBLANK(E12),ISBLANK(K12),ISBLANK(Q12),ISBLANK(W12)),"",IF(AND(G12="-",M12="-",S12="-",Y12="-"),"-",IF(AND(G12="-",ISBLANK(K12),ISBLANK(Q12),ISBLANK(W12)),"-",IF(AND(G12="-",M12="-",ISBLANK(Q12),ISBLANK(W12)),"-",IF(AND(G12="-",M12="-",S12="-",ISBLANK(W12)),"-",MIN(G12,M12,S12,Y12)))))) -> 16.667 | AC12: 2 | AD12: 2 | AE12: Lars Tuxen | AF12: 16.667 | AG12: =IF(AB12="","",COUNTIF(AB11:AB12,"-")) -> 0 | AH12: 0 | AN12: 0 | AO12: =IF(AB12="","",IF(AN12="0","0",COUNTIF(AN11:AN11,AN12))) -> 0 | AQ12: 0 | AS12: 0 | AU12: 0 | AV12: Lars Tuxen | AW12: =COUNTIF(#REF!,"AA") -> #REF! | AX12: =IF(BB12="","",COUNTIF(BB11:BB12,"-")) -> 0 | AY12: #REF! | AZ12: 2 | BA12: Lars Tuxen | BB12: 16.667
A13: 3 | C13: Grisha Mirgorodskiy | D13: 1.908 | E13: 18.63 | F13: 0 | G13: 18.63 | H13: 4 | J13: 1.255 | K13: 18.545 | L13: 0 | M13: 18.545 | N13: 4 | AA13: 4 | AB13: =IF(AND(ISBLANK(E13),ISBLANK(K13),ISBLANK(Q13),ISBLANK(W13)),"",IF(AND(G13="-",M13="-",S13="-",Y13="-"),"-",IF(AND(G13="-",ISBLANK(K13),ISBLANK(Q13),ISBLANK(W13)),"-",IF(AND(G13="-",M13="-",ISBLANK(Q13),ISBLANK(W13)),"-",IF(AND(G13="-",M13="-",S13="-",ISBLANK(W13)),"-",MIN(G13,M13,S13,Y13)))))) -> 18.545 | AC13: 4 | AD13: 4 | AE13: Grisha Mirgorodskiy | AF13: 18.545 | AG13: =IF(AB13="","",COUNTIF(AB11:AB13,"-")) -> 0 | AH13: 0 | AN13: 0 | AO13: =IF(AB13="","",IF(AN13="0","0",COUNTIF(AN11:AN12,AN13))) -> 0 | AQ13: 0 | AS13: 0 | AU13: 0 | AV13: Sergey Skobelev | AW13: =COUNTIF(#REF!,"AA") -> #REF! | AX13: =IF(BB13="","",COUNTIF(BB11:BB13,"-")) -> 0 | AY13: #REF! | AZ13: 3 | BA13: Sergey Skobelev | BB13: 18.486
A14: 4 | C14: Vladimir Solodovnikov | D14: 2.105 | E14: 19.401 | F14: 0 | G14: 19.401 | H14: 5 | J14: 1.686 | K14: 19.137 | L14: 0 | M14: 19.137 | N14: 5 | AA14: 5 | AB14: =IF(AND(ISBLANK(E14),ISBLANK(K14),ISBLANK(Q14),ISBLANK(W14)),"",IF(AND(G14="-",M14="-",S14="-",Y14="-"),"-",IF(AND(G14="-",ISBLANK(K14),ISBLANK(Q14),ISBLANK(W14)),"-",IF(AND(G14="-",M14="-",ISBLANK(Q14),ISBLANK(W14)),"-",IF(AND(G14="-",M14="-",S14="-",ISBLANK(W14)),"-",MIN(G14,M14,S14,Y14)))))) -> 19.137 | AC14: 5 | AD14: 5 | AE14: Vladimir Solodovnikov | AF14: 19.137 | AG14: =IF(AB14="","",COUNTIF(AB11:AB14,"-")) -> 0 | AH14: 0 | AN14: 0 | AO14: =IF(AB14="","",IF(AN14="0","0",COUNTIF(AN11:AN13,AN14))) -> 0 | AQ14: 0 | AS14: 0 | AU14: 0 | AV14: Grisha Mirgorodskiy | AW14: =COUNTIF(#REF!,"AA") -> #REF! | AX14: =IF(BB14="","",COUNTIF(BB11:BB14,"-")) -> 0 | AY14: #REF! | AZ14: 4 | BA14: Grisha Mirgorodskiy | BB14: 18.545
A15: 5 | C15: Sergey Skobelev | D15: 0.802 | E15: 18.547 | F15: 0 | G15: 18.547 | H15: 3 | J15: 1.136 | K15: 18.486 | L15: 0 | M15: 18.486 | N15: 3 | AA15: 3 | AB15: =IF(AND(ISBLANK(E15),ISBLANK(K15),ISBLANK(Q15),ISBLANK(W15)),"",IF(AND(G15="-",M15="-",S15="-",Y15="-"),"-",IF(AND(G15="-",ISBLANK(K15),ISBLANK(Q15),ISBLANK(W15)),"-",IF(AND(G15="-",M15="-",ISBLANK(Q15),ISBLANK(W15)),"-",IF(AND(G15="-",M15="-",S15="-",ISBLANK(W15)),"-",MIN(G15,M15,S15,Y15)))))) -> 18.486 | AC15: 3 | AD15: 3 | AE15: Sergey Skobelev | AF15: 18.486 | AG15: =IF(AB15="","",COUNTIF(AB11:AB15,"-")) -> 0 | AH15: 0 | AN15: 0 | AO15: =IF(AB15="","",IF(AN15="0","0",COUNTIF(AN11:AN14,AN15))) -> 0 | AQ15: 0 | AS15: 0 | AU15: 0 | AV15: Vladimir Solodovnikov | AW15: =COUNTIF(#REF!,"AA") -> #REF! | AX15: =IF(BB15="","",COUNTIF(BB11:BB15,"-")) -> 0 | AY15: #REF! | AZ15: 5 | BA15: Vladimir Solodovnikov | BB15: 19.137
A16: 6 | AB16: =IF(AND(ISBLANK(E16),ISBLANK(K16),ISBLANK(Q16),ISBLANK(W16)),"",IF(AND(G16="-",M16="-",S16="-",Y16="-"),"-",IF(AND(G16="-",ISBLANK(K16),ISBLANK(Q16),ISBLANK(W16)),"-",IF(AND(G16="-",M16="-",ISBLANK(Q16),ISBLANK(W16)),"-",IF(AND(G16="-",M16="-",S16="-",ISBLANK(W16)),"-",MIN(G16,M16,S16,Y16)))))) | AG16: =IF(AB16="","",COUNTIF(AB11:AB16,"-")) | AO16: =IF(AB16="","",IF(AN16="0","0",COUNTIF(AN11:AN15,AN16))) | AV16: BYE | AW16: =COUNTIF(#REF!,"AA") -> #REF! | AX16: =IF(BB16="","",COUNTIF(BB11:BB16,"-")) | BA16: BYE
A17: 7 | AB17: =IF(AND(ISBLANK(E17),ISBLANK(K17),ISBLANK(Q17),ISBLANK(W17)),"",IF(AND(G17="-",M17="-",S17="-",Y17="-"),"-",IF(AND(G17="-",ISBLANK(K17),ISBLANK(Q17),ISBLANK(W17)),"-",IF(AND(G17="-",M17="-",ISBLANK(Q17),ISBLANK(W17)),"-",IF(AND(G17="-",M17="-",S17="-",ISBLANK(W17)),"-",MIN(G17,M17,S17,Y17)))))) | AG17: =IF(AB17="","",COUNTIF(AB11:AB17,"-")) | AO17: =IF(AB17="","",IF(AB17="","",IF(AN17="0","0",COUNTIF(AN11:AN16,AN17)))) | AV17: BYE | AW17: =COUNTIF(#REF!,"AA") -> #REF! | AX17: =IF(BB17="","",COUNTIF(BB11:BB17,"-")) | BA17: BYE
A18: 8 | AB18: =IF(AND(ISBLANK(E18),ISBLANK(K18),ISBLANK(Q18),ISBLANK(W18)),"",IF(AND(G18="-",M18="-",S18="-",Y18="-"),"-",IF(AND(G18="-",ISBLANK(K18),ISBLANK(Q18),ISBLANK(W18)),"-",IF(AND(G18="-",M18="-",ISBLANK(Q18),ISBLANK(W18)),"-",IF(AND(G18="-",M18="-",S18="-",ISBLANK(W18)),"-",MIN(G18,M18,S18,Y18)))))) | AG18: =IF(AB18="","",COUNTIF(AB11:AB18,"-")) | AO18: =IF(AB18="","",IF(AB18="","",IF(AN18="0","0",COUNTIF(AN11:AN17,AN18)))) | AV18: BYE | AW18: =COUNTIF(#REF!,"AA") -> #REF! | AX18: =IF(BB18="","",COUNTIF(BB11:BB18,"-")) | BA18: BYE
A19: 9 | AB19: =IF(AND(ISBLANK(E19),ISBLANK(K19),ISBLANK(Q19),ISBLANK(W19)),"",IF(AND(G19="-",M19="-",S19="-",Y19="-"),"-",IF(AND(G19="-",ISBLANK(K19),ISBLANK(Q19),ISBLANK(W19)),"-",IF(AND(G19="-",M19="-",ISBLANK(Q19),ISBLANK(W19)),"-",IF(AND(G19="-",M19="-",S19="-",ISBLANK(W19)),"-",MIN(G19,M19,S19,Y19)))))) | AG19: =IF(AB19="","",COUNTIF(AB11:AB19,"-")) | AO19: =IF(AB19="","",IF(AB19="","",IF(AN19="0","0",COUNTIF(AN11:AN18,AN19)))) | AV19: BYE | AW19: =COUNTIF(#REF!,"AA") -> #REF! | AX19: =IF(BB19="","",COUNTIF(BB11:BB19,"-")) | BA19: BYE
A20: 10 | AB20: =IF(AND(ISBLANK(E20),ISBLANK(K20),ISBLANK(Q20),ISBLANK(W20)),"",IF(AND(G20="-",M20="-",S20="-",Y20="-"),"-",IF(AND(G20="-",ISBLANK(K20),ISBLANK(Q20),ISBLANK(W20)),"-",IF(AND(G20="-",M20="-",ISBLANK(Q20),ISBLANK(W20)),"-",IF(AND(G20="-",M20="-",S20="-",ISBLANK(W20)),"-",MIN(G20,M20,S20,Y20)))))) | AG20: =IF(AB20="","",COUNTIF(AB11:AB20,"-")) | AO20: =IF(AB20="","",IF(AN20="0","0",COUNTIF(AN11:AN19,AN20))) | AV20: BYE | AW20: =COUNTIF(#REF!,"AA") -> #REF! | AX20: =IF(BB20="","",COUNTIF(BB11:BB20,"-")) | BA20: BYE
A21: 11 | AB21: =IF(AND(ISBLANK(E21),ISBLANK(K21),ISBLANK(Q21),ISBLANK(W21)),"",IF(AND(G21="-",M21="-",S21="-",Y21="-"),"-",IF(AND(G21="-",ISBLANK(K21),ISBLANK(Q21),ISBLANK(W21)),"-",IF(AND(G21="-",M21="-",ISBLANK(Q21),ISBLANK(W21)),"-",IF(AND(G21="-",M21="-",S21="-",ISBLANK(W21)),"-",MIN(G21,M21,S21,Y21)))))) | AG21: =IF(AB21="","",COUNTIF(AB11:AB21,"-")) | AO21: =IF(AB21="","",IF(AN21="0","0",COUNTIF(AN1:AN20,AN21))) | AV21: BYE | AW21: =COUNTIF(#REF!,"AA") -> #REF! | AX21: =IF(BB21="","",COUNTIF(BB11:BB21,"-")) | BA21: BYE
A22: 12 | AB22: =IF(AND(ISBLANK(E22),ISBLANK(K22),ISBLANK(Q22),ISBLANK(W22)),"",IF(AND(G22="-",M22="-",S22="-",Y22="-"),"-",IF(AND(G22="-",ISBLANK(K22),ISBLANK(Q22),ISBLANK(W22)),"-",IF(AND(G22="-",M22="-",ISBLANK(Q22),ISBLANK(W22)),"-",IF(AND(G22="-",M22="-",S22="-",ISBLANK(W22)),"-",MIN(G22,M22,S22,Y22)))))) | AG22: =IF(AB22="","",COUNTIF(AB11:AB22,"-")) | AO22: =IF(AB22="","",IF(AN22="0","0",COUNTIF(AN11:AN21,AN22))) | AV22: BYE | AW22: =COUNTIF(#REF!,"AA") -> #REF! | AX22: =IF(BB22="","",COUNTIF(BB11:BB22,"-")) | BA22: BYE
A23: 13 | AB23: =IF(AND(ISBLANK(E23),ISBLANK(K23),ISBLANK(Q23),ISBLANK(W23)),"",IF(AND(G23="-",M23="-",S23="-",Y23="-"),"-",IF(AND(G23="-",ISBLANK(K23),ISBLANK(Q23),ISBLANK(W23)),"-",IF(AND(G23="-",M23="-",ISBLANK(Q23),ISBLANK(W23)),"-",IF(AND(G23="-",M23="-",S23="-",ISBLANK(W23)),"-",MIN(G23,M23,S23,Y23)))))) | AG23: =IF(AB23="","",COUNTIF(AB11:AB23,"-")) | AO23: =IF(AB23="","",IF(AN23="0","0",COUNTIF(AN11:AN22,AN23))) | AV23: BYE | AW23: =COUNTIF(#REF!,"AA") -> #REF! | AX23: =IF(BB23="","",COUNTIF(BB11:BB23,"-")) | BA23: BYE
A24: 14 | AB24: =IF(AND(ISBLANK(E24),ISBLANK(K24),ISBLANK(Q24),ISBLANK(W24)),"",IF(AND(G24="-",M24="-",S24="-",Y24="-"),"-",IF(AND(G24="-",ISBLANK(K24),ISBLANK(Q24),ISBLANK(W24)),"-",IF(AND(G24="-",M24="-",ISBLANK(Q24),ISBLANK(W24)),"-",IF(AND(G24="-",M24="-",S24="-",ISBLANK(W24)),"-",MIN(G24,M24,S24,Y24)))))) | AG24: =IF(AB24="","",COUNTIF(AB11:AB24,"-")) | AO24: =IF(AB24="","",IF(AN24="0","0",COUNTIF(AN11:AN23,AN24))) | AV24: BYE | AW24: =COUNTIF(#REF!,"AA") -> #REF! | AX24: =IF(BB24="","",COUNTIF(BB11:BB24,"-")) | BA24: BYE
A25: 15 | AB25: =IF(AND(ISBLANK(E25),ISBLANK(K25),ISBLANK(Q25),ISBLANK(W25)),"",IF(AND(G25="-",M25="-",S25="-",Y25="-"),"-",IF(AND(G25="-",ISBLANK(K25),ISBLANK(Q25),ISBLANK(W25)),"-",IF(AND(G25="-",M25="-",ISBLANK(Q25),ISBLANK(W25)),"-",IF(AND(G25="-",M25="-",S25="-",ISBLANK(W25)),"-",MIN(G25,M25,S25,Y25)))))) | AG25: =IF(AB25="","",COUNTIF(AB11:AB25,"-")) | AO25: =IF(AB25="","",IF(AN25="0","0",COUNTIF(AN11:AN24,AN25))) | AV25: BYE | AW25: =COUNTIF(#REF!,"AA") -> #REF! | AX25: =IF(BB25="","",COUNTIF(BB11:BB25,"-")) | BA25: BYE
A26: 16 | AB26: =IF(AND(ISBLANK(E26),ISBLANK(K26),ISBLANK(Q26),ISBLANK(W26)),"",IF(AND(G26="-",M26="-",S26="-",Y26="-"),"-",IF(AND(G26="-",ISBLANK(K26),ISBLANK(Q26),ISBLANK(W26)),"-",IF(AND(G26="-",M26="-",ISBLANK(Q26),ISBLANK(W26)),"-",IF(AND(G26="-",M26="-",S26="-",ISBLANK(W26)),"-",MIN(G26,M26,S26,Y26)))))) | AG26: =IF(AB26="","",COUNTIF(AB11:AB26,"-")) | AO26: =IF(AB26="","",IF(AN26="0","0",COUNTIF(AN11:AN25,AN26))) | AV26: BYE | AW26: =COUNTIF(#REF!,"AA") -> #REF! | AX26: =IF(BB26="","",COUNTIF(BB11:BB26,"-")) | BA26: BYE
A27: 17 | AB27: =IF(AND(ISBLANK(E27),ISBLANK(K27),ISBLANK(Q27),ISBLANK(W27)),"",IF(AND(G27="-",M27="-",S27="-",Y27="-"),"-",IF(AND(G27="-",ISBLANK(K27),ISBLANK(Q27),ISBLANK(W27)),"-",IF(AND(G27="-",M27="-",ISBLANK(Q27),ISBLANK(W27)),"-",IF(AND(G27="-",M27="-",S27="-",ISBLANK(W27)),"-",MIN(G27,M27,S27,Y27)))))) | AG27: =IF(AB27="","",COUNTIF(AB11:AB27,"-")) | AO27: =IF(AB27="","",IF(AN27="0","0",COUNTIF(AN11:AN26,AN27))) | AV27: BYE | AW27: =COUNTIF(#REF!,"AA") -> #REF! | AX27: =IF(BB27="","",COUNTIF(BB11:BB27,"-")) | BA27: BYE
A28: 18 | AB28: =IF(AND(ISBLANK(E28),ISBLANK(K28),ISBLANK(Q28),ISBLANK(W28)),"",IF(AND(G28="-",M28="-",S28="-",Y28="-"),"-",IF(AND(G28="-",ISBLANK(K28),ISBLANK(Q28),ISBLANK(W28)),"-",IF(AND(G28="-",M28="-",ISBLANK(Q28),ISBLANK(W28)),"-",IF(AND(G28="-",M28="-",S28="-",ISBLANK(W28)),"-",MIN(G28,M28,S28,Y28)))))) | AG28: =IF(AB28="","",COUNTIF(AB11:AB28,"-")) | AO28: =IF(AB28="","",IF(AN28="0","0",COUNTIF(AN11:AN27,AN28))) | AV28: BYE | AW28: =COUNTIF(#REF!,"AA") -> #REF! | AX28: =IF(BB28="","",COUNTIF(BB11:BB28,"-")) | BA28: BYE
A29: 19 | AB29: =IF(AND(ISBLANK(E29),ISBLANK(K29),ISBLANK(Q29),ISBLANK(W29)),"",IF(AND(G29="-",M29="-",S29="-",Y29="-"),"-",IF(AND(G29="-",ISBLANK(K29),ISBLANK(Q29),ISBLANK(W29)),"-",IF(AND(G29="-",M29="-",ISBLANK(Q29),ISBLANK(W29)),"-",IF(AND(G29="-",M29="-",S29="-",ISBLANK(W29)),"-",MIN(G29,M29,S29,Y29)))))) | AG29: =IF(AB29="","",COUNTIF(AB11:AB29,"-")) | AO29: =IF(AB29="","",IF(AN29="0","0",COUNTIF(AN11:AN28,AN29))) | AV29: BYE | AW29: =COUNTIF(#REF!,"AA") -> #REF! | AX29: =IF(BB29="","",COUNTIF(BB11:BB29,"-")) | BA29: BYE
A30: 20 | AB30: =IF(AND(ISBLANK(E30),ISBLANK(K30),ISBLANK(Q30),ISBLANK(W30)),"",IF(AND(G30="-",M30="-",S30="-",Y30="-"),"-",IF(AND(G30="-",ISBLANK(K30),ISBLANK(Q30),ISBLANK(W30)),"-",IF(AND(G30="-",M30="-",ISBLANK(Q30),ISBLANK(W30)),"-",IF(AND(G30="-",M30="-",S30="-",ISBLANK(W30)),"-",MIN(G30,M30,S30,Y30)))))) | AG30: =IF(AB30="","",COUNTIF(AB11:AB30,"-")) | AO30: =IF(AB30="","",IF(AN30="0","0",COUNTIF(AN11:AN29,AN30))) | AV30: BYE | AW30: =COUNTIF(#REF!,"AA") -> #REF! | AX30: =IF(BB30="","",COUNTIF(BB11:BB30,"-")) | BA30: BYE
A31: 21 | AB31: =IF(AND(ISBLANK(E31),ISBLANK(K31),ISBLANK(Q31),ISBLANK(W31)),"",IF(AND(G31="-",M31="-",S31="-",Y31="-"),"-",IF(AND(G31="-",ISBLANK(K31),ISBLANK(Q31),ISBLANK(W31)),"-",IF(AND(G31="-",M31="-",ISBLANK(Q31),ISBLANK(W31)),"-",IF(AND(G31="-",M31="-",S31="-",ISBLANK(W31)),"-",MIN(G31,M31,S31,Y31)))))) | AG31: =IF(AB31="","",COUNTIF(AB11:AB31,"-")) | AO31: =IF(AB31="","",IF(AN31="0","0",COUNTIF(AN11:AN30,AN31))) | AV31: BYE | AW31: =COUNTIF(#REF!,"AA") -> #REF! | AX31: =IF(BB31="","",COUNTIF(BB11:BB31,"-")) | BA31: BYE
A32: 22 | AB32: =IF(AND(ISBLANK(E32),ISBLANK(K32),ISBLANK(Q32),ISBLANK(W32)),"",IF(AND(G32="-",M32="-",S32="-",Y32="-"),"-",IF(AND(G32="-",ISBLANK(K32),ISBLANK(Q32),ISBLANK(W32)),"-",IF(AND(G32="-",M32="-",ISBLANK(Q32),ISBLANK(W32)),"-",IF(AND(G32="-",M32="-",S32="-",ISBLANK(W32)),"-",MIN(G32,M32,S32,Y32)))))) | AG32: =IF(AB32="","",COUNTIF(AB11:AB32,"-")) | AO32: =IF(AB32="","",IF(AN32="0","0",COUNTIF(AN11:AN31,AN32))) | AV32: BYE | AW32: =COUNTIF(#REF!,"AA") -> #REF! | AX32: =IF(BB32="","",COUNTIF(BB11:BB32,"-")) | BA32: BYE
A33: 23 | AB33: =IF(AND(ISBLANK(E33),ISBLANK(K33),ISBLANK(Q33),ISBLANK(W33)),"",IF(AND(G33="-",M33="-",S33="-",Y33="-"),"-",IF(AND(G33="-",ISBLANK(K33),ISBLANK(Q33),ISBLANK(W33)),"-",IF(AND(G33="-",M33="-",ISBLANK(Q33),ISBLANK(W33)),"-",IF(AND(G33="-",M33="-",S33="-",ISBLANK(W33)),"-",MIN(G33,M33,S33,Y33)))))) | AG33: =IF(AB33="","",COUNTIF(AB11:AB33,"-")) | AO33: =IF(AB33="","",IF(AN33="0","0",COUNTIF(AN11:AN32,AN33))) | AV33: BYE | AW33: =COUNTIF(#REF!,"AA") -> #REF! | AX33: =IF(BB33="","",COUNTIF(BB11:BB33,"-")) | BA33: BYE
A34: 24 | AB34: =IF(AND(ISBLANK(E34),ISBLANK(K34),ISBLANK(Q34),ISBLANK(W34)),"",IF(AND(G34="-",M34="-",S34="-",Y34="-"),"-",IF(AND(G34="-",ISBLANK(K34),ISBLANK(Q34),ISBLANK(W34)),"-",IF(AND(G34="-",M34="-",ISBLANK(Q34),ISBLANK(W34)),"-",IF(AND(G34="-",M34="-",S34="-",ISBLANK(W34)),"-",MIN(G34,M34,S34,Y34)))))) | AG34: =IF(AB34="","",COUNTIF(AB11:AB34,"-")) | AO34: =IF(AB34="","",IF(AN34="0","0",COUNTIF(AN11:AN33,AN34))) | AV34: BYE | AW34: =COUNTIF(#REF!,"AA") -> #REF! | AX34: =IF(BB34="","",COUNTIF(BB11:BB34,"-")) | BA34: BYE
A35: 25 | AB35: =IF(AND(ISBLANK(E35),ISBLANK(K35),ISBLANK(Q35),ISBLANK(W35)),"",IF(AND(G35="-",M35="-",S35="-",Y35="-"),"-",IF(AND(G35="-",ISBLANK(K35),ISBLANK(Q35),ISBLANK(W35)),"-",IF(AND(G35="-",M35="-",ISBLANK(Q35),ISBLANK(W35)),"-",IF(AND(G35="-",M35="-",S35="-",ISBLANK(W35)),"-",MIN(G35,M35,S35,Y35)))))) | AG35: =IF(AB35="","",COUNTIF(AB11:AB35,"-")) | AO35: =IF(AB35="","",IF(AN35="0","0",COUNTIF(AN11:AN34,AN35))) | AV35: BYE | AW35: =COUNTIF(#REF!,"AA") -> #REF! | AX35: =IF(BB35="","",COUNTIF(BB11:BB35,"-")) | BA35: BYE
A36: 26 | AB36: =IF(AND(ISBLANK(E36),ISBLANK(K36),ISBLANK(Q36),ISBLANK(W36)),"",IF(AND(G36="-",M36="-",S36="-",Y36="-"),"-",IF(AND(G36="-",ISBLANK(K36),ISBLANK(Q36),ISBLANK(W36)),"-",IF(AND(G36="-",M36="-",ISBLANK(Q36),ISBLANK(W36)),"-",IF(AND(G36="-",M36="-",S36="-",ISBLANK(W36)),"-",MIN(G36,M36,S36,Y36)))))) | AG36: =IF(AB36="","",COUNTIF(AB11:AB36,"-")) | AO36: =IF(AB36="","",IF(AN36="0","0",COUNTIF(AN11:AN35,AN36))) | AV36: BYE | AW36: =COUNTIF(#REF!,"AA") -> #REF! | AX36: =IF(BB36="","",COUNTIF(BB11:BB36,"-")) | BA36: BYE
A37: 27 | AB37: =IF(AND(ISBLANK(E37),ISBLANK(K37),ISBLANK(Q37),ISBLANK(W37)),"",IF(AND(G37="-",M37="-",S37="-",Y37="-"),"-",IF(AND(G37="-",ISBLANK(K37),ISBLANK(Q37),ISBLANK(W37)),"-",IF(AND(G37="-",M37="-",ISBLANK(Q37),ISBLANK(W37)),"-",IF(AND(G37="-",M37="-",S37="-",ISBLANK(W37)),"-",MIN(G37,M37,S37,Y37)))))) | AG37: =IF(AB37="","",COUNTIF(AB11:AB37,"-")) | AO37: =IF(AB37="","",IF(AN37="0","0",COUNTIF(AN11:AN36,AN37))) | AV37: BYE | AW37: =COUNTIF(#REF!,"AA") -> #REF! | AX37: =IF(BB37="","",COUNTIF(BB11:BB37,"-")) | BA37: BYE
A38: 28 | AB38: =IF(AND(ISBLANK(E38),ISBLANK(K38),ISBLANK(Q38),ISBLANK(W38)),"",IF(AND(G38="-",M38="-",S38="-",Y38="-"),"-",IF(AND(G38="-",ISBLANK(K38),ISBLANK(Q38),ISBLANK(W38)),"-",IF(AND(G38="-",M38="-",ISBLANK(Q38),ISBLANK(W38)),"-",IF(AND(G38="-",M38="-",S38="-",ISBLANK(W38)),"-",MIN(G38,M38,S38,Y38)))))) | AG38: =IF(AB38="","",COUNTIF(AB11:AB38,"-")) | AO38: =IF(AB38="","",IF(AN38="0","0",COUNTIF(AN11:AN37,AN38))) | AV38: BYE | AW38: =COUNTIF(#REF!,"AA") -> #REF! | AX38: =IF(BB38="","",COUNTIF(BB11:BB38,"-")) | BA38: BYE
A39: 29 | AB39: =IF(AND(ISBLANK(E39),ISBLANK(K39),ISBLANK(Q39),ISBLANK(W39)),"",IF(AND(G39="-",M39="-",S39="-",Y39="-"),"-",IF(AND(G39="-",ISBLANK(K39),ISBLANK(Q39),ISBLANK(W39)),"-",IF(AND(G39="-",M39="-",ISBLANK(Q39),ISBLANK(W39)),"-",IF(AND(G39="-",M39="-",S39="-",ISBLANK(W39)),"-",MIN(G39,M39,S39,Y39)))))) | AG39: =IF(AB39="","",COUNTIF(AB11:AB39,"-")) | AO39: =IF(AB39="","",IF(AN39="0","0",COUNTIF(AN11:AN38,AN39))) | AV39: BYE | AW39: =COUNTIF(#REF!,"AA") -> #REF! | AX39: =IF(BB39="","",COUNTIF(BB11:BB39,"-")) | BA39: BYE
A40: 30 | AB40: =IF(AND(ISBLANK(E40),ISBLANK(K40),ISBLANK(Q40),ISBLANK(W40)),"",IF(AND(G40="-",M40="-",S40="-",Y40="-"),"-",IF(AND(G40="-",ISBLANK(K40),ISBLANK(Q40),ISBLANK(W40)),"-",IF(AND(G40="-",M40="-",ISBLANK(Q40),ISBLANK(W40)),"-",IF(AND(G40="-",M40="-",S40="-",ISBLANK(W40)),"-",MIN(G40,M40,S40,Y40)))))) | AG40: =IF(AB40="","",COUNTIF(AB11:AB40,"-")) | AO40: =IF(AB40="","",IF(AN40="0","0",COUNTIF(AN11:AN39,AN40))) | AV40: BYE | AW40: =COUNTIF(#REF!,"AA") -> #REF! | AX40: =IF(BB40="","",COUNTIF(BB11:BB40,"-")) | BA40: BYE
A41: 31 | AB41: =IF(AND(ISBLANK(E41),ISBLANK(K41),ISBLANK(Q41),ISBLANK(W41)),"",IF(AND(G41="-",M41="-",S41="-",Y41="-"),"-",IF(AND(G41="-",ISBLANK(K41),ISBLANK(Q41),ISBLANK(W41)),"-",IF(AND(G41="-",M41="-",ISBLANK(Q41),ISBLANK(W41)),"-",IF(AND(G41="-",M41="-",S41="-",ISBLANK(W41)),"-",MIN(G41,M41,S41,Y41)))))) | AG41: =IF(AB41="","",COUNTIF(AB11:AB41,"-")) | AO41: =IF(AB41="","",IF(AN41="0","0",COUNTIF(AN11:AN40,AN41))) | AV41: BYE | AW41: =COUNTIF(#REF!,"AA") -> #REF! | AX41: =IF(BB41="","",COUNTIF(BB11:BB41,"-")) | BA41: BYE
A42: 32 | AB42: =IF(AND(ISBLANK(E42),ISBLANK(K42),ISBLANK(Q42),ISBLANK(W42)),"",IF(AND(G42="-",M42="-",S42="-",Y42="-"),"-",IF(AND(G42="-",ISBLANK(K42),ISBLANK(Q42),ISBLANK(W42)),"-",IF(AND(G42="-",M42="-",ISBLANK(Q42),ISBLANK(W42)),"-",IF(AND(G42="-",M42="-",S42="-",ISBLANK(W42)),"-",MIN(G42,M42,S42,Y42)))))) | AG42: =IF(AB42="","",COUNTIF(AB11:AB42,"-")) | AO42: =IF(AB42="","",IF(AN42="0","0",COUNTIF(AN11:AN41,AN42))) | AV42: BYE | AW42: =COUNTIF(#REF!,"AA") -> #REF! | AX42: =IF(BB42="","",COUNTIF(BB11:BB42,"-")) | BA42: BYE
A43: 33 | AB43: =IF(AND(ISBLANK(E43),ISBLANK(K43),ISBLANK(Q43),ISBLANK(W43)),"",IF(AND(G43="-",M43="-",S43="-",Y43="-"),"-",IF(AND(G43="-",ISBLANK(K43),ISBLANK(Q43),ISBLANK(W43)),"-",IF(AND(G43="-",M43="-",ISBLANK(Q43),ISBLANK(W43)),"-",IF(AND(G43="-",M43="-",S43="-",ISBLANK(W43)),"-",MIN(G43,M43,S43,Y43)))))) | AG43: =IF(AB43="","",COUNTIF(AB11:AB43,"-")) | AO43: =IF(AB43="","",IF(AN43="0","0",COUNTIF(AN11:AN42,AN43))) | AV43: BYE | AW43: =COUNTIF(#REF!,"AA") -> #REF! | AX43: =IF(BB43="","",COUNTIF(BB11:BB43,"-")) | BA43: BYE
A44: 34 | AB44: =IF(AND(ISBLANK(E44),ISBLANK(K44),ISBLANK(Q44),ISBLANK(W44)),"",IF(AND(G44="-",M44="-",S44="-",Y44="-"),"-",IF(AND(G44="-",ISBLANK(K44),ISBLANK(Q44),ISBLANK(W44)),"-",IF(AND(G44="-",M44="-",ISBLANK(Q44),ISBLANK(W44)),"-",IF(AND(G44="-",M44="-",S44="-",ISBLANK(W44)),"-",MIN(G44,M44,S44,Y44)))))) | AG44: =IF(AB44="","",COUNTIF(AB11:AB44,"-")) | AO44: =IF(AB44="","",IF(AN44="0","0",COUNTIF(AN11:AN43,AN44))) | AV44: BYE | AW44: =COUNTIF(#REF!,"AA") -> #REF! | AX44: =IF(BB44="","",COUNTIF(BB11:BB44,"-")) | BA44: BYE
A45: 35 | AB45: =IF(AND(ISBLANK(E45),ISBLANK(K45),ISBLANK(Q45),ISBLANK(W45)),"",IF(AND(G45="-",M45="-",S45="-",Y45="-"),"-",IF(AND(G45="-",ISBLANK(K45),ISBLANK(Q45),ISBLANK(W45)),"-",IF(AND(G45="-",M45="-",ISBLANK(Q45),ISBLANK(W45)),"-",IF(AND(G45="-",M45="-",S45="-",ISBLANK(W45)),"-",MIN(G45,M45,S45,Y45)))))) | AG45: =IF(AB45="","",COUNTIF(AB11:AB45,"-")) | AO45: =IF(AB45="","",IF(AN45="0","0",COUNTIF(AN11:AN44,AN45))) | AV45: BYE | AW45: =COUNTIF(#REF!,"AA") -> #REF! | AX45: =IF(BB45="","",COUNTIF(BB11:BB45,"-")) | BA45: BYE
A46: 36 | AB46: =IF(AND(ISBLANK(E46),ISBLANK(K46),ISBLANK(Q46),ISBLANK(W46)),"",IF(AND(G46="-",M46="-",S46="-",Y46="-"),"-",IF(AND(G46="-",ISBLANK(K46),ISBLANK(Q46),ISBLANK(W46)),"-",IF(AND(G46="-",M46="-",ISBLANK(Q46),ISBLANK(W46)),"-",IF(AND(G46="-",M46="-",S46="-",ISBLANK(W46)),"-",MIN(G46,M46,S46,Y46)))))) | AG46: =IF(AB46="","",COUNTIF(AB11:AB46,"-")) | AO46: =IF(AB46="","",IF(AN46="0","0",COUNTIF(AN11:AN45,AN46))) | AV46: BYE | AW46: =COUNTIF(#REF!,"AA") -> #REF! | AX46: =IF(BB46="","",COUNTIF(BB11:BB46,"-")) | BA46: BYE
A47: 37 | AB47: =IF(AND(ISBLANK(E47),ISBLANK(K47),ISBLANK(Q47),ISBLANK(W47)),"",IF(AND(G47="-",M47="-",S47="-",Y47="-"),"-",IF(AND(G47="-",ISBLANK(K47),ISBLANK(Q47),ISBLANK(W47)),"-",IF(AND(G47="-",M47="-",ISBLANK(Q47),ISBLANK(W47)),"-",IF(AND(G47="-",M47="-",S47="-",ISBLANK(W47)),"-",MIN(G47,M47,S47,Y47)))))) | AG47: =IF(AB47="","",COUNTIF(AB11:AB47,"-")) | AO47: =IF(AB47="","",IF(AN47="0","0",COUNTIF(AN11:AN46,AN47))) | AV47: BYE | AW47: =COUNTIF(#REF!,"AA") -> #REF! | AX47: =IF(BB47="","",COUNTIF(BB11:BB47,"-")) | BA47: BYE
A48: 38 | AB48: =IF(AND(ISBLANK(E48),ISBLANK(K48),ISBLANK(Q48),ISBLANK(W48)),"",IF(AND(G48="-",M48="-",S48="-",Y48="-"),"-",IF(AND(G48="-",ISBLANK(K48),ISBLANK(Q48),ISBLANK(W48)),"-",IF(AND(G48="-",M48="-",ISBLANK(Q48),ISBLANK(W48)),"-",IF(AND(G48="-",M48="-",S48="-",ISBLANK(W48)),"-",MIN(G48,M48,S48,Y48)))))) | AG48: =IF(AB48="","",COUNTIF(AB11:AB48,"-")) | AO48: =IF(AB48="","",IF(AN48="0","0",COUNTIF(AN11:AN47,AN48))) | AV48: BYE | AW48: =COUNTIF(#REF!,"AA") -> #REF! | AX48: =IF(BB48="","",COUNTIF(BB11:BB48,"-")) | BA48: BYE
A49: 39 | AB49: =IF(AND(ISBLANK(E49),ISBLANK(K49),ISBLANK(Q49),ISBLANK(W49)),"",IF(AND(G49="-",M49="-",S49="-",Y49="-"),"-",IF(AND(G49="-",ISBLANK(K49),ISBLANK(Q49),ISBLANK(W49)),"-",IF(AND(G49="-",M49="-",ISBLANK(Q49),ISBLANK(W49)),"-",IF(AND(G49="-",M49="-",S49="-",ISBLANK(W49)),"-",MIN(G49,M49,S49,Y49)))))) | AG49: =IF(AB49="","",COUNTIF(AB11:AB49,"-")) | AO49: =IF(AB49="","",IF(AN49="0","0",COUNTIF(AN11:AN48,AN49))) | AV49: BYE | AW49: =COUNTIF(#REF!,"AA") -> #REF! | AX49: =IF(BB49="","",COUNTIF(BB11:BB49,"-")) | BA49: BYE
A50: 40 | AB50: =IF(AND(ISBLANK(E50),ISBLANK(K50),ISBLANK(Q50),ISBLANK(W50)),"",IF(AND(G50="-",M50="-",S50="-",Y50="-"),"-",IF(AND(G50="-",ISBLANK(K50),ISBLANK(Q50),ISBLANK(W50)),"-",IF(AND(G50="-",M50="-",ISBLANK(Q50),ISBLANK(W50)),"-",IF(AND(G50="-",M50="-",S50="-",ISBLANK(W50)),"-",MIN(G50,M50,S50,Y50)))))) | AG50: =IF(AB50="","",COUNTIF(AB11:AB50,"-")) | AO50: =IF(AB50="","",IF(AN50="0","0",COUNTIF(AN11:AN49,AN50))) | AV50: BYE | AW50: =COUNTIF(#REF!,"AA") -> #REF! | AX50: =IF(BB50="","",COUNTIF(BB11:BB50,"-")) | BA50: BYE
A51: 41 | AB51: =IF(AND(ISBLANK(E51),ISBLANK(K51),ISBLANK(Q51),ISBLANK(W51)),"",IF(AND(G51="-",M51="-",S51="-",Y51="-"),"-",IF(AND(G51="-",ISBLANK(K51),ISBLANK(Q51),ISBLANK(W51)),"-",IF(AND(G51="-",M51="-",ISBLANK(Q51),ISBLANK(W51)),"-",IF(AND(G51="-",M51="-",S51="-",ISBLANK(W51)),"-",MIN(G51,M51,S51,Y51)))))) | AG51: =IF(AB51="","",COUNTIF(AB11:AB51,"-")) | AO51: =IF(AB51="","",IF(AN51="0","0",COUNTIF(AN11:AN50,AN51))) | AV51: BYE | AW51: =COUNTIF(#REF!,"AA") -> #REF! | AX51: =IF(BB51="","",COUNTIF(BB11:BB51,"-")) | BA51: BYE
A52: 42 | AB52: =IF(AND(ISBLANK(E52),ISBLANK(K52),ISBLANK(Q52),ISBLANK(W52)),"",IF(AND(G52="-",M52="-",S52="-",Y52="-"),"-",IF(AND(G52="-",ISBLANK(K52),ISBLANK(Q52),ISBLANK(W52)),"-",IF(AND(G52="-",M52="-",ISBLANK(Q52),ISBLANK(W52)),"-",IF(AND(G52="-",M52="-",S52="-",ISBLANK(W52)),"-",MIN(G52,M52,S52,Y52)))))) | AG52: =IF(AB52="","",COUNTIF(AB11:AB52,"-")) | AO52: =IF(AB52="","",IF(AN52="0","0",COUNTIF(AN11:AN51,AN52))) | AV52: BYE | AW52: =COUNTIF(#REF!,"AA") -> #REF! | AX52: =IF(BB52="","",COUNTIF(BB11:BB52,"-")) | BA52: BYE
A53: 43 | AB53: =IF(AND(ISBLANK(E53),ISBLANK(K53),ISBLANK(Q53),ISBLANK(W53)),"",IF(AND(G53="-",M53="-",S53="-",Y53="-"),"-",IF(AND(G53="-",ISBLANK(K53),ISBLANK(Q53),ISBLANK(W53)),"-",IF(AND(G53="-",M53="-",ISBLANK(Q53),ISBLANK(W53)),"-",IF(AND(G53="-",M53="-",S53="-",ISBLANK(W53)),"-",MIN(G53,M53,S53,Y53)))))) | AG53: =IF(AB53="","",COUNTIF(AB11:AB53,"-")) | AO53: =IF(AB53="","",IF(AN53="0","0",COUNTIF(AN11:AN52,AN53))) | AV53: BYE | AW53: =COUNTIF(#REF!,"AA") -> #REF! | AX53: =IF(BB53="","",COUNTIF(BB11:BB53,"-")) | BA53: BYE
A54: 44 | AB54: =IF(AND(ISBLANK(E54),ISBLANK(K54),ISBLANK(Q54),ISBLANK(W54)),"",IF(AND(G54="-",M54="-",S54="-",Y54="-"),"-",IF(AND(G54="-",ISBLANK(K54),ISBLANK(Q54),ISBLANK(W54)),"-",IF(AND(G54="-",M54="-",ISBLANK(Q54),ISBLANK(W54)),"-",IF(AND(G54="-",M54="-",S54="-",ISBLANK(W54)),"-",MIN(G54,M54,S54,Y54)))))) | AG54: =IF(AB54="","",COUNTIF(AB11:AB54,"-")) | AO54: =IF(AB54="","",IF(AN54="0","0",COUNTIF(AN11:AN53,AN54))) | AV54: BYE | AW54: =COUNTIF(#REF!,"AA") -> #REF! | AX54: =IF(BB54="","",COUNTIF(BB11:BB54,"-")) | BA54: BYE
A55: 45 | AB55: =IF(AND(ISBLANK(E55),ISBLANK(K55),ISBLANK(Q55),ISBLANK(W55)),"",IF(AND(G55="-",M55="-",S55="-",Y55="-"),"-",IF(AND(G55="-",ISBLANK(K55),ISBLANK(Q55),ISBLANK(W55)),"-",IF(AND(G55="-",M55="-",ISBLANK(Q55),ISBLANK(W55)),"-",IF(AND(G55="-",M55="-",S55="-",ISBLANK(W55)),"-",MIN(G55,M55,S55,Y55)))))) | AG55: =IF(AB55="","",COUNTIF(AB11:AB55,"-")) | AO55: =IF(AB55="","",IF(AN55="0","0",COUNTIF(AN11:AN54,AN55))) | AV55: BYE | AW55: =COUNTIF(#REF!,"AA") -> #REF! | AX55: =IF(BB55="","",COUNTIF(BB11:BB55,"-")) | BA55: BYE
A56: 46 | AB56: =IF(AND(ISBLANK(E56),ISBLANK(K56),ISBLANK(Q56),ISBLANK(W56)),"",IF(AND(G56="-",M56="-",S56="-",Y56="-"),"-",IF(AND(G56="-",ISBLANK(K56),ISBLANK(Q56),ISBLANK(W56)),"-",IF(AND(G56="-",M56="-",ISBLANK(Q56),ISBLANK(W56)),"-",IF(AND(G56="-",M56="-",S56="-",ISBLANK(W56)),"-",MIN(G56,M56,S56,Y56)))))) | AG56: =IF(AB56="","",COUNTIF(AB11:AB56,"-")) | AO56: =IF(AB56="","",IF(AN56="0","0",COUNTIF(AN11:AN55,AN56))) | AV56: BYE | AW56: =COUNTIF(#REF!,"AA") -> #REF! | AX56: =IF(BB56="","",COUNTIF(BB11:BB56,"-")) | BA56: BYE
A57: 47 | AB57: =IF(AND(ISBLANK(E57),ISBLANK(K57),ISBLANK(Q57),ISBLANK(W57)),"",IF(AND(G57="-",M57="-",S57="-",Y57="-"),"-",IF(AND(G57="-",ISBLANK(K57),ISBLANK(Q57),ISBLANK(W57)),"-",IF(AND(G57="-",M57="-",ISBLANK(Q57),ISBLANK(W57)),"-",IF(AND(G57="-",M57="-",S57="-",ISBLANK(W57)),"-",MIN(G57,M57,S57,Y57)))))) | AG57: =IF(AB57="","",COUNTIF(AB11:AB57,"-")) | AO57: =IF(AB57="","",IF(AN57="0","0",COUNTIF(AN11:AN56,AN57))) | AV57: BYE | AW57: =COUNTIF(#REF!,"AA") -> #REF! | AX57: =IF(BB57="","",COUNTIF(BB11:BB57,"-")) | BA57: BYE
A58: 48 | AB58: =IF(AND(ISBLANK(E58),ISBLANK(K58),ISBLANK(Q58),ISBLANK(W58)),"",IF(AND(G58="-",M58="-",S58="-",Y58="-"),"-",IF(AND(G58="-",ISBLANK(K58),ISBLANK(Q58),ISBLANK(W58)),"-",IF(AND(G58="-",M58="-",ISBLANK(Q58),ISBLANK(W58)),"-",IF(AND(G58="-",M58="-",S58="-",ISBLANK(W58)),"-",MIN(G58,M58,S58,Y58)))))) | AG58: =IF(AB58="","",COUNTIF(AB11:AB58,"-")) | AO58: =IF(AB58="","",IF(AN58="0","0",COUNTIF(AN11:AN57,AN58))) | AV58: BYE | AW58: =COUNTIF(#REF!,"AA") -> #REF! | AX58: =IF(BB58="","",COUNTIF(BB11:BB58,"-")) | BA58: BYE
A59: 49 | AB59: =IF(AND(ISBLANK(E59),ISBLANK(K59),ISBLANK(Q59),ISBLANK(W59)),"",IF(AND(G59="-",M59="-",S59="-",Y59="-"),"-",IF(AND(G59="-",ISBLANK(K59),ISBLANK(Q59),ISBLANK(W59)),"-",IF(AND(G59="-",M59="-",ISBLANK(Q59),ISBLANK(W59)),"-",IF(AND(G59="-",M59="-",S59="-",ISBLANK(W59)),"-",MIN(G59,M59,S59,Y59)))))) | AG59: =IF(AB59="","",COUNTIF(AB11:AB59,"-")) | AO59: =IF(AB59="","",IF(AN59="0","0",COUNTIF(AN11:AN58,AN59))) | AV59: BYE | AW59: =COUNTIF(#REF!,"AA") -> #REF! | AX59: =IF(BB59="","",COUNTIF(BB11:BB59,"-")) | BA59: BYE
A60: 50 | AB60: =IF(AND(ISBLANK(E60),ISBLANK(K60),ISBLANK(Q60),ISBLANK(W60)),"",IF(AND(G60="-",M60="-",S60="-",Y60="-"),"-",IF(AND(G60="-",ISBLANK(K60),ISBLANK(Q60),ISBLANK(W60)),"-",IF(AND(G60="-",M60="-",ISBLANK(Q60),ISBLANK(W60)),"-",IF(AND(G60="-",M60="-",S60="-",ISBLANK(W60)),"-",MIN(G60,M60,S60,Y60)))))) | AG60: =IF(AB60="","",COUNTIF(AB11:AB60,"-")) | AO60: =IF(AB60="","",IF(AN60="0","0",COUNTIF(AN11:AN59,AN60))) | AV60: BYE | AW60: =COUNTIF(#REF!,"AA") -> #REF! | AX60: =IF(BB60="","",COUNTIF(BB11:BB60,"-")) | BA60: BYE
A61: 51 | AB61: =IF(AND(ISBLANK(E61),ISBLANK(K61),ISBLANK(Q61),ISBLANK(W61)),"",IF(AND(G61="-",M61="-",S61="-",Y61="-"),"-",IF(AND(G61="-",ISBLANK(K61),ISBLANK(Q61),ISBLANK(W61)),"-",IF(AND(G61="-",M61="-",ISBLANK(Q61),ISBLANK(W61)),"-",IF(AND(G61="-",M61="-",S61="-",ISBLANK(W61)),"-",MIN(G61,M61,S61,Y61)))))) | AG61: =IF(AB61="","",COUNTIF(AB11:AB61,"-")) | AO61: =IF(AB61="","",IF(AN61="0","0",COUNTIF(AN11:AN60,AN61))) | AV61: BYE | AW61: =COUNTIF(#REF!,"AA") -> #REF! | AX61: =IF(BB61="","",COUNTIF(BB11:BB61,"-")) | BA61: BYE
A62: 52 | AB62: =IF(AND(ISBLANK(E62),ISBLANK(K62),ISBLANK(Q62),ISBLANK(W62)),"",IF(AND(G62="-",M62="-",S62="-",Y62="-"),"-",IF(AND(G62="-",ISBLANK(K62),ISBLANK(Q62),ISBLANK(W62)),"-",IF(AND(G62="-",M62="-",ISBLANK(Q62),ISBLANK(W62)),"-",IF(AND(G62="-",M62="-",S62="-",ISBLANK(W62)),"-",MIN(G62,M62,S62,Y62)))))) | AG62: =IF(AB62="","",COUNTIF(AB11:AB62,"-")) | AO62: =IF(AB62="","",IF(AN62="0","0",COUNTIF(AN11:AN61,AN62))) | AV62: BYE | AW62: =COUNTIF(#REF!,"AA") -> #REF! | AX62: =IF(BB62="","",COUNTIF(BB11:BB62,"-")) | BA62: BYE
A63: 53 | AB63: =IF(AND(ISBLANK(E63),ISBLANK(K63),ISBLANK(Q63),ISBLANK(W63)),"",IF(AND(G63="-",M63="-",S63="-",Y63="-"),"-",IF(AND(G63="-",ISBLANK(K63),ISBLANK(Q63),ISBLANK(W63)),"-",IF(AND(G63="-",M63="-",ISBLANK(Q63),ISBLANK(W63)),"-",IF(AND(G63="-",M63="-",S63="-",ISBLANK(W63)),"-",MIN(G63,M63,S63,Y63)))))) | AG63: =IF(AB63="","",COUNTIF(AB11:AB63,"-")) | AO63: =IF(AB63="","",IF(AN63="0","0",COUNTIF(AN11:AN62,AN63))) | AV63: BYE | AW63: =COUNTIF(#REF!,"AA") -> #REF! | AX63: =IF(BB63="","",COUNTIF(BB11:BB63,"-")) | BA63: BYE
A64: 54 | AB64: =IF(AND(ISBLANK(E64),ISBLANK(K64),ISBLANK(Q64),ISBLANK(W64)),"",IF(AND(G64="-",M64="-",S64="-",Y64="-"),"-",IF(AND(G64="-",ISBLANK(K64),ISBLANK(Q64),ISBLANK(W64)),"-",IF(AND(G64="-",M64="-",ISBLANK(Q64),ISBLANK(W64)),"-",IF(AND(G64="-",M64="-",S64="-",ISBLANK(W64)),"-",MIN(G64,M64,S64,Y64)))))) | AG64: =IF(AB64="","",COUNTIF(AB11:AB64,"-")) | AO64: =IF(AB64="","",IF(AN64="0","0",COUNTIF(AN11:AN63,AN64))) | AV64: BYE | AW64: =COUNTIF(#REF!,"AA") -> #REF! | AX64: =IF(BB64="","",COUNTIF(BB11:BB64,"-")) | BA64: BYE
A65: 55 | AB65: =IF(AND(ISBLANK(E65),ISBLANK(K65),ISBLANK(Q65),ISBLANK(W65)),"",IF(AND(G65="-",M65="-",S65="-",Y65="-"),"-",IF(AND(G65="-",ISBLANK(K65),ISBLANK(Q65),ISBLANK(W65)),"-",IF(AND(G65="-",M65="-",ISBLANK(Q65),ISBLANK(W65)),"-",IF(AND(G65="-",M65="-",S65="-",ISBLANK(W65)),"-",MIN(G65,M65,S65,Y65)))))) | AG65: =IF(AB65="","",COUNTIF(AB11:AB65,"-")) | AO65: =IF(AB65="","",IF(AN65="0","0",COUNTIF(AN11:AN64,AN65))) | AV65: BYE | AW65: =COUNTIF(#REF!,"AA") -> #REF! | AX65: =IF(BB65="","",COUNTIF(BB11:BB65,"-")) | BA65: BYE
A66: 56 | AB66: =IF(AND(ISBLANK(E66),ISBLANK(K66),ISBLANK(Q66),ISBLANK(W66)),"",IF(AND(G66="-",M66="-",S66="-",Y66="-"),"-",IF(AND(G66="-",ISBLANK(K66),ISBLANK(Q66),ISBLANK(W66)),"-",IF(AND(G66="-",M66="-",ISBLANK(Q66),ISBLANK(W66)),"-",IF(AND(G66="-",M66="-",S66="-",ISBLANK(W66)),"-",MIN(G66,M66,S66,Y66)))))) | AG66: =IF(AB66="","",COUNTIF(AB11:AB66,"-")) | AO66: =IF(AB66="","",IF(AN66="0","0",COUNTIF(AN11:AN65,AN66))) | AV66: BYE | AW66: =COUNTIF(#REF!,"AA") -> #REF! | AX66: =IF(BB66="","",COUNTIF(BB11:BB66,"-")) | BA66: BYE
A67: 57 | AB67: =IF(AND(ISBLANK(E67),ISBLANK(K67),ISBLANK(Q67),ISBLANK(W67)),"",IF(AND(G67="-",M67="-",S67="-",Y67="-"),"-",IF(AND(G67="-",ISBLANK(K67),ISBLANK(Q67),ISBLANK(W67)),"-",IF(AND(G67="-",M67="-",ISBLANK(Q67),ISBLANK(W67)),"-",IF(AND(G67="-",M67="-",S67="-",ISBLANK(W67)),"-",MIN(G67,M67,S67,Y67)))))) | AG67: =IF(AB67="","",COUNTIF(AB11:AB67,"-")) | AO67: =IF(AB67="","",IF(AB67="","",IF(AN67="0","0",COUNTIF(AN11:AN66,AN67)))) | AV67: BYE | AW67: =COUNTIF(#REF!,"AA") -> #REF! | AX67: =IF(BB67="","",COUNTIF(BB11:BB67,"-")) | BA67: BYE
A68: 58 | AB68: =IF(AND(ISBLANK(E68),ISBLANK(K68),ISBLANK(Q68),ISBLANK(W68)),"",IF(AND(G68="-",M68="-",S68="-",Y68="-"),"-",IF(AND(G68="-",ISBLANK(K68),ISBLANK(Q68),ISBLANK(W68)),"-",IF(AND(G68="-",M68="-",ISBLANK(Q68),ISBLANK(W68)),"-",IF(AND(G68="-",M68="-",S68="-",ISBLANK(W68)),"-",MIN(G68,M68,S68,Y68)))))) | AG68: =IF(AB68="","",COUNTIF(AB11:AB68,"-")) | AO68: =IF(AB68="","",IF(AB68="","",IF(AN68="0","0",COUNTIF(AN11:AN67,AN68)))) | AV68: BYE | AW68: =COUNTIF(#REF!,"AA") -> #REF! | AX68: =IF(BB68="","",COUNTIF(BB11:BB68,"-")) | BA68: BYE
A69: 59 | AB69: =IF(AND(ISBLANK(E69),ISBLANK(K69),ISBLANK(Q69),ISBLANK(W69)),"",IF(AND(G69="-",M69="-",S69="-",Y69="-"),"-",IF(AND(G69="-",ISBLANK(K69),ISBLANK(Q69),ISBLANK(W69)),"-",IF(AND(G69="-",M69="-",ISBLANK(Q69),ISBLANK(W69)),"-",IF(AND(G69="-",M69="-",S69="-",ISBLANK(W69)),"-",MIN(G69,M69,S69,Y69)))))) | AG69: =IF(AB69="","",COUNTIF(AB11:AB69,"-")) | AO69: =IF(AB69="","",IF(AB69="","",IF(AN69="0","0",COUNTIF(AN11:AN68,AN69)))) | AV69: BYE | AW69: =COUNTIF(#REF!,"AA") -> #REF! | AX69: =IF(BB69="","",COUNTIF(BB11:BB69,"-")) | BA69: BYE
A70: 60 | AB70: =IF(AND(ISBLANK(E70),ISBLANK(K70),ISBLANK(Q70),ISBLANK(W70)),"",IF(AND(G70="-",M70="-",S70="-",Y70="-"),"-",IF(AND(G70="-",ISBLANK(K70),ISBLANK(Q70),ISBLANK(W70)),"-",IF(AND(G70="-",M70="-",ISBLANK(Q70),ISBLANK(W70)),"-",IF(AND(G70="-",M70="-",S70="-",ISBLANK(W70)),"-",MIN(G70,M70,S70,Y70)))))) | AG70: =IF(AB70="","",COUNTIF(AB11:AB70,"-")) | AO70: =IF(AB70="","",IF(AN70="0","0",COUNTIF(AN11:AN69,AN70))) | AV70: BYE | AW70: =COUNTIF(#REF!,"AA") -> #REF! | AX70: =IF(BB70="","",COUNTIF(BB11:BB70,"-")) | BA70: BYE
A71: 61 | AB71: =IF(AND(ISBLANK(E71),ISBLANK(K71),ISBLANK(Q71),ISBLANK(W71)),"",IF(AND(G71="-",M71="-",S71="-",Y71="-"),"-",IF(AND(G71="-",ISBLANK(K71),ISBLANK(Q71),ISBLANK(W71)),"-",IF(AND(G71="-",M71="-",ISBLANK(Q71),ISBLANK(W71)),"-",IF(AND(G71="-",M71="-",S71="-",ISBLANK(W71)),"-",MIN(G71,M71,S71,Y71)))))) | AG71: =IF(AB71="","",COUNTIF(AB11:AB71,"-")) | AO71: =IF(AB71="","",IF(AN71="0","0",COUNTIF(AN51:AN70,AN71))) | AV71: BYE | AW71: =COUNTIF(#REF!,"AA") -> #REF! | AX71: =IF(BB71="","",COUNTIF(BB11:BB71,"-")) | BA71: BYE
A72: 62 | AB72: =IF(AND(ISBLANK(E72),ISBLANK(K72),ISBLANK(Q72),ISBLANK(W72)),"",IF(AND(G72="-",M72="-",S72="-",Y72="-"),"-",IF(AND(G72="-",ISBLANK(K72),ISBLANK(Q72),ISBLANK(W72)),"-",IF(AND(G72="-",M72="-",ISBLANK(Q72),ISBLANK(W72)),"-",IF(AND(G72="-",M72="-",S72="-",ISBLANK(W72)),"-",MIN(G72,M72,S72,Y72)))))) | AG72: =IF(AB72="","",COUNTIF(AB11:AB72,"-")) | AO72: =IF(AB72="","",IF(AN72="0","0",COUNTIF(AN11:AN71,AN72))) | AV72: BYE | AW72: =COUNTIF(#REF!,"AA") -> #REF! | AX72: =IF(BB72="","",COUNTIF(BB11:BB72,"-")) | BA72: BYE
A73: 63 | AB73: =IF(AND(ISBLANK(E73),ISBLANK(K73),ISBLANK(Q73),ISBLANK(W73)),"",IF(AND(G73="-",M73="-",S73="-",Y73="-"),"-",IF(AND(G73="-",ISBLANK(K73),ISBLANK(Q73),ISBLANK(W73)),"-",IF(AND(G73="-",M73="-",ISBLANK(Q73),ISBLANK(W73)),"-",IF(AND(G73="-",M73="-",S73="-",ISBLANK(W73)),"-",MIN(G73,M73,S73,Y73)))))) | AG73: =IF(AB73="","",COUNTIF(AB11:AB73,"-")) | AO73: =IF(AB73="","",IF(AN73="0","0",COUNTIF(AN11:AN72,AN73))) | AV73: BYE | AW73: =COUNTIF(#REF!,"AA") -> #REF! | AX73: =IF(BB73="","",COUNTIF(BB11:BB73,"-")) | BA73: BYE
A74: 64 | AB74: =IF(AND(ISBLANK(E74),ISBLANK(K74),ISBLANK(Q74),ISBLANK(W74)),"",IF(AND(G74="-",M74="-",S74="-",Y74="-"),"-",IF(AND(G74="-",ISBLANK(K74),ISBLANK(Q74),ISBLANK(W74)),"-",IF(AND(G74="-",M74="-",ISBLANK(Q74),ISBLANK(W74)),"-",IF(AND(G74="-",M74="-",S74="-",ISBLANK(W74)),"-",MIN(G74,M74,S74,Y74)))))) | AG74: =IF(AB74="","",COUNTIF(AB11:AB74,"-")) | AO74: =IF(AB74="","",IF(AN74="0","0",COUNTIF(AN11:AN73,AN74))) | AV74: BYE | AW74: =COUNTIF(#REF!,"AA") -> #REF! | AX74: =IF(BB74="","",COUNTIF(BB11:BB74,"-")) | BA74: BYE
A75: 65 | AB75: =IF(AND(ISBLANK(E75),ISBLANK(K75),ISBLANK(Q75),ISBLANK(W75)),"",IF(AND(G75="-",M75="-",S75="-",Y75="-"),"-",IF(AND(G75="-",ISBLANK(K75),ISBLANK(Q75),ISBLANK(W75)),"-",IF(AND(G75="-",M75="-",ISBLANK(Q75),ISBLANK(W75)),"-",IF(AND(G75="-",M75="-",S75="-",ISBLANK(W75)),"-",MIN(G75,M75,S75,Y75)))))) | AG75: =IF(AB75="","",COUNTIF(AB11:AB75,"-")) | AO75: =IF(AB75="","",IF(AN75="0","0",COUNTIF(AN11:AN74,AN75))) | AV75: BYE | AW75: =COUNTIF(#REF!,"AA") -> #REF! | AX75: =IF(BB75="","",COUNTIF(BB11:BB75,"-")) | BA75: BYE
A76: 66 | AB76: =IF(AND(ISBLANK(E76),ISBLANK(K76),ISBLANK(Q76),ISBLANK(W76)),"",IF(AND(G76="-",M76="-",S76="-",Y76="-"),"-",IF(AND(G76="-",ISBLANK(K76),ISBLANK(Q76),ISBLANK(W76)),"-",IF(AND(G76="-",M76="-",ISBLANK(Q76),ISBLANK(W76)),"-",IF(AND(G76="-",M76="-",S76="-",ISBLANK(W76)),"-",MIN(G76,M76,S76,Y76)))))) | AG76: =IF(AB76="","",COUNTIF(AB11:AB76,"-")) | AO76: =IF(AB76="","",IF(AN76="0","0",COUNTIF(AN11:AN75,AN76))) | AV76: BYE | AW76: =COUNTIF(#REF!,"AA") -> #REF! | AX76: =IF(BB76="","",COUNTIF(BB11:BB76,"-")) | BA76: BYE
A77: 67 | AB77: =IF(AND(ISBLANK(E77),ISBLANK(K77),ISBLANK(Q77),ISBLANK(W77)),"",IF(AND(G77="-",M77="-",S77="-",Y77="-"),"-",IF(AND(G77="-",ISBLANK(K77),ISBLANK(Q77),ISBLANK(W77)),"-",IF(AND(G77="-",M77="-",ISBLANK(Q77),ISBLANK(W77)),"-",IF(AND(G77="-",M77="-",S77="-",ISBLANK(W77)),"-",MIN(G77,M77,S77,Y77)))))) | AG77: =IF(AB77="","",COUNTIF(AB11:AB77,"-")) | AO77: =IF(AB77="","",IF(AN77="0","0",COUNTIF(AN11:AN76,AN77))) | AV77: BYE | AW77: =COUNTIF(#REF!,"AA") -> #REF! | AX77: =IF(BB77="","",COUNTIF(BB11:BB77,"-")) | BA77: BYE
A78: 68 | AB78: =IF(AND(ISBLANK(E78),ISBLANK(K78),ISBLANK(Q78),ISBLANK(W78)),"",IF(AND(G78="-",M78="-",S78="-",Y78="-"),"-",IF(AND(G78="-",ISBLANK(K78),ISBLANK(Q78),ISBLANK(W78)),"-",IF(AND(G78="-",M78="-",ISBLANK(Q78),ISBLANK(W78)),"-",IF(AND(G78="-",M78="-",S78="-",ISBLANK(W78)),"-",MIN(G78,M78,S78,Y78)))))) | AG78: =IF(AB78="","",COUNTIF(AB11:AB78,"-")) | AO78: =IF(AB78="","",IF(AN78="0","0",COUNTIF(AN11:AN77,AN78))) | AV78: BYE | AW78: =COUNTIF(#REF!,"AA") -> #REF! | AX78: =IF(BB78="","",COUNTIF(BB11:BB78,"-")) | BA78: BYE
A79: 69 | AB79: =IF(AND(ISBLANK(E79),ISBLANK(K79),ISBLANK(Q79),ISBLANK(W79)),"",IF(AND(G79="-",M79="-",S79="-",Y79="-"),"-",IF(AND(G79="-",ISBLANK(K79),ISBLANK(Q79),ISBLANK(W79)),"-",IF(AND(G79="-",M79="-",ISBLANK(Q79),ISBLANK(W79)),"-",IF(AND(G79="-",M79="-",S79="-",ISBLANK(W79)),"-",MIN(G79,M79,S79,Y79)))))) | AG79: =IF(AB79="","",COUNTIF(AB11:AB79,"-")) | AO79: =IF(AB79="","",IF(AN79="0","0",COUNTIF(AN11:AN78,AN79))) | AV79: BYE | AW79: =COUNTIF(#REF!,"AA") -> #REF! | AX79: =IF(BB79="","",COUNTIF(BB11:BB79,"-")) | BA79: BYE
A80: 70 | AB80: =IF(AND(ISBLANK(E80),ISBLANK(K80),ISBLANK(Q80),ISBLANK(W80)),"",IF(AND(G80="-",M80="-",S80="-",Y80="-"),"-",IF(AND(G80="-",ISBLANK(K80),ISBLANK(Q80),ISBLANK(W80)),"-",IF(AND(G80="-",M80="-",ISBLANK(Q80),ISBLANK(W80)),"-",IF(AND(G80="-",M80="-",S80="-",ISBLANK(W80)),"-",MIN(G80,M80,S80,Y80)))))) | AG80: =IF(AB80="","",COUNTIF(AB11:AB80,"-")) | AO80: =IF(AB80="","",IF(AN80="0","0",COUNTIF(AN11:AN79,AN80))) | AV80: BYE | AW80: =COUNTIF(#REF!,"AA") -> #REF! | AX80: =IF(BB80="","",COUNTIF(BB11:BB80,"-")) | BA80: BYE
A81: 71 | AB81: =IF(AND(ISBLANK(E81),ISBLANK(K81),ISBLANK(Q81),ISBLANK(W81)),"",IF(AND(G81="-",M81="-",S81="-",Y81="-"),"-",IF(AND(G81="-",ISBLANK(K81),ISBLANK(Q81),ISBLANK(W81)),"-",IF(AND(G81="-",M81="-",ISBLANK(Q81),ISBLANK(W81)),"-",IF(AND(G81="-",M81="-",S81="-",ISBLANK(W81)),"-",MIN(G81,M81,S81,Y81)))))) | AG81: =IF(AB81="","",COUNTIF(AB11:AB81,"-")) | AO81: =IF(AB81="","",IF(AN81="0","0",COUNTIF(AN11:AN80,AN81))) | AV81: BYE | AW81: =COUNTIF(#REF!,"AA") -> #REF! | AX81: =IF(BB81="","",COUNTIF(BB11:BB81,"-")) | BA81: BYE
A82: 72 | AB82: =IF(AND(ISBLANK(E82),ISBLANK(K82),ISBLANK(Q82),ISBLANK(W82)),"",IF(AND(G82="-",M82="-",S82="-",Y82="-"),"-",IF(AND(G82="-",ISBLANK(K82),ISBLANK(Q82),ISBLANK(W82)),"-",IF(AND(G82="-",M82="-",ISBLANK(Q82),ISBLANK(W82)),"-",IF(AND(G82="-",M82="-",S82="-",ISBLANK(W82)),"-",MIN(G82,M82,S82,Y82)))))) | AG82: =IF(AB82="","",COUNTIF(AB11:AB82,"-")) | AO82: =IF(AB82="","",IF(AN82="0","0",COUNTIF(AN11:AN81,AN82))) | AV82: BYE | AW82: =COUNTIF(#REF!,"AA") -> #REF! | AX82: =IF(BB82="","",COUNTIF(BB11:BB82,"-")) | BA82: BYE
A83: 73 | AB83: =IF(AND(ISBLANK(E83),ISBLANK(K83),ISBLANK(Q83),ISBLANK(W83)),"",IF(AND(G83="-",M83="-",S83="-",Y83="-"),"-",IF(AND(G83="-",ISBLANK(K83),ISBLANK(Q83),ISBLANK(W83)),"-",IF(AND(G83="-",M83="-",ISBLANK(Q83),ISBLANK(W83)),"-",IF(AND(G83="-",M83="-",S83="-",ISBLANK(W83)),"-",MIN(G83,M83,S83,Y83)))))) | AG83: =IF(AB83="","",COUNTIF(AB11:AB83,"-")) | AO83: =IF(AB83="","",IF(AN83="0","0",COUNTIF(AN11:AN82,AN83))) | AV83: BYE | AW83: =COUNTIF(#REF!,"AA") -> #REF! | AX83: =IF(BB83="","",COUNTIF(BB11:BB83,"-")) | BA83: BYE
A84: 74 | AB84: =IF(AND(ISBLANK(E84),ISBLANK(K84),ISBLANK(Q84),ISBLANK(W84)),"",IF(AND(G84="-",M84="-",S84="-",Y84="-"),"-",IF(AND(G84="-",ISBLANK(K84),ISBLANK(Q84),ISBLANK(W84)),"-",IF(AND(G84="-",M84="-",ISBLANK(Q84),ISBLANK(W84)),"-",IF(AND(G84="-",M84="-",S84="-",ISBLANK(W84)),"-",MIN(G84,M84,S84,Y84)))))) | AG84: =IF(AB84="","",COUNTIF(AB11:AB84,"-")) | AO84: =IF(AB84="","",IF(AN84="0","0",COUNTIF(AN11:AN83,AN84))) | AV84: BYE | AW84: =COUNTIF(#REF!,"AA") -> #REF! | AX84: =IF(BB84="","",COUNTIF(BB11:BB84,"-")) | BA84: BYE
A85: 75 | AB85: =IF(AND(ISBLANK(E85),ISBLANK(K85),ISBLANK(Q85),ISBLANK(W85)),"",IF(AND(G85="-",M85="-",S85="-",Y85="-"),"-",IF(AND(G85="-",ISBLANK(K85),ISBLANK(Q85),ISBLANK(W85)),"-",IF(AND(G85="-",M85="-",ISBLANK(Q85),ISBLANK(W85)),"-",IF(AND(G85="-",M85="-",S85="-",ISBLANK(W85)),"-",MIN(G85,M85,S85,Y85)))))) | AG85: =IF(AB85="","",COUNTIF(AB11:AB85,"-")) | AO85: =IF(AB85="","",IF(AN85="0","0",COUNTIF(AN11:AN84,AN85))) | AV85: BYE | AW85: =COUNTIF(#REF!,"AA") -> #REF! | AX85: =IF(BB85="","",COUNTIF(BB11:BB85,"-")) | BA85: BYE
A86: 76 | AB86: =IF(AND(ISBLANK(E86),ISBLANK(K86),ISBLANK(Q86),ISBLANK(W86)),"",IF(AND(G86="-",M86="-",S86="-",Y86="-"),"-",IF(AND(G86="-",ISBLANK(K86),ISBLANK(Q86),ISBLANK(W86)),"-",IF(AND(G86="-",M86="-",ISBLANK(Q86),ISBLANK(W86)),"-",IF(AND(G86="-",M86="-",S86="-",ISBLANK(W86)),"-",MIN(G86,M86,S86,Y86)))))) | AG86: =IF(AB86="","",COUNTIF(AB11:AB86,"-")) | AO86: =IF(AB86="","",IF(AN86="0","0",COUNTIF(AN11:AN85,AN86))) | AV86: BYE | AW86: =COUNTIF(#REF!,"AA") -> #REF! | AX86: =IF(BB86="","",COUNTIF(BB11:BB86,"-")) | BA86: BYE
A87: 77 | AB87: =IF(AND(ISBLANK(E87),ISBLANK(K87),ISBLANK(Q87),ISBLANK(W87)),"",IF(AND(G87="-",M87="-",S87="-",Y87="-"),"-",IF(AND(G87="-",ISBLANK(K87),ISBLANK(Q87),ISBLANK(W87)),"-",IF(AND(G87="-",M87="-",ISBLANK(Q87),ISBLANK(W87)),"-",IF(AND(G87="-",M87="-",S87="-",ISBLANK(W87)),"-",MIN(G87,M87,S87,Y87)))))) | AG87: =IF(AB87="","",COUNTIF(AB11:AB87,"-")) | AO87: =IF(AB87="","",IF(AN87="0","0",COUNTIF(AN11:AN86,AN87))) | AV87: BYE | AW87: =COUNTIF(#REF!,"AA") -> #REF! | AX87: =IF(BB87="","",COUNTIF(BB11:BB87,"-")) | BA87: BYE
A88: 78 | AB88: =IF(AND(ISBLANK(E88),ISBLANK(K88),ISBLANK(Q88),ISBLANK(W88)),"",IF(AND(G88="-",M88="-",S88="-",Y88="-"),"-",IF(AND(G88="-",ISBLANK(K88),ISBLANK(Q88),ISBLANK(W88)),"-",IF(AND(G88="-",M88="-",ISBLANK(Q88),ISBLANK(W88)),"-",IF(AND(G88="-",M88="-",S88="-",ISBLANK(W88)),"-",MIN(G88,M88,S88,Y88)))))) | AG88: =IF(AB88="","",COUNTIF(AB11:AB88,"-")) | AO88: =IF(AB88="","",IF(AN88="0","0",COUNTIF(AN11:AN87,AN88))) | AV88: BYE | AW88: =COUNTIF(#REF!,"AA") -> #REF! | AX88: =IF(BB88="","",COUNTIF(BB11:BB88,"-")) | BA88: BYE
A89: 79 | AB89: =IF(AND(ISBLANK(E89),ISBLANK(K89),ISBLANK(Q89),ISBLANK(W89)),"",IF(AND(G89="-",M89="-",S89="-",Y89="-"),"-",IF(AND(G89="-",ISBLANK(K89),ISBLANK(Q89),ISBLANK(W89)),"-",IF(AND(G89="-",M89="-",ISBLANK(Q89),ISBLANK(W89)),"-",IF(AND(G89="-",M89="-",S89="-",ISBLANK(W89)),"-",MIN(G89,M89,S89,Y89)))))) | AG89: =IF(AB89="","",COUNTIF(AB11:AB89,"-")) | AO89: =IF(AB89="","",IF(AN89="0","0",COUNTIF(AN11:AN88,AN89))) | AV89: BYE | AW89: =COUNTIF(#REF!,"AA") -> #REF! | AX89: =IF(BB89="","",COUNTIF(BB11:BB89,"-")) | BA89: BYE
A90: 80 | AB90: =IF(AND(ISBLANK(E90),ISBLANK(K90),ISBLANK(Q90),ISBLANK(W90)),"",IF(AND(G90="-",M90="-",S90="-",Y90="-"),"-",IF(AND(G90="-",ISBLANK(K90),ISBLANK(Q90),ISBLANK(W90)),"-",IF(AND(G90="-",M90="-",ISBLANK(Q90),ISBLANK(W90)),"-",IF(AND(G90="-",M90="-",S90="-",ISBLANK(W90)),"-",MIN(G90,M90,S90,Y90)))))) | AG90: =IF(AB90="","",COUNTIF(AB11:AB90,"-")) | AO90: =IF(AB90="","",IF(AN90="0","0",COUNTIF(AN11:AN89,AN90))) | AV90: BYE | AW90: =COUNTIF(#REF!,"AA") -> #REF! | AX90: =IF(BB90="","",COUNTIF(BB11:BB90,"-")) | BA90: BYE
A91: 81 | AB91: =IF(AND(ISBLANK(E91),ISBLANK(K91),ISBLANK(Q91),ISBLANK(W91)),"",IF(AND(G91="-",M91="-",S91="-",Y91="-"),"-",IF(AND(G91="-",ISBLANK(K91),ISBLANK(Q91),ISBLANK(W91)),"-",IF(AND(G91="-",M91="-",ISBLANK(Q91),ISBLANK(W91)),"-",IF(AND(G91="-",M91="-",S91="-",ISBLANK(W91)),"-",MIN(G91,M91,S91,Y91)))))) | AG91: =IF(AB91="","",COUNTIF(AB11:AB91,"-")) | AO91: =IF(AB91="","",IF(AN91="0","0",COUNTIF(AN11:AN90,AN91))) | AV91: BYE | AW91: =COUNTIF(#REF!,"AA") -> #REF! | AX91: =IF(BB91="","",COUNTIF(BB11:BB91,"-")) | BA91: BYE
A92: 82 | AB92: =IF(AND(ISBLANK(E92),ISBLANK(K92),ISBLANK(Q92),ISBLANK(W92)),"",IF(AND(G92="-",M92="-",S92="-",Y92="-"),"-",IF(AND(G92="-",ISBLANK(K92),ISBLANK(Q92),ISBLANK(W92)),"-",IF(AND(G92="-",M92="-",ISBLANK(Q92),ISBLANK(W92)),"-",IF(AND(G92="-",M92="-",S92="-",ISBLANK(W92)),"-",MIN(G92,M92,S92,Y92)))))) | AG92: =IF(AB92="","",COUNTIF(AB11:AB92,"-")) | AO92: =IF(AB92="","",IF(AN92="0","0",COUNTIF(AN11:AN91,AN92))) | AV92: BYE | AW92: =COUNTIF(#REF!,"AA") -> #REF! | AX92: =IF(BB92="","",COUNTIF(BB11:BB92,"-")) | BA92: BYE
A93: 83 | AB93: =IF(AND(ISBLANK(E93),ISBLANK(K93),ISBLANK(Q93),ISBLANK(W93)),"",IF(AND(G93="-",M93="-",S93="-",Y93="-"),"-",IF(AND(G93="-",ISBLANK(K93),ISBLANK(Q93),ISBLANK(W93)),"-",IF(AND(G93="-",M93="-",ISBLANK(Q93),ISBLANK(W93)),"-",IF(AND(G93="-",M93="-",S93="-",ISBLANK(W93)),"-",MIN(G93,M93,S93,Y93)))))) | AG93: =IF(AB93="","",COUNTIF(AB11:AB93,"-")) | AO93: =IF(AB93="","",IF(AN93="0","0",COUNTIF(AN11:AN92,AN93))) | AV93: BYE | AW93: =COUNTIF(#REF!,"AA") -> #REF! | AX93: =IF(BB93="","",COUNTIF(BB11:BB93,"-")) | BA93: BYE
A94: 84 | AB94: =IF(AND(ISBLANK(E94),ISBLANK(K94),ISBLANK(Q94),ISBLANK(W94)),"",IF(AND(G94="-",M94="-",S94="-",Y94="-"),"-",IF(AND(G94="-",ISBLANK(K94),ISBLANK(Q94),ISBLANK(W94)),"-",IF(AND(G94="-",M94="-",ISBLANK(Q94),ISBLANK(W94)),"-",IF(AND(G94="-",M94="-",S94="-",ISBLANK(W94)),"-",MIN(G94,M94,S94,Y94)))))) | AG94: =IF(AB94="","",COUNTIF(AB11:AB94,"-")) | AO94: =IF(AB94="","",IF(AN94="0","0",COUNTIF(AN11:AN93,AN94))) | AV94: BYE | AW94: =COUNTIF(#REF!,"AA") -> #REF! | AX94: =IF(BB94="","",COUNTIF(BB11:BB94,"-")) | BA94: BYE
A95: 85 | AB95: =IF(AND(ISBLANK(E95),ISBLANK(K95),ISBLANK(Q95),ISBLANK(W95)),"",IF(AND(G95="-",M95="-",S95="-",Y95="-"),"-",IF(AND(G95="-",ISBLANK(K95),ISBLANK(Q95),ISBLANK(W95)),"-",IF(AND(G95="-",M95="-",ISBLANK(Q95),ISBLANK(W95)),"-",IF(AND(G95="-",M95="-",S95="-",ISBLANK(W95)),"-",MIN(G95,M95,S95,Y95)))))) | AG95: =IF(AB95="","",COUNTIF(AB11:AB95,"-")) | AO95: =IF(AB95="","",IF(AN95="0","0",COUNTIF(AN11:AN94,AN95))) | AV95: BYE | AW95: =COUNTIF(#REF!,"AA") -> #REF! | AX95: =IF(BB95="","",COUNTIF(BB11:BB95,"-")) | BA95: BYE
A96: 86 | AB96: =IF(AND(ISBLANK(E96),ISBLANK(K96),ISBLANK(Q96),ISBLANK(W96)),"",IF(AND(G96="-",M96="-",S96="-",Y96="-"),"-",IF(AND(G96="-",ISBLANK(K96),ISBLANK(Q96),ISBLANK(W96)),"-",IF(AND(G96="-",M96="-",ISBLANK(Q96),ISBLANK(W96)),"-",IF(AND(G96="-",M96="-",S96="-",ISBLANK(W96)),"-",MIN(G96,M96,S96,Y96)))))) | AG96: =IF(AB96="","",COUNTIF(AB11:AB96,"-")) | AO96: =IF(AB96="","",IF(AN96="0","0",COUNTIF(AN11:AN95,AN96))) | AV96: BYE | AW96: =COUNTIF(#REF!,"AA") -> #REF! | AX96: =IF(BB96="","",COUNTIF(BB11:BB96,"-")) | BA96: BYE
A97: 87 | AB97: =IF(AND(ISBLANK(E97),ISBLANK(K97),ISBLANK(Q97),ISBLANK(W97)),"",IF(AND(G97="-",M97="-",S97="-",Y97="-"),"-",IF(AND(G97="-",ISBLANK(K97),ISBLANK(Q97),ISBLANK(W97)),"-",IF(AND(G97="-",M97="-",ISBLANK(Q97),ISBLANK(W97)),"-",IF(AND(G97="-",M97="-",S97="-",ISBLANK(W97)),"-",MIN(G97,M97,S97,Y97)))))) | AG97: =IF(AB97="","",COUNTIF(AB11:AB97,"-")) | AO97: =IF(AB97="","",IF(AN97="0","0",COUNTIF(AN11:AN96,AN97))) | AV97: BYE | AW97: =COUNTIF(#REF!,"AA") -> #REF! | AX97: =IF(BB97="","",COUNTIF(BB11:BB97,"-")) | BA97: BYE
A98: 88 | AB98: =IF(AND(ISBLANK(E98),ISBLANK(K98),ISBLANK(Q98),ISBLANK(W98)),"",IF(AND(G98="-",M98="-",S98="-",Y98="-"),"-",IF(AND(G98="-",ISBLANK(K98),ISBLANK(Q98),ISBLANK(W98)),"-",IF(AND(G98="-",M98="-",ISBLANK(Q98),ISBLANK(W98)),"-",IF(AND(G98="-",M98="-",S98="-",ISBLANK(W98)),"-",MIN(G98,M98,S98,Y98)))))) | AG98: =IF(AB98="","",COUNTIF(AB11:AB98,"-")) | AO98: =IF(AB98="","",IF(AN98="0","0",COUNTIF(AN11:AN97,AN98))) | AV98: BYE | AW98: =COUNTIF(#REF!,"AA") -> #REF! | AX98: =IF(BB98="","",COUNTIF(BB11:BB98,"-")) | BA98: BYE
A99: 89 | AB99: =IF(AND(ISBLANK(E99),ISBLANK(K99),ISBLANK(Q99),ISBLANK(W99)),"",IF(AND(G99="-",M99="-",S99="-",Y99="-"),"-",IF(AND(G99="-",ISBLANK(K99),ISBLANK(Q99),ISBLANK(W99)),"-",IF(AND(G99="-",M99="-",ISBLANK(Q99),ISBLANK(W99)),"-",IF(AND(G99="-",M99="-",S99="-",ISBLANK(W99)),"-",MIN(G99,M99,S99,Y99)))))) | AG99: =IF(AB99="","",COUNTIF(AB11:AB99,"-")) | AO99: =IF(AB99="","",IF(AN99="0","0",COUNTIF(AN11:AN98,AN99))) | AV99: BYE | AW99: =COUNTIF(#REF!,"AA") -> #REF! | AX99: =IF(BB99="","",COUNTIF(BB11:BB99,"-")) | BA99: BYE
A100: 90 | AB100: =IF(AND(ISBLANK(E100),ISBLANK(K100),ISBLANK(Q100),ISBLANK(W100)),"",IF(AND(G100="-",M100="-",S100="-",Y100="-"),"-",IF(AND(G100="-",ISBLANK(K100),ISBLANK(Q100),ISBLANK(W100)),"-",IF(AND(G100="-",M100="-",ISBLANK(Q100),ISBLANK(W100)),"-",IF(AND(G100="-",M100="-",S100="-",ISBLANK(W100)),"-",MIN(G100,M100,S100,Y100)))))) | AG100: =IF(AB100="","",COUNTIF(AB11:AB100,"-")) | AO100: =IF(AB100="","",IF(AN100="0","0",COUNTIF(AN11:AN99,AN100))) | AV100: BYE | AW100: =COUNTIF(#REF!,"AA") -> #REF! | AX100: =IF(BB100="","",COUNTIF(BB11:BB100,"-")) | BA100: BYE
A101: 91 | AB101: =IF(AND(ISBLANK(E101),ISBLANK(K101),ISBLANK(Q101),ISBLANK(W101)),"",IF(AND(G101="-",M101="-",S101="-",Y101="-"),"-",IF(AND(G101="-",ISBLANK(K101),ISBLANK(Q101),ISBLANK(W101)),"-",IF(AND(G101="-",M101="-",ISBLANK(Q101),ISBLANK(W101)),"-",IF(AND(G101="-",M101="-",S101="-",ISBLANK(W101)),"-",MIN(G101,M101,S101,Y101)))))) | AG101: =IF(AB101="","",COUNTIF(AB11:AB101,"-")) | AO101: =IF(AB101="","",IF(AN101="0","0",COUNTIF(AN11:AN100,AN101))) | AV101: BYE | AW101: =COUNTIF(#REF!,"AA") -> #REF! | AX101: =IF(BB101="","",COUNTIF(BB11:BB101,"-")) | BA101: BYE
A102: 92 | AB102: =IF(AND(ISBLANK(E102),ISBLANK(K102),ISBLANK(Q102),ISBLANK(W102)),"",IF(AND(G102="-",M102="-",S102="-",Y102="-"),"-",IF(AND(G102="-",ISBLANK(K102),ISBLANK(Q102),ISBLANK(W102)),"-",IF(AND(G102="-",M102="-",ISBLANK(Q102),ISBLANK(W102)),"-",IF(AND(G102="-",M102="-",S102="-",ISBLANK(W102)),"-",MIN(G102,M102,S102,Y102)))))) | AG102: =IF(AB102="","",COUNTIF(AB11:AB102,"-")) | AO102: =IF(AB102="","",IF(AN102="0","0",COUNTIF(AN11:AN101,AN102))) | AV102: BYE | AW102: =COUNTIF(#REF!,"AA") -> #REF! | AX102: =IF(BB102="","",COUNTIF(BB11:BB102,"-")) | BA102: BYE
A103: 93 | AB103: =IF(AND(ISBLANK(E103),ISBLANK(K103),ISBLANK(Q103),ISBLANK(W103)),"",IF(AND(G103="-",M103="-",S103="-",Y103="-"),"-",IF(AND(G103="-",ISBLANK(K103),ISBLANK(Q103),ISBLANK(W103)),"-",IF(AND(G103="-",M103="-",ISBLANK(Q103),ISBLANK(W103)),"-",IF(AND(G103="-",M103="-",S103="-",ISBLANK(W103)),"-",MIN(G103,M103,S103,Y103)))))) | AG103: =IF(AB103="","",COUNTIF(AB11:AB103,"-")) | AO103: =IF(AB103="","",IF(AN103="0","0",COUNTIF(AN11:AN102,AN103))) | AV103: BYE | AW103: =COUNTIF(#REF!,"AA") -> #REF! | AX103: =IF(BB103="","",COUNTIF(BB11:BB103,"-")) | BA103: BYE
...

Sheet INFO
A1: event name | C1: Slalom Petersburg battle
E2: менять зеленое
A3: discipline | C3: Giant slalom
E4: красное не менять
A5: date | C5: September, 7
A7: place | C7: Murinskiy park
A9: date & place | C9: =C5&" • "&C7 -> September, 7 • Murinskiy park

Sheet Kids
D1: =INFO!C1 -> Slalom Petersburg battle | AZ1: Database development by
D2: =INFO!C9 -> September, 7 • Murinskiy park | AZ2: Dan Gesmer, SeismicSK8@aol.com
D3: =INFO!C3&" / Kids" -> Giant slalom / Kids
A6: 0.1 | B6: secs penalty per hit cone | D6: Under "Raw Time," enter "DQ" or"DNF" for
A7: 20 | B7: maximum hit cones before DQ | D7: "Disqualified" and "DNR" for "Did Not Race."
B9: Bib Number | C9: Racer Name | D9: Run 1 | J9: Run 2 | P9: Run 3 | V9: Run 4 | AA9: Qual Rank (w/out DQs) | AB9: Best Time | AC9: Final Position | AD9: Qual Rank (w/DQs sequenced) | AE9: Racer No. & Name | AF9: Best Time | AG9: Double DQ Place Factor | AH9: No. of Ties per Best Time | AI9: Tied-at Time | AJ9: Tied-at Time Rank | AK9: Run 1 Time w/DQ Adjust | AL9: Run 2 Time w/DQ Adjust | AM9: Total Time w/DQ Adjust | AN9: Total Time Rank | AO9: Total Tie Place Factor | AP9: Tie 1 Total Time Rank | AQ9: Tie 1 Place Factor | AR9: Tie 2 Total Time Rank | AS9: Tie 2 Place Factor | AT9: Tie 3 Total Time Rank | AU9: Tie 3 Place Factor | AV9: Placed Racer No. & Name | AW9: Withdrawal Place Factor | AX9: Double DQ Place Factor 2 | AY9: Final Spot - Withdrawals | AZ9: Final Position | BA9: Racer No. & Name | BB9: Best Time
D10: Reaction Time | E10: Raw Time | F10: Cones | G10: Final Time | H10: Run Rank | J10: Reaction Time | K10: Raw Time | L10: Cones | M10: Final Time | N10: Run Rank | P10: Reaction Time | Q10: Raw Time | R10: Cones | S10: Final Time | T10: Run Rank | V10: Reaction Time | W10: Raw Time | X10: Cones | Y10: Final Time | Z10: Run Rank
A11: 1 | C11: Matvei Kudimov | E11: 19.664 | F11: 0 | G11: {=IF(LEFT(E11:E110,1)="D","-",IF(F11:F110>A7,"-",IF(E11:E110>0,E11:E110+F11:F110*A6,"")))} -> 19.664 | H11: {=IF(G11:G110="","",IF(G11:G110="-","",RANK(G11:G110,G11:G110,1)))} -> 1 | K11: 19.556 | L11: 0 | M11: {=IF(LEFT(K11:K110,1)="D","-",IF(L11:L110>A7,"-",IF(K11:K110>0,K11:K110+L11:L110*A6,"")))} -> 19.556 | N11: {=IF(M11:M110="","",IF(M11:M110="-","",RANK(M11:M110,M11:M110,1)))} -> 1 | S11: {=IF(LEFT(Q11:Q110,1)="D","-",IF(R11:R110>A7,"-",IF(Q11:Q110>0,Q11:Q110+R11:R110*A6,"")))} | T11: {=IF(S11:S110="","",IF(S11:S110="-","",RANK(S11:S110,S11:S110,1)))} | Y11: {=IF(LEFT(W11:W110,1)="D","-",IF(X11:X110>A7,"-",IF(W11:W110>0,W11:W110+X11:X110*A6,"")))} | Z11: {=IF(Y11:Y110="","",IF(Y11:Y110="-","",RANK(Y11:Y110,Y11:Y110,1)))} | AA11: {=IF(AB11:AB110="","",IF(AB11:AB110="-","",RANK(AB11:AB110,AB11:AB110,1)))} -> 1 | AB11: =IF(AND(ISBLANK(E11),ISBLANK(K11),ISBLANK(Q11),ISBLANK(W11)),"",IF(AND(G11="-",M11="-",S11="-",Y11="-"),"-",IF(AND(G11="-",ISBLANK(K11),ISBLANK(Q11),ISBLANK(W11)),"-",IF(AND(G11="-",M11="-",ISBLANK(Q11),ISBLANK(W11)),"-",IF(AND(G11="-",M11="-",S11="-",ISBLANK(W11)),"-",MIN(G11,M11,S11,Y11)))))) -> 19.556 | AC11: {=IF(AB11:AB110="","",VLOOKUP(AE11:AE110,AV11:AZ110,5,FALSE))} -> 1 | AD11: {=IF(AB11:AB110="","",IF(AB11:AB110="-",COUNT(AA11:AA110)+AG11:AG110,AA11:AA110+AO11:AO110+AQ11:AQ110+AS11:AS110+AU11:AU110))} -> 1 | AE11: {=IF(B11:B110 ="","",B11:B110 & " ")&C11:C110} -> Matvei Kudimov | AF11: {=AB11:AB110} -> 19.556 | AG11: =IF(AB11="","",COUNTIF(AB11:AB11,"-")) -> 0 | AH11: {=IF(AA11:AA110="","",COUNTIF(AA11:AA110,AA11:AA110)-1)} -> 0 | AI11: {=IF(AB11:AB110="-","",IF(AH11:AH110=0,"",AB11:AB110))} | AJ11: {=IF(AI11:AI110="","",RANK(AI11:AI110,AI11:AI110,1))} | AK11: {=IF(AH11:AH110="","",IF(AH11:AH110=0,"",IF(LEFT(G11:G110,1)="-","199",G11:G110)))} | AL11: {=IF(AH11:AH110="","",IF(AH11:AH110=0,"",IF(LEFT(M11:M110,1)="-","199",M11:M110)))} | AM11: {=IF(ISERROR(AK11:AK110+AL11:AL110)=TRUE,AK11:AK110,AK11:AK110+AL11:AL110)} | AN11: {=IF(AB11:AB110="","",IF(AH11:AH110=0,"0",IF(ISERROR(RANK(AM11:AM110,AM11:AM110,1))=TRUE,"0",RANK(AM11:AM110,AM11:AM110,1))))} -> 0 | AO11: 0 | AP11: {=IF(ISERROR(AH11:AH110)=TRUE,"",IF(AJ11:AJ110=1,AN11:AN110,""))} | AQ11: {=IF(AB11:AB110="","",IF(AP11:AP110="","0",RANK(AP11:AP110,AP11:AP110,1)-1))} -> 0 | AR11: {=IF(ISERROR(AH11:AH110)=TRUE,"",IF(AJ11:AJ110=COUNT(AP11:AP110)+1,AN11:AN110,""))} | AS11: {=IF(AB11:AB110="","",IF(AR11:AR110="","0",RANK(AR11:AR110,AR11:AR110,1)-1))} -> 0 | AT11: {=IF(ISERROR(AH11:AH110)=TRUE,"",IF(AJ11:AJ110=COUNT(AP11:AP110)+COUNT(AR11:AR110)+1,AN11:AN110,""))} | AU11: {=IF(AB11:AB110="","",IF(AT11:AT110="","0",RANK(AT11:AT110,AT11:AT110,1)-1))} -> 0 | AV11: {=BA11:BA110} -> Matvei Kudimov | AW11: =COUNTIF(#REF!,"AA") -> #REF! | AX11: =IF(BB11="","",COUNTIF(BB11:BB11,"-")) -> 0 | AY11: {=IF(BA11:BA110="BYE","",IF(#REF!="W","",IF(#REF!="N",IF(AZ11:AZ110<=COUNT(AA11:AA110),AZ11:AZ110-AW11:AW110,""),IF(AZ11:AZ110<=COUNT(AA11:AA110),AZ11:AZ110-AW11:AW110,AZ11:AZ110-AW11:AW110+AX11:AX110-1))))} -> #REF! | AZ11: {=IF(AB11:AB110="","",IF(AZ10:AZ109+1<=COUNT(AA11:AA110),AZ10:AZ109+1,COUNT(AA11:AA110)+1))} -> 1 | BA11: {=IF(AB11:AB110="","BYE",IF(ISERROR(VLOOKUP(A11:A110,AD11:AE110,2,FALSE))=TRUE,"",VLOOKUP(A11:A110,AD11:AE110,2,FALSE)))} -> Matvei Kudimov | BB11: {=IF(C11:C110="BYE", "",IF(A11:A110="","",IF(ISERROR(VLOOKUP(A11:A110,AD11:AF110,3,FALSE))=TRUE,"",VLOOKUP(A11:A110,AD11:AF110,3,FALSE))))} -> 19.556
A12: 2 | AB12: =IF(AND(ISBLANK(E12),ISBLANK(K12),ISBLANK(Q12),ISBLANK(W12)),"",IF(AND(G12="-",M12="-",S12="-",Y12="-"),"-",IF(AND(G12="-",ISBLANK(K12),ISBLANK(Q12),ISBLANK(W12)),"-",IF(AND(G12="-",M12="-",ISBLANK(Q12),ISBLANK(W12)),"-",IF(AND(G12="-",M12="-",S12="-",ISBLANK(W12)),"-",MIN(G12,M12,S12,Y12)))))) | AG12: =IF(AB12="","",COUNTIF(AB11:AB12,"-")) | AO12: =IF(AB12="","",IF(AN12="0","0",COUNTIF(AN11:AN11,AN12))) | AV12: BYE | AW12: =COUNTIF(#REF!,"AA") -> #REF! | AX12: =IF(BB12="","",COUNTIF(BB11:BB12,"-")) | BA12: BYE
A13: 3 | AB13: =IF(AND(ISBLANK(E13),ISBLANK(K13),ISBLANK(Q13),ISBLANK(W13)),"",IF(AND(G13="-",M13="-",S13="-",Y13="-"),"-",IF(AND(G13="-",ISBLANK(K13),ISBLANK(Q13),ISBLANK(W13)),"-",IF(AND(G13="-",M13="-",ISBLANK(Q13),ISBLANK(W13)),"-",IF(AND(G13="-",M13="-",S13="-",ISBLANK(W13)),"-",MIN(G13,M13,S13,Y13)))))) | AG13: =IF(AB13="","",COUNTIF(AB11:AB13,"-")) | AO13: =IF(AB13="","",IF(AN13="0","0",COUNTIF(AN11:AN12,AN13))) | AV13: BYE | AW13: =COUNTIF(#REF!,"AA") -> #REF! | AX13: =IF(BB13="","",COUNTIF(BB11:BB13,"-")) | BA13: BYE
A14: 4 | AB14: =IF(AND(ISBLANK(E14),ISBLANK(K14),ISBLANK(Q14),ISBLANK(W14)),"",IF(AND(G14="-",M14="-",S14="-",Y14="-"),"-",IF(AND(G14="-",ISBLANK(K14),ISBLANK(Q14),ISBLANK(W14)),"-",IF(AND(G14="-",M14="-",ISBLANK(Q14),ISBLANK(W14)),"-",IF(AND(G14="-",M14="-",S14="-",ISBLANK(W14)),"-",MIN(G14,M14,S14,Y14)))))) | AG14: =IF(AB14="","",COUNTIF(AB11:AB14,"-")) | AO14: =IF(AB14="","",IF(AN14="0","0",COUNTIF(AN11:AN13,AN14))) | AV14: BYE | AW14: =COUNTIF(#REF!,"AA") -> #REF! | AX14: =IF(BB14="","",COUNTIF(BB11:BB14,"-")) | BA14: BYE
A15: 5 | AB15: =IF(AND(ISBLANK(E15),ISBLANK(K15),ISBLANK(Q15),ISBLANK(W15)),"",IF(AND(G15="-",M15="-",S15="-",Y15="-"),"-",IF(AND(G15="-",ISBLANK(K15),ISBLANK(Q15),ISBLANK(W15)),"-",IF(AND(G15="-",M15="-",ISBLANK(Q15),ISBLANK(W15)),"-",IF(AND(G15="-",M15="-",S15="-",ISBLANK(W15)),"-",MIN(G15,M15,S15,Y15)))))) | AG15: =IF(AB15="","",COUNTIF(AB11:AB15,"-")) | AO15: =IF(AB15="","",IF(AN15="0","0",COUNTIF(AN11:AN14,AN15))) | AV15: BYE | AW15: =COUNTIF(#REF!,"AA") -> #REF! | AX15: =IF(BB15="","",COUNTIF(BB11:BB15,"-")) | BA15: BYE
A16: 6 | AB16: =IF(AND(ISBLANK(E16),ISBLANK(K16),ISBLANK(Q16),ISBLANK(W16)),"",IF(AND(G16="-",M16="-",S16="-",Y16="-"),"-",IF(AND(G16="-",ISBLANK(K16),ISBLANK(Q16),ISBLANK(W16)),"-",IF(AND(G16="-",M16="-",ISBLANK(Q16),ISBLANK(W16)),"-",IF(AND(G16="-",M16="-",S16="-",ISBLANK(W16)),"-",MIN(G16,M16,S16,Y16)))))) | AG16: =IF(AB16="","",COUNTIF(AB11:AB16,"-")) | AO16: =IF(AB16="","",IF(AN16="0","0",COUNTIF(AN11:AN15,AN16))) | AV16: BYE | AW16: =COUNTIF(#REF!,"AA") -> #REF! | AX16: =IF(BB16="","",COUNTIF(BB11:BB16,"-")) | BA16: BYE
A17: 7 | AB17: =IF(AND(ISBLANK(E17),ISBLANK(K17),ISBLANK(Q17),ISBLANK(W17)),"",IF(AND(G17="-",M17="-",S17="-",Y17="-"),"-",IF(AND(G17="-",ISBLANK(K17),ISBLANK(Q17),ISBLANK(W17)),"-",IF(AND(G17="-",M17="-",ISBLANK(Q17),ISBLANK(W17)),"-",IF(AND(G17="-",M17="-",S17="-",ISBLANK(W17)),"-",MIN(G17,M17,S17,Y17)))))) | AG17: =IF(AB17="","",COUNTIF(AB11:AB17,"-")) | AO17: =IF(AB17="","",IF(AB17="","",IF(AN17="0","0",COUNTIF(AN11:AN16,AN17)))) | AV17: BYE | AW17: =COUNTIF(#REF!,"AA") -> #REF! | AX17: =IF(BB17="","",COUNTIF(BB11:BB17,"-")) | BA17: BYE
A18: 8 | AB18: =IF(AND(ISBLANK(E18),ISBLANK(K18),ISBLANK(Q18),ISBLANK(W18)),"",IF(AND(G18="-",M18="-",S18="-",Y18="-"),"-",IF(AND(G18="-",ISBLANK(K18),ISBLANK(Q18),ISBLANK(W18)),"-",IF(AND(G18="-",M18="-",ISBLANK(Q18),ISBLANK(W18)),"-",IF(AND(G18="-",M18="-",S18="-",ISBLANK(W18)),"-",MIN(G18,M18,S18,Y18)))))) | AG18: =IF(AB18="","",COUNTIF(AB11:AB18,"-")) | AO18: =IF(AB18="","",IF(AB18="","",IF(AN18="0","0",COUNTIF(AN11:AN17,AN18)))) | AV18: BYE | AW18: =COUNTIF(#REF!,"AA") -> #REF! | AX18: =IF(BB18="","",COUNTIF(BB11:BB18,"-")) | BA18: BYE
A19: 9 | AB19: =IF(AND(ISBLANK(E19),ISBLANK(K19),ISBLANK(Q19),ISBLANK(W19)),"",IF(AND(G19="-",M19="-",S19="-",Y19="-"),"-",IF(AND(G19="-",ISBLANK(K19),ISBLANK(Q19),ISBLANK(W19)),"-",IF(AND(G19="-",M19="-",ISBLANK(Q19),ISBLANK(W19)),"-",IF(AND(G19="-",M19="-",S19="-",ISBLANK(W19)),"-",MIN(G19,M19,S19,Y19)))))) | AG19: =IF(AB19="","",COUNTIF(AB11:AB19,"-")) | AO19: =IF(AB19="","",IF(AB19="","",IF(AN19="0","0",COUNTIF(AN11:AN18,AN19)))) | AV19: BYE | AW19: =COUNTIF(#REF!,"AA") -> #REF! | AX19: =IF(BB19="","",COUNTIF(BB11:BB19,"-")) | BA19: BYE
A20: 10 | AB20: =IF(AND(ISBLANK(E20),ISBLANK(K20),ISBLANK(Q20),ISBLANK(W20)),"",IF(AND(G20="-",M20="-",S20="-",Y20="-"),"-",IF(AND(G20="-",ISBLANK(K20),ISBLANK(Q20),ISBLANK(W20)),"-",IF(AND(G20="-",M20="-",ISBLANK(Q20),ISBLANK(W20)),"-",IF(AND(G20="-",M20="-",S20="-",ISBLANK(W20)),"-",MIN(G20,M20,S20,Y20)))))) | AG20: =IF(AB20="","",COUNTIF(AB11:AB20,"-")) | AO20: =IF(AB20="","",IF(AN20="0","0",COUNTIF(AN11:AN19,AN20))) | AV20: BYE | AW20: =COUNTIF(#REF!,"AA") -> #REF! | AX20: =IF(BB20="","",COUNTIF(BB11:BB20,"-")) | BA20: BYE
A21: 11 | AB21: =IF(AND(ISBLANK(E21),ISBLANK(K21),ISBLANK(Q21),ISBLANK(W21)),"",IF(AND(G21="-",M21="-",S21="-",Y21="-"),"-",IF(AND(G21="-",ISBLANK(K21),ISBLANK(Q21),ISBLANK(W21)),"-",IF(AND(G21="-",M21="-",ISBLANK(Q21),ISBLANK(W21)),"-",IF(AND(G21="-",M21="-",S21="-",ISBLANK(W21)),"-",MIN(G21,M21,S21,Y21)))))) | AG21: =IF(AB21="","",COUNTIF(AB11:AB21,"-")) | AO21: =IF(AB21="","",IF(AN21="0","0",COUNTIF(AN1:AN20,AN21))) | AV21: BYE | AW21: =COUNTIF(#REF!,"AA") -> #REF! | AX21: =IF(BB21="","",COUNTIF(BB11:BB21,"-")) | BA21: BYE
A22: 12 | AB22: =IF(AND(ISBLANK(E22),ISBLANK(K22),ISBLANK(Q22),ISBLANK(W22)),"",IF(AND(G22="-",M22="-",S22="-",Y22="-"),"-",IF(AND(G22="-",ISBLANK(K22),ISBLANK(Q22),ISBLANK(W22)),"-",IF(AND(G22="-",M22="-",ISBLANK(Q22),ISBLANK(W22)),"-",IF(AND(G22="-",M22="-",S22="-",ISBLANK(W22)),"-",MIN(G22,M22,S22,Y22)))))) | AG22: =IF(AB22="","",COUNTIF(AB11:AB22,"-")) | AO22: =IF(AB22="","",IF(AN22="0","0",COUNTIF(AN11:AN21,AN22))) | AV22: BYE | AW22: =COUNTIF(#REF!,"AA") -> #REF! | AX22: =IF(BB22="","",COUNTIF(BB11:BB22,"-")) | BA22: BYE
A23: 13 | AB23: =IF(AND(ISBLANK(E23),ISBLANK(K23),ISBLANK(Q23),ISBLANK(W23)),"",IF(AND(G23="-",M23="-",S23="-",Y23="-"),"-",IF(AND(G23="-",ISBLANK(K23),ISBLANK(Q23),ISBLANK(W23)),"-",IF(AND(G23="-",M23="-",ISBLANK(Q23),ISBLANK(W23)),"-",IF(AND(G23="-",M23="-",S23="-",ISBLANK(W23)),"-",MIN(G23,M23,S23,Y23)))))) | AG23: =IF(AB23="","",COUNTIF(AB11:AB23,"-")) | AO23: =IF(AB23="","",IF(AN23="0","0",COUNTIF(AN11:AN22,AN23))) | AV23: BYE | AW23: =COUNTIF(#REF!,"AA") -> #REF! | AX23: =IF(BB23="","",COUNTIF(BB11:BB23,"-")) | BA23: BYE
A24: 14 | AB24: =IF(AND(ISBLANK(E24),ISBLANK(K24),ISBLANK(Q24),ISBLANK(W24)),"",IF(AND(G24="-",M24="-",S24="-",Y24="-"),"-",IF(AND(G24="-",ISBLANK(K24),ISBLANK(Q24),ISBLANK(W24)),"-",IF(AND(G24="-",M24="-",ISBLANK(Q24),ISBLANK(W24)),"-",IF(AND(G24="-",M24="-",S24="-",ISBLANK(W24)),"-",MIN(G24,M24,S24,Y24)))))) | AG24: =IF(AB24="","",COUNTIF(AB11:AB24,"-")) | AO24: =IF(AB24="","",IF(AN24="0","0",COUNTIF(AN11:AN23,AN24))) | AV24: BYE | AW24: =COUNTIF(#REF!,"AA") -> #REF! | AX24: =IF(BB24="","",COUNTIF(BB11:BB24,"-")) | BA24: BYE
A25: 15 | AB25: =IF(AND(ISBLANK(E25),ISBLANK(K25),ISBLANK(Q25),ISBLANK(W25)),"",IF(AND(G25="-",M25="-",S25="-",Y25="-"),"-",IF(AND(G25="-",ISBLANK(K25),ISBLANK(Q25),ISBLANK(W25)),"-",IF(AND(G25="-",M25="-",ISBLANK(Q25),ISBLANK(W25)),"-",IF(AND(G25="-",M25="-",S25="-",ISBLANK(W25)),"-",MIN(G25,M25,S25,Y25)))))) | AG25: =IF(AB25="","",COUNTIF(AB11:AB25,"-")) | AO25: =IF(AB25="","",IF(AN25="0","0",COUNTIF(AN11:AN24,AN25))) | AV25: BYE | AW25: =COUNTIF(#REF!,"AA") -> #REF! | AX25: =IF(BB25="","",COUNTIF(BB11:BB25,"-")) | BA25: BYE
A26: 16 | AB26: =IF(AND(ISBLANK(E26),ISBLANK(K26),ISBLANK(Q26),ISBLANK(W26)),"",IF(AND(G26="-",M26="-",S26="-",Y26="-"),"-",IF(AND(G26="-",ISBLANK(K26),ISBLANK(Q26),ISBLANK(W26)),"-",IF(AND(G26="-",M26="-",ISBLANK(Q26),ISBLANK(W26)),"-",IF(AND(G26="-",M26="-",S26="-",ISBLANK(W26)),"-",MIN(G26,M26,S26,Y26)))))) | AG26: =IF(AB26="","",COUNTIF(AB11:AB26,"-")) | AO26: =IF(AB26="","",IF(AN26="0","0",COUNTIF(AN11:AN25,AN26))) | AV26: BYE | AW26: =COUNTIF(#REF!,"AA") -> #REF! | AX26: =IF(BB26="","",COUNTIF(BB11:BB26,"-")) | BA26: BYE
A27: 17 | AB27: =IF(AND(ISBLANK(E27),ISBLANK(K27),ISBLANK(Q27),ISBLANK(W27)),"",IF(AND(G27="-",M27="-",S27="-",Y27="-"),"-",IF(AND(G27="-",ISBLANK(K27),ISBLANK(Q27),ISBLANK(W27)),"-",IF(AND(G27="-",M27="-",ISBLANK(Q27),ISBLANK(W27)),"-",IF(AND(G27="-",M27="-",S27="-",ISBLANK(W27)),"-",MIN(G27,M27,S27,Y27)))))) | AG27: =IF(AB27="","",COUNTIF(AB11:AB27,"-")) | AO27: =IF(AB27="","",IF(AN27="0","0",COUNTIF(AN11:AN26,AN27))) | AV27: BYE | AW27: =COUNTIF(#REF!,"AA") -> #REF! | AX27: =IF(BB27="","",COUNTIF(BB11:BB27,"-")) | BA27: BYE
A28: 18 | AB28: =IF(AND(ISBLANK(E28),ISBLANK(K28),ISBLANK(Q28),ISBLANK(W28)),"",IF(AND(G28="-",M28="-",S28="-",Y28="-"),"-",IF(AND(G28="-",ISBLANK(K28),ISBLANK(Q28),ISBLANK(W28)),"-",IF(AND(G28="-",M28="-",ISBLANK(Q28),ISBLANK(W28)),"-",IF(AND(G28="-",M28="-",S28="-",ISBLANK(W28)),"-",MIN(G28,M28,S28,Y28)))))) | AG28: =IF(AB28="","",COUNTIF(AB11:AB28,"-")) | AO28: =IF(AB28="","",IF(AN28="0","0",COUNTIF(AN11:AN27,AN28))) | AV28: BYE | AW28: =COUNTIF(#REF!,"AA") -> #REF! | AX28: =IF(BB28="","",COUNTIF(BB11:BB28,"-")) | BA28: BYE
A29: 19 | AB29: =IF(AND(ISBLANK(E29),ISBLANK(K29),ISBLANK(Q29),ISBLANK(W29)),"",IF(AND(G29="-",M29="-",S29="-",Y29="-"),"-",IF(AND(G29="-",ISBLANK(K29),ISBLANK(Q29),ISBLANK(W29)),"-",IF(AND(G29="-",M29="-",ISBLANK(Q29),ISBLANK(W29)),"-",IF(AND(G29="-",M29="-",S29="-",ISBLANK(W29)),"-",MIN(G29,M29,S29,Y29)))))) | AG29: =IF(AB29="","",COUNTIF(AB11:AB29,"-")) | AO29: =IF(AB29="","",IF(AN29="0","0",COUNTIF(AN11:AN28,AN29))) | AV29: BYE | AW29: =COUNTIF(#REF!,"AA") -> #REF! | AX29: =IF(BB29="","",COUNTIF(BB11:BB29,"-")) | BA29: BYE
A30: 20 | AB30: =IF(AND(ISBLANK(E30),ISBLANK(K30),ISBLANK(Q30),ISBLANK(W30)),"",IF(AND(G30="-",M30="-",S30="-",Y30="-"),"-",IF(AND(G30="-",ISBLANK(K30),ISBLANK(Q30),ISBLANK(W30)),"-",IF(AND(G30="-",M30="-",ISBLANK(Q30),ISBLANK(W30)),"-",IF(AND(G30="-",M30="-",S30="-",ISBLANK(W30)),"-",MIN(G30,M30,S30,Y30)))))) | AG30: =IF(AB30="","",COUNTIF(AB11:AB30,"-")) | AO30: =IF(AB30="","",IF(AN30="0","0",COUNTIF(AN11:AN29,AN30))) | AV30: BYE | AW30: =COUNTIF(#REF!,"AA") -> #REF! | AX30: =IF(BB30="","",COUNTIF(BB11:BB30,"-")) | BA30: BYE
A31: 21 | AB31: =IF(AND(ISBLANK(E31),ISBLANK(K31),ISBLANK(Q31),ISBLANK(W31)),"",IF(AND(G31="-",M31="-",S31="-",Y31="-"),"-",IF(AND(G31="-",ISBLANK(K31),ISBLANK(Q31),ISBLANK(W31)),"-",IF(AND(G31="-",M31="-",ISBLANK(Q31),ISBLANK(W31)),"-",IF(AND(G31="-",M31="-",S31="-",ISBLANK(W31)),"-",MIN(G31,M31,S31,Y31)))))) | AG31: =IF(AB31="","",COUNTIF(AB11:AB31,"-")) | AO31: =IF(AB31="","",IF(AN31="0","0",COUNTIF(AN11:AN30,AN31))) | AV31: BYE | AW31: =COUNTIF(#REF!,"AA") -> #REF! | AX31: =IF(BB31="","",COUNTIF(BB11:BB31,"-")) | BA31: BYE
A32: 22 | AB32: =IF(AND(ISBLANK(E32),ISBLANK(K32),ISBLANK(Q32),ISBLANK(W32)),"",IF(AND(G32="-",M32="-",S32="-",Y32="-"),"-",IF(AND(G32="-",ISBLANK(K32),ISBLANK(Q32),ISBLANK(W32)),"-",IF(AND(G32="-",M32="-",ISBLANK(Q32),ISBLANK(W32)),"-",IF(AND(G32="-",M32="-",S32="-",ISBLANK(W32)),"-",MIN(G32,M32,S32,Y32)))))) | AG32: =IF(AB32="","",COUNTIF(AB11:AB32,"-")) | AO32: =IF(AB32="","",IF(AN32="0","0",COUNTIF(AN11:AN31,AN32))) | AV32: BYE | AW32: =COUNTIF(#REF!,"AA") -> #REF! | AX32: =IF(BB32="","",COUNTIF(BB11:BB32,"-")) | BA32: BYE
A33: 23 | AB33: =IF(AND(ISBLANK(E33),ISBLANK(K33),ISBLANK(Q33),ISBLANK(W33)),"",IF(AND(G33="-",M33="-",S33="-",Y33="-"),"-",IF(AND(G33="-",ISBLANK(K33),ISBLANK(Q33),ISBLANK(W33)),"-",IF(AND(G33="-",M33="-",ISBLANK(Q33),ISBLANK(W33)),"-",IF(AND(G33="-",M33="-",S33="-",ISBLANK(W33)),"-",MIN(G33,M33,S33,Y33)))))) | AG33: =IF(AB33="","",COUNTIF(AB11:AB33,"-")) | AO33: =IF(AB33="","",IF(AN33="0","0",COUNTIF(AN11:AN32,AN33))) | AV33: BYE | AW33: =COUNTIF(#REF!,"AA") -> #REF! | AX33: =IF(BB33="","",COUNTIF(BB11:BB33,"-")) | BA33: BYE
A34: 24 | AB34: =IF(AND(ISBLANK(E34),ISBLANK(K34),ISBLANK(Q34),ISBLANK(W34)),"",IF(AND(G34="-",M34="-",S34="-",Y34="-"),"-",IF(AND(G34="-",ISBLANK(K34),ISBLANK(Q34),ISBLANK(W34)),"-",IF(AND(G34="-",M34="-",ISBLANK(Q34),ISBLANK(W34)),"-",IF(AND(G34="-",M34="-",S34="-",ISBLANK(W34)),"-",MIN(G34,M34,S34,Y34)))))) | AG34: =IF(AB34="","",COUNTIF(AB11:AB34,"-")) | AO34: =IF(AB34="","",IF(AN34="0","0",COUNTIF(AN11:AN33,AN34))) | AV34: BYE | AW34: =COUNTIF(#REF!,"AA") -> #REF! | AX34: =IF(BB34="","",COUNTIF(BB11:BB34,"-")) | BA34: BYE
A35: 25 | AB35: =IF(AND(ISBLANK(E35),ISBLANK(K35),ISBLANK(Q35),ISBLANK(W35)),"",IF(AND(G35="-",M35="-",S35="-",Y35="-"),"-",IF(AND(G35="-",ISBLANK(K35),ISBLANK(Q35),ISBLANK(W35)),"-",IF(AND(G35="-",M35="-",ISBLANK(Q35),ISBLANK(W35)),"-",IF(AND(G35="-",M35="-",S35="-",ISBLANK(W35)),"-",MIN(G35,M35,S35,Y35)))))) | AG35: =IF(AB35="","",COUNTIF(AB11:AB35,"-")) | AO35: =IF(AB35="","",IF(AN35="0","0",COUNTIF(AN11:AN34,AN35))) | AV35: BYE | AW35: =COUNTIF(#REF!,"AA") -> #REF! | AX35: =IF(BB35="","",COUNTIF(BB11:BB35,"-")) | BA35: BYE
A36: 26 | AB36: =IF(AND(ISBLANK(E36),ISBLANK(K36),ISBLANK(Q36),ISBLANK(W36)),"",IF(AND(G36="-",M36="-",S36="-",Y36="-"),"-",IF(AND(G36="-",ISBLANK(K36),ISBLANK(Q36),ISBLANK(W36)),"-",IF(AND(G36="-",M36="-",ISBLANK(Q36),ISBLANK(W36)),"-",IF(AND(G36="-",M36="-",S36="-",ISBLANK(W36)),"-",MIN(G36,M36,S36,Y36)))))) | AG36: =IF(AB36="","",COUNTIF(AB11:AB36,"-")) | AO36: =IF(AB36="","",IF(AN36="0","0",COUNTIF(AN11:AN35,AN36))) | AV36: BYE | AW36: =COUNTIF(#REF!,"AA") -> #REF! | AX36: =IF(BB36="","",COUNTIF(BB11:BB36,"-")) | BA36: BYE
A37: 27 | AB37: =IF(AND(ISBLANK(E37),ISBLANK(K37),ISBLANK(Q37),ISBLANK(W37)),"",IF(AND(G37="-",M37="-",S37="-",Y37="-"),"-",IF(AND(G37="-",ISBLANK(K37),ISBLANK(Q37),ISBLANK(W37)),"-",IF(AND(G37="-",M37="-",ISBLANK(Q37),ISBLANK(W37)),"-",IF(AND(G37="-",M37="-",S37="-",ISBLANK(W37)),"-",MIN(G37,M37,S37,Y37)))))) | AG37: =IF(AB37="","",COUNTIF(AB11:AB37,"-")) | AO37: =IF(AB37="","",IF(AN37="0","0",COUNTIF(AN11:AN36,AN37))) | AV37: BYE | AW37: =COUNTIF(#REF!,"AA") -> #REF! | AX37: =IF(BB37="","",COUNTIF(BB11:BB37,"-")) | BA37: BYE
A38: 28 | AB38: =IF(AND(ISBLANK(E38),ISBLANK(K38),ISBLANK(Q38),ISBLANK(W38)),"",IF(AND(G38="-",M38="-",S38="-",Y38="-"),"-",IF(AND(G38="-",ISBLANK(K38),ISBLANK(Q38),ISBLANK(W38)),"-",IF(AND(G38="-",M38="-",ISBLANK(Q38),ISBLANK(W38)),"-",IF(AND(G38="-",M38="-",S38="-",ISBLANK(W38)),"-",MIN(G38,M38,S38,Y38)))))) | AG38: =IF(AB38="","",COUNTIF(AB11:AB38,"-")) | AO38: =IF(AB38="","",IF(AN38="0","0",COUNTIF(AN11:AN37,AN38))) | AV38: BYE | AW38: =COUNTIF(#REF!,"AA") -> #REF! | AX38: =IF(BB38="","",COUNTIF(BB11:BB38,"-")) | BA38: BYE
A39: 29 | AB39: =IF(AND(ISBLANK(E39),ISBLANK(K39),ISBLANK(Q39),ISBLANK(W39)),"",IF(AND(G39="-",M39="-",S39="-",Y39="-"),"-",IF(AND(G39="-",ISBLANK(K39),ISBLANK(Q39),ISBLANK(W39)),"-",IF(AND(G39="-",M39="-",ISBLANK(Q39),ISBLANK(W39)),"-",IF(AND(G39="-",M39="-",S39="-",ISBLANK(W39)),"-",MIN(G39,M39,S39,Y39)))))) | AG39: =IF(AB39="","",COUNTIF(AB11:AB39,"-")) | AO39: =IF(AB39="","",IF(AN39="0","0",COUNTIF(AN11:AN38,AN39))) | AV39: BYE | AW39: =COUNTIF(#REF!,"AA") -> #REF! | AX39: =IF(BB39="","",COUNTIF(BB11:BB39,"-")) | BA39: BYE
A40: 30 | AB40: =IF(AND(ISBLANK(E40),ISBLANK(K40),ISBLANK(Q40),ISBLANK(W40)),"",IF(AND(G40="-",M40="-",S40="-",Y40="-"),"-",IF(AND(G40="-",ISBLANK(K40),ISBLANK(Q40),ISBLANK(W40)),"-",IF(AND(G40="-",M40="-",ISBLANK(Q40),ISBLANK(W40)),"-",IF(AND(G40="-",M40="-",S40="-",ISBLANK(W40)),"-",MIN(G40,M40,S40,Y40)))))) | AG40: =IF(AB40="","",COUNTIF(AB11:AB40,"-")) | AO40: =IF(AB40="","",IF(AN40="0","0",COUNTIF(AN11:AN39,AN40))) | AV40: BYE | AW40: =COUNTIF(#REF!,"AA") -> #REF! | AX40: =IF(BB40="","",COUNTIF(BB11:BB40,"-")) | BA40: BYE
A41: 31 | AB41: =IF(AND(ISBLANK(E41),ISBLANK(K41),ISBLANK(Q41),ISBLANK(W41)),"",IF(AND(G41="-",M41="-",S41="-",Y41="-"),"-",IF(AND(G41="-",ISBLANK(K41),ISBLANK(Q41),ISBLANK(W41)),"-",IF(AND(G41="-",M41="-",ISBLANK(Q41),ISBLANK(W41)),"-",IF(AND(G41="-",M41="-",S41="-",ISBLANK(W41)),"-",MIN(G41,M41,S41,Y41)))))) | AG41: =IF(AB41="","",COUNTIF(AB11:AB41,"-")) | AO41: =IF(AB41="","",IF(AN41="0","0",COUNTIF(AN11:AN40,AN41))) | AV41: BYE | AW41: =COUNTIF(#REF!,"AA") -> #REF! | AX41: =IF(BB41="","",COUNTIF(BB11:BB41,"-")) | BA41: BYE
A42: 32 | AB42: =IF(AND(ISBLANK(E42),ISBLANK(K42),ISBLANK(Q42),ISBLANK(W42)),"",IF(AND(G42="-",M42="-",S42="-",Y42="-"),"-",IF(AND(G42="-",ISBLANK(K42),ISBLANK(Q42),ISBLANK(W42)),"-",IF(AND(G42="-",M42="-",ISBLANK(Q42),ISBLANK(W42)),"-",IF(AND(G42="-",M42="-",S42="-",ISBLANK(W42)),"-",MIN(G42,M42,S42,Y42)))))) | AG42: =IF(AB42="","",COUNTIF(AB11:AB42,"-")) | AO42: =IF(AB42="","",IF(AN42="0","0",COUNTIF(AN11:AN41,AN42))) | AV42: BYE | AW42: =COUNTIF(#REF!,"AA") -> #REF! | AX42: =IF(BB42="","",COUNTIF(BB11:BB42,"-")) | BA42: BYE
A43: 33 | AB43: =IF(AND(ISBLANK(E43),ISBLANK(K43),ISBLANK(Q43),ISBLANK(W43)),"",IF(AND(G43="-",M43="-",S43="-",Y43="-"),"-",IF(AND(G43="-",ISBLANK(K43),ISBLANK(Q43),ISBLANK(W43)),"-",IF(AND(G43="-",M43="-",ISBLANK(Q43),ISBLANK(W43)),"-",IF(AND(G43="-",M43="-",S43="-",ISBLANK(W43)),"-",MIN(G43,M43,S43,Y43)))))) | AG43: =IF(AB43="","",COUNTIF(AB11:AB43,"-")) | AO43: =IF(AB43="","",IF(AN43="0","0",COUNTIF(AN11:AN42,AN43))) | AV43: BYE | AW43: =COUNTIF(#REF!,"AA") -> #REF! | AX43: =IF(BB43="","",COUNTIF(BB11:BB43,"-")) | BA43: BYE
A44: 34 | AB44: =IF(AND(ISBLANK(E44),ISBLANK(K44),ISBLANK(Q44),ISBLANK(W44)),"",IF(AND(G44="-",M44="-",S44="-",Y44="-"),"-",IF(AND(G44="-",ISBLANK(K44),ISBLANK(Q44),ISBLANK(W44)),"-",IF(AND(G44="-",M44="-",ISBLANK(Q44),ISBLANK(W44)),"-",IF(AND(G44="-",M44="-",S44="-",ISBLANK(W44)),"-",MIN(G44,M44,S44,Y44)))))) | AG44: =IF(AB44="","",COUNTIF(AB11:AB44,"-")) | AO44: =IF(AB44="","",IF(AN44="0","0",COUNTIF(AN11:AN43,AN44))) | AV44: BYE | AW44: =COUNTIF(#REF!,"AA") -> #REF! | AX44: =IF(BB44="","",COUNTIF(BB11:BB44,"-")) | BA44: BYE
A45: 35 | AB45: =IF(AND(ISBLANK(E45),ISBLANK(K45),ISBLANK(Q45),ISBLANK(W45)),"",IF(AND(G45="-",M45="-",S45="-",Y45="-"),"-",IF(AND(G45="-",ISBLANK(K45),ISBLANK(Q45),ISBLANK(W45)),"-",IF(AND(G45="-",M45="-",ISBLANK(Q45),ISBLANK(W45)),"-",IF(AND(G45="-",M45="-",S45="-",ISBLANK(W45)),"-",MIN(G45,M45,S45,Y45)))))) | AG45: =IF(AB45="","",COUNTIF(AB11:AB45,"-")) | AO45: =IF(AB45="","",IF(AN45="0","0",COUNTIF(AN11:AN44,AN45))) | AV45: BYE | AW45: =COUNTIF(#REF!,"AA") -> #REF! | AX45: =IF(BB45="","",COUNTIF(BB11:BB45,"-")) | BA45: BYE
A46: 36 | AB46: =IF(AND(ISBLANK(E46),ISBLANK(K46),ISBLANK(Q46),ISBLANK(W46)),"",IF(AND(G46="-",M46="-",S46="-",Y46="-"),"-",IF(AND(G46="-",ISBLANK(K46),ISBLANK(Q46),ISBLANK(W46)),"-",IF(AND(G46="-",M46="-",ISBLANK(Q46),ISBLANK(W46)),"-",IF(AND(G46="-",M46="-",S46="-",ISBLANK(W46)),"-",MIN(G46,M46,S46,Y46)))))) | AG46: =IF(AB46="","",COUNTIF(AB11:AB46,"-")) | AO46: =IF(AB46="","",IF(AN46="0","0",COUNTIF(AN11:AN45,AN46))) | AV46: BYE | AW46: =COUNTIF(#REF!,"AA") -> #REF! | AX46: =IF(BB46="","",COUNTIF(BB11:BB46,"-")) | BA46: BYE
A47: 37 | AB47: =IF(AND(ISBLANK(E47),ISBLANK(K47),ISBLANK(Q47),ISBLANK(W47)),"",IF(AND(G47="-",M47="-",S47="-",Y47="-"),"-",IF(AND(G47="-",ISBLANK(K47),ISBLANK(Q47),ISBLANK(W47)),"-",IF(AND(G47="-",M47="-",ISBLANK(Q47),ISBLANK(W47)),"-",IF(AND(G47="-",M47="-",S47="-",ISBLANK(W47)),"-",MIN(G47,M47,S47,Y47)))))) | AG47: =IF(AB47="","",COUNTIF(AB11:AB47,"-")) | AO47: =IF(AB47="","",IF(AN47="0","0",COUNTIF(AN11:AN46,AN47))) | AV47: BYE | AW47: =COUNTIF(#REF!,"AA") -> #REF! | AX47: =IF(BB47="","",COUNTIF(BB11:BB47,"-")) | BA47: BYE
A48: 38 | AB48: =IF(AND(ISBLANK(E48),ISBLANK(K48),ISBLANK(Q48),ISBLANK(W48)),"",IF(AND(G48="-",M48="-",S48="-",Y48="-"),"-",IF(AND(G48="-",ISBLANK(K48),ISBLANK(Q48),ISBLANK(W48)),"-",IF(AND(G48="-",M48="-",ISBLANK(Q48),ISBLANK(W48)),"-",IF(AND(G48="-",M48="-",S48="-",ISBLANK(W48)),"-",MIN(G48,M48,S48,Y48)))))) | AG48: =IF(AB48="","",COUNTIF(AB11:AB48,"-")) | AO48: =IF(AB48="","",IF(AN48="0","0",COUNTIF(AN11:AN47,AN48))) | AV48: BYE | AW48: =COUNTIF(#REF!,"AA") -> #REF! | AX48: =IF(BB48="","",COUNTIF(BB11:BB48,"-")) | BA48: BYE
A49: 39 | AB49: =IF(AND(ISBLANK(E49),ISBLANK(K49),ISBLANK(Q49),ISBLANK(W49)),"",IF(AND(G49="-",M49="-",S49="-",Y49="-"),"-",IF(AND(G49="-",ISBLANK(K49),ISBLANK(Q49),ISBLANK(W49)),"-",IF(AND(G49="-",M49="-",ISBLANK(Q49),ISBLANK(W49)),"-",IF(AND(G49="-",M49="-",S49="-",ISBLANK(W49)),"-",MIN(G49,M49,S49,Y49)))))) | AG49: =IF(AB49="","",COUNTIF(AB11:AB49,"-")) | AO49: =IF(AB49="","",IF(AN49="0","0",COUNTIF(AN11:AN48,AN49))) | AV49: BYE | AW49: =COUNTIF(#REF!,"AA") -> #REF! | AX49: =IF(BB49="","",COUNTIF(BB11:BB49,"-")) | BA49: BYE
A50: 40 | AB50: =IF(AND(ISBLANK(E50),ISBLANK(K50),ISBLANK(Q50),ISBLANK(W50)),"",IF(AND(G50="-",M50="-",S50="-",Y50="-"),"-",IF(AND(G50="-",ISBLANK(K50),ISBLANK(Q50),ISBLANK(W50)),"-",IF(AND(G50="-",M50="-",ISBLANK(Q50),ISBLANK(W50)),"-",IF(AND(G50="-",M50="-",S50="-",ISBLANK(W50)),"-",MIN(G50,M50,S50,Y50)))))) | AG50: =IF(AB50="","",COUNTIF(AB11:AB50,"-")) | AO50: =IF(AB50="","",IF(AN50="0","0",COUNTIF(AN11:AN49,AN50))) | AV50: BYE | AW50: =COUNTIF(#REF!,"AA") -> #REF! | AX50: =IF(BB50="","",COUNTIF(BB11:BB50,"-")) | BA50: BYE
A51: 41 | AB51: =IF(AND(ISBLANK(E51),ISBLANK(K51),ISBLANK(Q51),ISBLANK(W51)),"",IF(AND(G51="-",M51="-",S51="-",Y51="-"),"-",IF(AND(G51="-",ISBLANK(K51),ISBLANK(Q51),ISBLANK(W51)),"-",IF(AND(G51="-",M51="-",ISBLANK(Q51),ISBLANK(W51)),"-",IF(AND(G51="-",M51="-",S51="-",ISBLANK(W51)),"-",MIN(G51,M51,S51,Y51)))))) | AG51: =IF(AB51="","",COUNTIF(AB11:AB51,"-")) | AO51: =IF(AB51="","",IF(AN51="0","0",COUNTIF(AN11:AN50,AN51))) | AV51: BYE | AW51: =COUNTIF(#REF!,"AA") -> #REF! | AX51: =IF(BB51="","",COUNTIF(BB11:BB51,"-")) | BA51: BYE
A52: 42 | AB52: =IF(AND(ISBLANK(E52),ISBLANK(K52),ISBLANK(Q52),ISBLANK(W52)),"",IF(AND(G52="-",M52="-",S52="-",Y52="-"),"-",IF(AND(G52="-",ISBLANK(K52),ISBLANK(Q52),ISBLANK(W52)),"-",IF(AND(G52="-",M52="-",ISBLANK(Q52),ISBLANK(W52)),"-",IF(AND(G52="-",M52="-",S52="-",ISBLANK(W52)),"-",MIN(G52,M52,S52,Y52)))))) | AG52: =IF(AB52="","",COUNTIF(AB11:AB52,"-")) | AO52: =IF(AB52="","",IF(AN52="0","0",COUNTIF(AN11:AN51,AN52))) | AV52: BYE | AW52: =COUNTIF(#REF!,"AA") -> #REF! | AX52: =IF(BB52="","",COUNTIF(BB11:BB52,"-")) | BA52: BYE
A53: 43 | AB53: =IF(AND(ISBLANK(E53),ISBLANK(K53),ISBLANK(Q53),ISBLANK(W53)),"",IF(AND(G53="-",M53="-",S53="-",Y53="-"),"-",IF(AND(G53="-",ISBLANK(K53),ISBLANK(Q53),ISBLANK(W53)),"-",IF(AND(G53="-",M53="-",ISBLANK(Q53),ISBLANK(W53)),"-",IF(AND(G53="-",M53="-",S53="-",ISBLANK(W53)),"-",MIN(G53,M53,S53,Y53)))))) | AG53: =IF(AB53="","",COUNTIF(AB11:AB53,"-")) | AO53: =IF(AB53="","",IF(AN53="0","0",COUNTIF(AN11:AN52,AN53))) | AV53: BYE | AW53: =COUNTIF(#REF!,"AA") -> #REF! | AX53: =IF(BB53="","",COUNTIF(BB11:BB53,"-")) | BA53: BYE
A54: 44 | AB54: =IF(AND(ISBLANK(E54),ISBLANK(K54),ISBLANK(Q54),ISBLANK(W54)),"",IF(AND(G54="-",M54="-",S54="-",Y54="-"),"-",IF(AND(G54="-",ISBLANK(K54),ISBLANK(Q54),ISBLANK(W54)),"-",IF(AND(G54="-",M54="-",ISBLANK(Q54),ISBLANK(W54)),"-",IF(AND(G54="-",M54="-",S54="-",ISBLANK(W54)),"-",MIN(G54,M54,S54,Y54)))))) | AG54: =IF(AB54="","",COUNTIF(AB11:AB54,"-")) | AO54: =IF(AB54="","",IF(AN54="0","0",COUNTIF(AN11:AN53,AN54))) | AV54: BYE | AW54: =COUNTIF(#REF!,"AA") -> #REF! | AX54: =IF(BB54="","",COUNTIF(BB11:BB54,"-")) | BA54: BYE
A55: 45 | AB55: =IF(AND(ISBLANK(E55),ISBLANK(K55),ISBLANK(Q55),ISBLANK(W55)),"",IF(AND(G55="-",M55="-",S55="-",Y55="-"),"-",IF(AND(G55="-",ISBLANK(K55),ISBLANK(Q55),ISBLANK(W55)),"-",IF(AND(G55="-",M55="-",ISBLANK(Q55),ISBLANK(W55)),"-",IF(AND(G55="-",M55="-",S55="-",ISBLANK(W55)),"-",MIN(G55,M55,S55,Y55)))))) | AG55: =IF(AB55="","",COUNTIF(AB11:AB55,"-")) | AO55: =IF(AB55="","",IF(AN55="0","0",COUNTIF(AN11:AN54,AN55))) | AV55: BYE | AW55: =COUNTIF(#REF!,"AA") -> #REF! | AX55: =IF(BB55="","",COUNTIF(BB11:BB55,"-")) | BA55: BYE
A56: 46 | AB56: =IF(AND(ISBLANK(E56),ISBLANK(K56),ISBLANK(Q56),ISBLANK(W56)),"",IF(AND(G56="-",M56="-",S56="-",Y56="-"),"-",IF(AND(G56="-",ISBLANK(K56),ISBLANK(Q56),ISBLANK(W56)),"-",IF(AND(G56="-",M56="-",ISBLANK(Q56),ISBLANK(W56)),"-",IF(AND(G56="-",M56="-",S56="-",ISBLANK(W56)),"-",MIN(G56,M56,S56,Y56)))))) | AG56: =IF(AB56="","",COUNTIF(AB11:AB56,"-")) | AO56: =IF(AB56="","",IF(AN56="0","0",COUNTIF(AN11:AN55,AN56))) | AV56: BYE | AW56: =COUNTIF(#REF!,"AA") -> #REF! | AX56: =IF(BB56="","",COUNTIF(BB11:BB56,"-")) | BA56: BYE
A57: 47 | AB57: =IF(AND(ISBLANK(E57),ISBLANK(K57),ISBLANK(Q57),ISBLANK(W57)),"",IF(AND(G57="-",M57="-",S57="-",Y57="-"),"-",IF(AND(G57="-",ISBLANK(K57),ISBLANK(Q57),ISBLANK(W57)),"-",IF(AND(G57="-",M57="-",ISBLANK(Q57),ISBLANK(W57)),"-",IF(AND(G57="-",M57="-",S57="-",ISBLANK(W57)),"-",MIN(G57,M57,S57,Y57)))))) | AG57: =IF(AB57="","",COUNTIF(AB11:AB57,"-")) | AO57: =IF(AB57="","",IF(AN57="0","0",COUNTIF(AN11:AN56,AN57))) | AV57: BYE | AW57: =COUNTIF(#REF!,"AA") -> #REF! | AX57: =IF(BB57="","",COUNTIF(BB11:BB57,"-")) | BA57: BYE
A58: 48 | AB58: =IF(AND(ISBLANK(E58),ISBLANK(K58),ISBLANK(Q58),ISBLANK(W58)),"",IF(AND(G58="-",M58="-",S58="-",Y58="-"),"-",IF(AND(G58="-",ISBLANK(K58),ISBLANK(Q58),ISBLANK(W58)),"-",IF(AND(G58="-",M58="-",ISBLANK(Q58),ISBLANK(W58)),"-",IF(AND(G58="-",M58="-",S58="-",ISBLANK(W58)),"-",MIN(G58,M58,S58,Y58)))))) | AG58: =IF(AB58="","",COUNTIF(AB11:AB58,"-")) | AO58: =IF(AB58="","",IF(AN58="0","0",COUNTIF(AN11:AN57,AN58))) | AV58: BYE | AW58: =COUNTIF(#REF!,"AA") -> #REF! | AX58: =IF(BB58="","",COUNTIF(BB11:BB58,"-")) | BA58: BYE
A59: 49 | AB59: =IF(AND(ISBLANK(E59),ISBLANK(K59),ISBLANK(Q59),ISBLANK(W59)),"",IF(AND(G59="-",M59="-",S59="-",Y59="-"),"-",IF(AND(G59="-",ISBLANK(K59),ISBLANK(Q59),ISBLANK(W59)),"-",IF(AND(G59="-",M59="-",ISBLANK(Q59),ISBLANK(W59)),"-",IF(AND(G59="-",M59="-",S59="-",ISBLANK(W59)),"-",MIN(G59,M59,S59,Y59)))))) | AG59: =IF(AB59="","",COUNTIF(AB11:AB59,"-")) | AO59: =IF(AB59="","",IF(AN59="0","0",COUNTIF(AN11:AN58,AN59))) | AV59: BYE | AW59: =COUNTIF(#REF!,"AA") -> #REF! | AX59: =IF(BB59="","",COUNTIF(BB11:BB59,"-")) | BA59: BYE
A60: 50 | AB60: =IF(AND(ISBLANK(E60),ISBLANK(K60),ISBLANK(Q60),ISBLANK(W60)),"",IF(AND(G60="-",M60="-",S60="-",Y60="-"),"-",IF(AND(G60="-",ISBLANK(K60),ISBLANK(Q60),ISBLANK(W60)),"-",IF(AND(G60="-",M60="-",ISBLANK(Q60),ISBLANK(W60)),"-",IF(AND(G60="-",M60="-",S60="-",ISBLANK(W60)),"-",MIN(G60,M60,S60,Y60)))))) | AG60: =IF(AB60="","",COUNTIF(AB11:AB60,"-")) | AO60: =IF(AB60="","",IF(AN60="0","0",COUNTIF(AN11:AN59,AN60))) | AV60: BYE | AW60: =COUNTIF(#REF!,"AA") -> #REF! | AX60: =IF(BB60="","",COUNTIF(BB11:BB60,"-")) | BA60: BYE
A61: 51 | AB61: =IF(AND(ISBLANK(E61),ISBLANK(K61),ISBLANK(Q61),ISBLANK(W61)),"",IF(AND(G61="-",M61="-",S61="-",Y61="-"),"-",IF(AND(G61="-",ISBLANK(K61),ISBLANK(Q61),ISBLANK(W61)),"-",IF(AND(G61="-",M61="-",ISBLANK(Q61),ISBLANK(W61)),"-",IF(AND(G61="-",M61="-",S61="-",ISBLANK(W61)),"-",MIN(G61,M61,S61,Y61)))))) | AG61: =IF(AB61="","",COUNTIF(AB11:AB61,"-")) | AO61: =IF(AB61="","",IF(AN61="0","0",COUNTIF(AN11:AN60,AN61))) | AV61: BYE | AW61: =COUNTIF(#REF!,"AA") -> #REF! | AX61: =IF(BB61="","",COUNTIF(BB11:BB61,"-")) | BA61: BYE
A62: 52 | AB62: =IF(AND(ISBLANK(E62),ISBLANK(K62),ISBLANK(Q62),ISBLANK(W62)),"",IF(AND(G62="-",M62="-",S62="-",Y62="-"),"-",IF(AND(G62="-",ISBLANK(K62),ISBLANK(Q62),ISBLANK(W62)),"-",IF(AND(G62="-",M62="-",ISBLANK(Q62),ISBLANK(W62)),"-",IF(AND(G62="-",M62="-",S62="-",ISBLANK(W62)),"-",MIN(G62,M62,S62,Y62)))))) | AG62: =IF(AB62="","",COUNTIF(AB11:AB62,"-")) | AO62: =IF(AB62="","",IF(AN62="0","0",COUNTIF(AN11:AN61,AN62))) | AV62: BYE | AW62: =COUNTIF(#REF!,"AA") -> #REF! | AX62: =IF(BB62="","",COUNTIF(BB11:BB62,"-")) | BA62: BYE
A63: 53 | AB63: =IF(AND(ISBLANK(E63),ISBLANK(K63),ISBLANK(Q63),ISBLANK(W63)),"",IF(AND(G63="-",M63="-",S63="-",Y63="-"),"-",IF(AND(G63="-",ISBLANK(K63),ISBLANK(Q63),ISBLANK(W63)),"-",IF(AND(G63="-",M63="-",ISBLANK(Q63),ISBLANK(W63)),"-",IF(AND(G63="-",M63="-",S63="-",ISBLANK(W63)),"-",MIN(G63,M63,S63,Y63)))))) | AG63: =IF(AB63="","",COUNTIF(AB11:AB63,"-")) | AO63: =IF(AB63="","",IF(AN63="0","0",COUNTIF(AN11:AN62,AN63))) | AV63: BYE | AW63: =COUNTIF(#REF!,"AA") -> #REF! | AX63: =IF(BB63="","",COUNTIF(BB11:BB63,"-")) | BA63: BYE
A64: 54 | AB64: =IF(AND(ISBLANK(E64),ISBLANK(K64),ISBLANK(Q64),ISBLANK(W64)),"",IF(AND(G64="-",M64="-",S64="-",Y64="-"),"-",IF(AND(G64="-",ISBLANK(K64),ISBLANK(Q64),ISBLANK(W64)),"-",IF(AND(G64="-",M64="-",ISBLANK(Q64),ISBLANK(W64)),"-",IF(AND(G64="-",M64="-",S64="-",ISBLANK(W64)),"-",MIN(G64,M64,S64,Y64)))))) | AG64: =IF(AB64="","",COUNTIF(AB11:AB64,"-")) | AO64: =IF(AB64="","",IF(AN64="0","0",COUNTIF(AN11:AN63,AN64))) | AV64: BYE | AW64: =COUNTIF(#REF!,"AA") -> #REF! | AX64: =IF(BB64="","",COUNTIF(BB11:BB64,"-")) | BA64: BYE
A65: 55 | AB65: =IF(AND(ISBLANK(E65),ISBLANK(K65),ISBLANK(Q65),ISBLANK(W65)),"",IF(AND(G65="-",M65="-",S65="-",Y65="-"),"-",IF(AND(G65="-",ISBLANK(K65),ISBLANK(Q65),ISBLANK(W65)),"-",IF(AND(G65="-",M65="-",ISBLANK(Q65),ISBLANK(W65)),"-",IF(AND(G65="-",M65="-",S65="-",ISBLANK(W65)),"-",MIN(G65,M65,S65,Y65)))))) | AG65: =IF(AB65="","",COUNTIF(AB11:AB65,"-")) | AO65: =IF(AB65="","",IF(AN65="0","0",COUNTIF(AN11:AN64,AN65))) | AV65: BYE | AW65: =COUNTIF(#REF!,"AA") -> #REF! | AX65: =IF(BB65="","",COUNTIF(BB11:BB65,"-")) | BA65: BYE
A66: 56 | AB66: =IF(AND(ISBLANK(E66),ISBLANK(K66),ISBLANK(Q66),ISBLANK(W66)),"",IF(AND(G66="-",M66="-",S66="-",Y66="-"),"-",IF(AND(G66="-",ISBLANK(K66),ISBLANK(Q66),ISBLANK(W66)),"-",IF(AND(G66="-",M66="-",ISBLANK(Q66),ISBLANK(W66)),"-",IF(AND(G66="-",M66="-",S66="-",ISBLANK(W66)),"-",MIN(G66,M66,S66,Y66)))))) | AG66: =IF(AB66="","",COUNTIF(AB11:AB66,"-")) | AO66: =IF(AB66="","",IF(AN66="0","0",COUNTIF(AN11:AN65,AN66))) | AV66: BYE | AW66: =COUNTIF(#REF!,"AA") -> #REF! | AX66: =IF(BB66="","",COUNTIF(BB11:BB66,"-")) | BA66: BYE
A67: 57 | AB67: =IF(AND(ISBLANK(E67),ISBLANK(K67),ISBLANK(Q67),ISBLANK(W67)),"",IF(AND(G67="-",M67="-",S67="-",Y67="-"),"-",IF(AND(G67="-",ISBLANK(K67),ISBLANK(Q67),ISBLANK(W67)),"-",IF(AND(G67="-",M67="-",ISBLANK(Q67),ISBLANK(W67)),"-",IF(AND(G67="-",M67="-",S67="-",ISBLANK(W67)),"-",MIN(G67,M67,S67,Y67)))))) | AG67: =IF(AB67="","",COUNTIF(AB11:AB67,"-")) | AO67: =IF(AB67="","",IF(AB67="","",IF(AN67="0","0",COUNTIF(AN11:AN66,AN67)))) | AV67: BYE | AW67: =COUNTIF(#REF!,"AA") -> #REF! | AX67: =IF(BB67="","",COUNTIF(BB11:BB67,"-")) | BA67: BYE
A68: 58 | AB68: =IF(AND(ISBLANK(E68),ISBLANK(K68),ISBLANK(Q68),ISBLANK(W68)),"",IF(AND(G68="-",M68="-",S68="-",Y68="-"),"-",IF(AND(G68="-",ISBLANK(K68),ISBLANK(Q68),ISBLANK(W68)),"-",IF(AND(G68="-",M68="-",ISBLANK(Q68),ISBLANK(W68)),"-",IF(AND(G68="-",M68="-",S68="-",ISBLANK(W68)),"-",MIN(G68,M68,S68,Y68)))))) | AG68: =IF(AB68="","",COUNTIF(AB11:AB68,"-")) | AO68: =IF(AB68="","",IF(AB68="","",IF(AN68="0","0",COUNTIF(AN11:AN67,AN68)))) | AV68: BYE | AW68: =COUNTIF(#REF!,"AA") -> #REF! | AX68: =IF(BB68="","",COUNTIF(BB11:BB68,"-")) | BA68: BYE
A69: 59 | AB69: =IF(AND(ISBLANK(E69),ISBLANK(K69),ISBLANK(Q69),ISBLANK(W69)),"",IF(AND(G69="-",M69="-",S69="-",Y69="-"),"-",IF(AND(G69="-",ISBLANK(K69),ISBLANK(Q69),ISBLANK(W69)),"-",IF(AND(G69="-",M69="-",ISBLANK(Q69),ISBLANK(W69)),"-",IF(AND(G69="-",M69="-",S69="-",ISBLANK(W69)),"-",MIN(G69,M69,S69,Y69)))))) | AG69: =IF(AB69="","",COUNTIF(AB11:AB69,"-")) | AO69: =IF(AB69="","",IF(AB69="","",IF(AN69="0","0",COUNTIF(AN11:AN68,AN69)))) | AV69: BYE | AW69: =COUNTIF(#REF!,"AA") -> #REF! | AX69: =IF(BB69="","",COUNTIF(BB11:BB69,"-")) | BA69: BYE
A70: 60 | AB70: =IF(AND(ISBLANK(E70),ISBLANK(K70),ISBLANK(Q70),ISBLANK(W70)),"",IF(AND(G70="-",M70="-",S70="-",Y70="-"),"-",IF(AND(G70="-",ISBLANK(K70),ISBLANK(Q70),ISBLANK(W70)),"-",IF(AND(G70="-",M70="-",ISBLANK(Q70),ISBLANK(W70)),"-",IF(AND(G70="-",M70="-",S70="-",ISBLANK(W70)),"-",MIN(G70,M70,S70,Y70)))))) | AG70: =IF(AB70="","",COUNTIF(AB11:AB70,"-")) | AO70: =IF(AB70="","",IF(AN70="0","0",COUNTIF(AN11:AN69,AN70))) | AV70: BYE | AW70: =COUNTIF(#REF!,"AA") -> #REF! | AX70: =IF(BB70="","",COUNTIF(BB11:BB70,"-")) | BA70: BYE
A71: 61 | AB71: =IF(AND(ISBLANK(E71),ISBLANK(K71),ISBLANK(Q71),ISBLANK(W71)),"",IF(AND(G71="-",M71="-",S71="-",Y71="-"),"-",IF(AND(G71="-",ISBLANK(K71),ISBLANK(Q71),ISBLANK(W71)),"-",IF(AND(G71="-",M71="-",ISBLANK(Q71),ISBLANK(W71)),"-",IF(AND(G71="-",M71="-",S71="-",ISBLANK(W71)),"-",MIN(G71,M71,S71,Y71)))))) | AG71: =IF(AB71="","",COUNTIF(AB11:AB71,"-")) | AO71: =IF(AB71="","",IF(AN71="0","0",COUNTIF(AN51:AN70,AN71))) | AV71: BYE | AW71: =COUNTIF(#REF!,"AA") -> #REF! | AX71: =IF(BB71="","",COUNTIF(BB11:BB71,"-")) | BA71: BYE
A72: 62 | AB72: =IF(AND(ISBLANK(E72),ISBLANK(K72),ISBLANK(Q72),ISBLANK(W72)),"",IF(AND(G72="-",M72="-",S72="-",Y72="-"),"-",IF(AND(G72="-",ISBLANK(K72),ISBLANK(Q72),ISBLANK(W72)),"-",IF(AND(G72="-",M72="-",ISBLANK(Q72),ISBLANK(W72)),"-",IF(AND(G72="-",M72="-",S72="-",ISBLANK(W72)),"-",MIN(G72,M72,S72,Y72)))))) | AG72: =IF(AB72="","",COUNTIF(AB11:AB72,"-")) | AO72: =IF(AB72="","",IF(AN72="0","0",COUNTIF(AN11:AN71,AN72))) | AV72: BYE | AW72: =COUNTIF(#REF!,"AA") -> #REF! | AX72: =IF(BB72="","",COUNTIF(BB11:BB72,"-")) | BA72: BYE
A73: 63 | AB73: =IF(AND(ISBLANK(E73),ISBLANK(K73),ISBLANK(Q73),ISBLANK(W73)),"",IF(AND(G73="-",M73="-",S73="-",Y73="-"),"-",IF(AND(G73="-",ISBLANK(K73),ISBLANK(Q73),ISBLANK(W73)),"-",IF(AND(G73="-",M73="-",ISBLANK(Q73),ISBLANK(W73)),"-",IF(AND(G73="-",M73="-",S73="-",ISBLANK(W73)),"-",MIN(G73,M73,S73,Y73)))))) | AG73: =IF(AB73="","",COUNTIF(AB11:AB73,"-")) | AO73: =IF(AB73="","",IF(AN73="0","0",COUNTIF(AN11:AN72,AN73))) | AV73: BYE | AW73: =COUNTIF(#REF!,"AA") -> #REF! | AX73: =IF(BB73="","",COUNTIF(BB11:BB73,"-")) | BA73: BYE
A74: 64 | AB74: =IF(AND(ISBLANK(E74),ISBLANK(K74),ISBLANK(Q74),ISBLANK(W74)),"",IF(AND(G74="-",M74="-",S74="-",Y74="-"),"-",IF(AND(G74="-",ISBLANK(K74),ISBLANK(Q74),ISBLANK(W74)),"-",IF(AND(G74="-",M74="-",ISBLANK(Q74),ISBLANK(W74)),"-",IF(AND(G74="-",M74="-",S74="-",ISBLANK(W74)),"-",MIN(G74,M74,S74,Y74)))))) | AG74: =IF(AB74="","",COUNTIF(AB11:AB74,"-")) | AO74: =IF(AB74="","",IF(AN74="0","0",COUNTIF(AN11:AN73,AN74))) | AV74: BYE | AW74: =COUNTIF(#REF!,"AA") -> #REF! | AX74: =IF(BB74="","",COUNTIF(BB11:BB74,"-")) | BA74: BYE
A75: 65 | AB75: =IF(AND(ISBLANK(E75),ISBLANK(K75),ISBLANK(Q75),ISBLANK(W75)),"",IF(AND(G75="-",M75="-",S75="-",Y75="-"),"-",IF(AND(G75="-",ISBLANK(K75),ISBLANK(Q75),ISBLANK(W75)),"-",IF(AND(G75="-",M75="-",ISBLANK(Q75),ISBLANK(W75)),"-",IF(AND(G75="-",M75="-",S75="-",ISBLANK(W75)),"-",MIN(G75,M75,S75,Y75)))))) | AG75: =IF(AB75="","",COUNTIF(AB11:AB75,"-")) | AO75: =IF(AB75="","",IF(AN75="0","0",COUNTIF(AN11:AN74,AN75))) | AV75: BYE | AW75: =COUNTIF(#REF!,"AA") -> #REF! | AX75: =IF(BB75="","",COUNTIF(BB11:BB75,"-")) | BA75: BYE
A76: 66 | AB76: =IF(AND(ISBLANK(E76),ISBLANK(K76),ISBLANK(Q76),ISBLANK(W76)),"",IF(AND(G76="-",M76="-",S76="-",Y76="-"),"-",IF(AND(G76="-",ISBLANK(K76),ISBLANK(Q76),ISBLANK(W76)),"-",IF(AND(G76="-",M76="-",ISBLANK(Q76),ISBLANK(W76)),"-",IF(AND(G76="-",M76="-",S76="-",ISBLANK(W76)),"-",MIN(G76,M76,S76,Y76)))))) | AG76: =IF(AB76="","",COUNTIF(AB11:AB76,"-")) | AO76: =IF(AB76="","",IF(AN76="0","0",COUNTIF(AN11:AN75,AN76))) | AV76: BYE | AW76: =COUNTIF(#REF!,"AA") -> #REF! | AX76: =IF(BB76="","",COUNTIF(BB11:BB76,"-")) | BA76: BYE
A77: 67 | AB77: =IF(AND(ISBLANK(E77),ISBLANK(K77),ISBLANK(Q77),ISBLANK(W77)),"",IF(AND(G77="-",M77="-",S77="-",Y77="-"),"-",IF(AND(G77="-",ISBLANK(K77),ISBLANK(Q77),ISBLANK(W77)),"-",IF(AND(G77="-",M77="-",ISBLANK(Q77),ISBLANK(W77)),"-",IF(AND(G77="-",M77="-",S77="-",ISBLANK(W77)),"-",MIN(G77,M77,S77,Y77)))))) | AG77: =IF(AB77="","",COUNTIF(AB11:AB77,"-")) | AO77: =IF(AB77="","",IF(AN77="0","0",COUNTIF(AN11:AN76,AN77))) | AV77: BYE | AW77: =COUNTIF(#REF!,"AA") -> #REF! | AX77: =IF(BB77="","",COUNTIF(BB11:BB77,"-")) | BA77: BYE
A78: 68 | AB78: =IF(AND(ISBLANK(E78),ISBLANK(K78),ISBLANK(Q78),ISBLANK(W78)),"",IF(AND(G78="-",M78="-",S78="-",Y78="-"),"-",IF(AND(G78="-",ISBLANK(K78),ISBLANK(Q78),ISBLANK(W78)),"-",IF(AND(G78="-",M78="-",ISBLANK(Q78),ISBLANK(W78)),"-",IF(AND(G78="-",M78="-",S78="-",ISBLANK(W78)),"-",MIN(G78,M78,S78,Y78)))))) | AG78: =IF(AB78="","",COUNTIF(AB11:AB78,"-")) | AO78: =IF(AB78="","",IF(AN78="0","0",COUNTIF(AN11:AN77,AN78))) | AV78: BYE | AW78: =COUNTIF(#REF!,"AA") -> #REF! | AX78: =IF(BB78="","",COUNTIF(BB11:BB78,"-")) | BA78: BYE
A79: 69 | AB79: =IF(AND(ISBLANK(E79),ISBLANK(K79),ISBLANK(Q79),ISBLANK(W79)),"",IF(AND(G79="-",M79="-",S79="-",Y79="-"),"-",IF(AND(G79="-",ISBLANK(K79),ISBLANK(Q79),ISBLANK(W79)),"-",IF(AND(G79="-",M79="-",ISBLANK(Q79),ISBLANK(W79)),"-",IF(AND(G79="-",M79="-",S79="-",ISBLANK(W79)),"-",MIN(G79,M79,S79,Y79)))))) | AG79: =IF(AB79="","",COUNTIF(AB11:AB79,"-")) | AO79: =IF(AB79="","",IF(AN79="0","0",COUNTIF(AN11:AN78,AN79))) | AV79: BYE | AW79: =COUNTIF(#REF!,"AA") -> #REF! | AX79: =IF(BB79="","",COUNTIF(BB11:BB79,"-")) | BA79: BYE
A80: 70 | AB80: =IF(AND(ISBLANK(E80),ISBLANK(K80),ISBLANK(Q80),ISBLANK(W80)),"",IF(AND(G80="-",M80="-",S80="-",Y80="-"),"-",IF(AND(G80="-",ISBLANK(K80),ISBLANK(Q80),ISBLANK(W80)),"-",IF(AND(G80="-",M80="-",ISBLANK(Q80),ISBLANK(W80)),"-",IF(AND(G80="-",M80="-",S80="-",ISBLANK(W80)),"-",MIN(G80,M80,S80,Y80)))))) | AG80: =IF(AB80="","",COUNTIF(AB11:AB80,"-")) | AO80: =IF(AB80="","",IF(AN80="0","0",COUNTIF(AN11:AN79,AN80))) | AV80: BYE | AW80: =COUNTIF(#REF!,"AA") -> #REF! | AX80: =IF(BB80="","",COUNTIF(BB11:BB80,"-")) | BA80: BYE
A81: 71 | AB81: =IF(AND(ISBLANK(E81),ISBLANK(K81),ISBLANK(Q81),ISBLANK(W81)),"",IF(AND(G81="-",M81="-",S81="-",Y81="-"),"-",IF(AND(G81="-",ISBLANK(K81),ISBLANK(Q81),ISBLANK(W81)),"-",IF(AND(G81="-",M81="-",ISBLANK(Q81),ISBLANK(W81)),"-",IF(AND(G81="-",M81="-",S81="-",ISBLANK(W81)),"-",MIN(G81,M81,S81,Y81)))))) | AG81: =IF(AB81="","",COUNTIF(AB11:AB81,"-")) | AO81: =IF(AB81="","",IF(AN81="0","0",COUNTIF(AN11:AN80,AN81))) | AV81: BYE | AW81: =COUNTIF(#REF!,"AA") -> #REF! | AX81: =IF(BB81="","",COUNTIF(BB11:BB81,"-")) | BA81: BYE
A82: 72 | AB82: =IF(AND(ISBLANK(E82),ISBLANK(K82),ISBLANK(Q82),ISBLANK(W82)),"",IF(AND(G82="-",M82="-",S82="-",Y82="-"),"-",IF(AND(G82="-",ISBLANK(K82),ISBLANK(Q82),ISBLANK(W82)),"-",IF(AND(G82="-",M82="-",ISBLANK(Q82),ISBLANK(W82)),"-",IF(AND(G82="-",M82="-",S82="-",ISBLANK(W82)),"-",MIN(G82,M82,S82,Y82)))))) | AG82: =IF(AB82="","",COUNTIF(AB11:AB82,"-")) | AO82: =IF(AB82="","",IF(AN82="0","0",COUNTIF(AN11:AN81,AN82))) | AV82: BYE | AW82: =COUNTIF(#REF!,"AA") -> #REF! | AX82: =IF(BB82="","",COUNTIF(BB11:BB82,"-")) | BA82: BYE
A83: 73 | AB83: =IF(AND(ISBLANK(E83),ISBLANK(K83),ISBLANK(Q83),ISBLANK(W83)),"",IF(AND(G83="-",M83="-",S83="-",Y83="-"),"-",IF(AND(G83="-",ISBLANK(K83),ISBLANK(Q83),ISBLANK(W83)),"-",IF(AND(G83="-",M83="-",ISBLANK(Q83),ISBLANK(W83)),"-",IF(AND(G83="-",M83="-",S83="-",ISBLANK(W83)),"-",MIN(G83,M83,S83,Y83)))))) | AG83: =IF(AB83="","",COUNTIF(AB11:AB83,"-")) | AO83: =IF(AB83="","",IF(AN83="0","0",COUNTIF(AN11:AN82,AN83))) | AV83: BYE | AW83: =COUNTIF(#REF!,"AA") -> #REF! | AX83: =IF(BB83="","",COUNTIF(BB11:BB83,"-")) | BA83: BYE
A84: 74 | AB84: =IF(AND(ISBLANK(E84),ISBLANK(K84),ISBLANK(Q84),ISBLANK(W84)),"",IF(AND(G84="-",M84="-",S84="-",Y84="-"),"-",IF(AND(G84="-",ISBLANK(K84),ISBLANK(Q84),ISBLANK(W84)),"-",IF(AND(G84="-",M84="-",ISBLANK(Q84),ISBLANK(W84)),"-",IF(AND(G84="-",M84="-",S84="-",ISBLANK(W84)),"-",MIN(G84,M84,S84,Y84)))))) | AG84: =IF(AB84="","",COUNTIF(AB11:AB84,"-")) | AO84: =IF(AB84="","",IF(AN84="0","0",COUNTIF(AN11:AN83,AN84))) | AV84: BYE | AW84: =COUNTIF(#REF!,"AA") -> #REF! | AX84: =IF(BB84="","",COUNTIF(BB11:BB84,"-")) | BA84: BYE
A85: 75 | AB85: =IF(AND(ISBLANK(E85),ISBLANK(K85),ISBLANK(Q85),ISBLANK(W85)),"",IF(AND(G85="-",M85="-",S85="-",Y85="-"),"-",IF(AND(G85="-",ISBLANK(K85),ISBLANK(Q85),ISBLANK(W85)),"-",IF(AND(G85="-",M85="-",ISBLANK(Q85),ISBLANK(W85)),"-",IF(AND(G85="-",M85="-",S85="-",ISBLANK(W85)),"-",MIN(G85,M85,S85,Y85)))))) | AG85: =IF(AB85="","",COUNTIF(AB11:AB85,"-")) | AO85: =IF(AB85="","",IF(AN85="0","0",COUNTIF(AN11:AN84,AN85))) | AV85: BYE | AW85: =COUNTIF(#REF!,"AA") -> #REF! | AX85: =IF(BB85="","",COUNTIF(BB11:BB85,"-")) | BA85: BYE
A86: 76 | AB86: =IF(AND(ISBLANK(E86),ISBLANK(K86),ISBLANK(Q86),ISBLANK(W86)),"",IF(AND(G86="-",M86="-",S86="-",Y86="-"),"-",IF(AND(G86="-",ISBLANK(K86),ISBLANK(Q86),ISBLANK(W86)),"-",IF(AND(G86="-",M86="-",ISBLANK(Q86),ISBLANK(W86)),"-",IF(AND(G86="-",M86="-",S86="-",ISBLANK(W86)),"-",MIN(G86,M86,S86,Y86)))))) | AG86: =IF(AB86="","",COUNTIF(AB11:AB86,"-")) | AO86: =IF(AB86="","",IF(AN86="0","0",COUNTIF(AN11:AN85,AN86))) | AV86: BYE | AW86: =COUNTIF(#REF!,"AA") -> #REF! | AX86: =IF(BB86="","",COUNTIF(BB11:BB86,"-")) | BA86: BYE
A87: 77 | AB87: =IF(AND(ISBLANK(E87),ISBLANK(K87),ISBLANK(Q87),ISBLANK(W87)),"",IF(AND(G87="-",M87="-",S87="-",Y87="-"),"-",IF(AND(G87="-",ISBLANK(K87),ISBLANK(Q87),ISBLANK(W87)),"-",IF(AND(G87="-",M87="-",ISBLANK(Q87),ISBLANK(W87)),"-",IF(AND(G87="-",M87="-",S87="-",ISBLANK(W87)),"-",MIN(G87,M87,S87,Y87)))))) | AG87: =IF(AB87="","",COUNTIF(AB11:AB87,"-")) | AO87: =IF(AB87="","",IF(AN87="0","0",COUNTIF(AN11:AN86,AN87))) | AV87: BYE | AW87: =COUNTIF(#REF!,"AA") -> #REF! | AX87: =IF(BB87="","",COUNTIF(BB11:BB87,"-")) | BA87: BYE
A88: 78 | AB88: =IF(AND(ISBLANK(E88),ISBLANK(K88),ISBLANK(Q88),ISBLANK(W88)),"",IF(AND(G88="-",M88="-",S88="-",Y88="-"),"-",IF(AND(G88="-",ISBLANK(K88),ISBLANK(Q88),ISBLANK(W88)),"-",IF(AND(G88="-",M88="-",ISBLANK(Q88),ISBLANK(W88)),"-",IF(AND(G88="-",M88="-",S88="-",ISBLANK(W88)),"-",MIN(G88,M88,S88,Y88)))))) | AG88: =IF(AB88="","",COUNTIF(AB11:AB88,"-")) | AO88: =IF(AB88="","",IF(AN88="0","0",COUNTIF(AN11:AN87,AN88))) | AV88: BYE | AW88: =COUNTIF(#REF!,"AA") -> #REF! | AX88: =IF(BB88="","",COUNTIF(BB11:BB88,"-")) | BA88: BYE
A89: 79 | AB89: =IF(AND(ISBLANK(E89),ISBLANK(K89),ISBLANK(Q89),ISBLANK(W89)),"",IF(AND(G89="-",M89="-",S89="-",Y89="-"),"-",IF(AND(G89="-",ISBLANK(K89),ISBLANK(Q89),ISBLANK(W89)),"-",IF(AND(G89="-",M89="-",ISBLANK(Q89),ISBLANK(W89)),"-",IF(AND(G89="-",M89="-",S89="-",ISBLANK(W89)),"-",MIN(G89,M89,S89,Y89)))))) | AG89: =IF(AB89="","",COUNTIF(AB11:AB89,"-")) | AO89: =IF(AB89="","",IF(AN89="0","0",COUNTIF(AN11:AN88,AN89))) | AV89: BYE | AW89: =COUNTIF(#REF!,"AA") -> #REF! | AX89: =IF(BB89="","",COUNTIF(BB11:BB89,"-")) | BA89: BYE
A90: 80 | AB90: =IF(AND(ISBLANK(E90),ISBLANK(K90),ISBLANK(Q90),ISBLANK(W90)),"",IF(AND(G90="-",M90="-",S90="-",Y90="-"),"-",IF(AND(G90="-",ISBLANK(K90),ISBLANK(Q90),ISBLANK(W90)),"-",IF(AND(G90="-",M90="-",ISBLANK(Q90),ISBLANK(W90)),"-",IF(AND(G90="-",M90="-",S90="-",ISBLANK(W90)),"-",MIN(G90,M90,S90,Y90)))))) | AG90: =IF(AB90="","",COUNTIF(AB11:AB90,"-")) | AO90: =IF(AB90="","",IF(AN90="0","0",COUNTIF(AN11:AN89,AN90))) | AV90: BYE | AW90: =COUNTIF(#REF!,"AA") -> #REF! | AX90: =IF(BB90="","",COUNTIF(BB11:BB90,"-")) | BA90: BYE
A91: 81 | AB91: =IF(AND(ISBLANK(E91),ISBLANK(K91),ISBLANK(Q91),ISBLANK(W91)),"",IF(AND(G91="-",M91="-",S91="-",Y91="-"),"-",IF(AND(G91="-",ISBLANK(K91),ISBLANK(Q91),ISBLANK(W91)),"-",IF(AND(G91="-",M91="-",ISBLANK(Q91),ISBLANK(W91)),"-",IF(AND(G91="-",M91="-",S91="-",ISBLANK(W91)),"-",MIN(G91,M91,S91,Y91)))))) | AG91: =IF(AB91="","",COUNTIF(AB11:AB91,"-")) | AO91: =IF(AB91="","",IF(AN91="0","0",COUNTIF(AN11:AN90,AN91))) | AV91: BYE | AW91: =COUNTIF(#REF!,"AA") -> #REF! | AX91: =IF(BB91="","",COUNTIF(BB11:BB91,"-")) | BA91: BYE
A92: 82 | AB92: =IF(AND(ISBLANK(E92),ISBLANK(K92),ISBLANK(Q92),ISBLANK(W92)),"",IF(AND(G92="-",M92="-",S92="-",Y92="-"),"-",IF(AND(G92="-",ISBLANK(K92),ISBLANK(Q92),ISBLANK(W92)),"-",IF(AND(G92="-",M92="-",ISBLANK(Q92),ISBLANK(W92)),"-",IF(AND(G92="-",M92="-",S92="-",ISBLANK(W92)),"-",MIN(G92,M92,S92,Y92)))))) | AG92: =IF(AB92="","",COUNTIF(AB11:AB92,"-")) | AO92: =IF(AB92="","",IF(AN92="0","0",COUNTIF(AN11:AN91,AN92))) | AV92: BYE | AW92: =COUNTIF(#REF!,"AA") -> #REF! | AX92: =IF(BB92="","",COUNTIF(BB11:BB92,"-")) | BA92: BYE
A93: 83 | AB93: =IF(AND(ISBLANK(E93),ISBLANK(K93),ISBLANK(Q93),ISBLANK(W93)),"",IF(AND(G93="-",M93="-",S93="-",Y93="-"),"-",IF(AND(G93="-",ISBLANK(K93),ISBLANK(Q93),ISBLANK(W93)),"-",IF(AND(G93="-",M93="-",ISBLANK(Q93),ISBLANK(W93)),"-",IF(AND(G93="-",M93="-",S93="-",ISBLANK(W93)),"-",MIN(G93,M93,S93,Y93)))))) | AG93: =IF(AB93="","",COUNTIF(AB11:AB93,"-")) | AO93: =IF(AB93="","",IF(AN93="0","0",COUNTIF(AN11:AN92,AN93))) | AV93: BYE | AW93: =COUNTIF(#REF!,"AA") -> #REF! | AX93: =IF(BB93="","",COUNTIF(BB11:BB93,"-")) | BA93: BYE
A94: 84 | AB94: =IF(AND(ISBLANK(E94),ISBLANK(K94),ISBLANK(Q94),ISBLANK(W94)),"",IF(AND(G94="-",M94="-",S94="-",Y94="-"),"-",IF(AND(G94="-",ISBLANK(K94),ISBLANK(Q94),ISBLANK(W94)),"-",IF(AND(G94="-",M94="-",ISBLANK(Q94),ISBLANK(W94)),"-",IF(AND(G94="-",M94="-",S94="-",ISBLANK(W94)),"-",MIN(G94,M94,S94,Y94)))))) | AG94: =IF(AB94="","",COUNTIF(AB11:AB94,"-")) | AO94: =IF(AB94="","",IF(AN94="0","0",COUNTIF(AN11:AN93,AN94))) | AV94: BYE | AW94: =COUNTIF(#REF!,"AA") -> #REF! | AX94: =IF(BB94="","",COUNTIF(BB11:BB94,"-")) | BA94: BYE
A95: 85 | AB95: =IF(AND(ISBLANK(E95),ISBLANK(K95),ISBLANK(Q95),ISBLANK(W95)),"",IF(AND(G95="-",M95="-",S95="-",Y95="-"),"-",IF(AND(G95="-",ISBLANK(K95),ISBLANK(Q95),ISBLANK(W95)),"-",IF(AND(G95="-",M95="-",ISBLANK(Q95),ISBLANK(W95)),"-",IF(AND(G95="-",M95="-",S95="-",ISBLANK(W95)),"-",MIN(G95,M95,S95,Y95)))))) | AG95: =IF(AB95="","",COUNTIF(AB11:AB95,"-")) | AO95: =IF(AB95="","",IF(AN95="0","0",COUNTIF(AN11:AN94,AN95))) | AV95: BYE | AW95: =COUNTIF(#REF!,"AA") -> #REF! | AX95: =IF(BB95="","",COUNTIF(BB11:BB95,"-")) | BA95: BYE
A96: 86 | AB96: =IF(AND(ISBLANK(E96),ISBLANK(K96),ISBLANK(Q96),ISBLANK(W96)),"",IF(AND(G96="-",M96="-",S96="-",Y96="-"),"-",IF(AND(G96="-",ISBLANK(K96),ISBLANK(Q96),ISBLANK(W96)),"-",IF(AND(G96="-",M96="-",ISBLANK(Q96),ISBLANK(W96)),"-",IF(AND(G96="-",M96="-",S96="-",ISBLANK(W96)),"-",MIN(G96,M96,S96,Y96)))))) | AG96: =IF(AB96="","",COUNTIF(AB11:AB96,"-")) | AO96: =IF(AB96="","",IF(AN96="0","0",COUNTIF(AN11:AN95,AN96))) | AV96: BYE | AW96: =COUNTIF(#REF!,"AA") -> #REF! | AX96: =IF(BB96="","",COUNTIF(BB11:BB96,"-")) | BA96: BYE
A97: 87 | AB97: =IF(AND(ISBLANK(E97),ISBLANK(K97),ISBLANK(Q97),ISBLANK(W97)),"",IF(AND(G97="-",M97="-",S97="-",Y97="-"),"-",IF(AND(G97="-",ISBLANK(K97),ISBLANK(Q97),ISBLANK(W97)),"-",IF(AND(G97="-",M97="-",ISBLANK(Q97),ISBLANK(W97)),"-",IF(AND(G97="-",M97="-",S97="-",ISBLANK(W97)),"-",MIN(G97,M97,S97,Y97)))))) | AG97: =IF(AB97="","",COUNTIF(AB11:AB97,"-")) | AO97: =IF(AB97="","",IF(AN97="0","0",COUNTIF(AN11:AN96,AN97))) | AV97: BYE | AW97: =COUNTIF(#REF!,"AA") -> #REF! | AX97: =IF(BB97="","",COUNTIF(BB11:BB97,"-")) | BA97: BYE
A98: 88 | AB98: =IF(AND(ISBLANK(E98),ISBLANK(K98),ISBLANK(Q98),ISBLANK(W98)),"",IF(AND(G98="-",M98="-",S98="-",Y98="-"),"-",IF(AND(G98="-",ISBLANK(K98),ISBLANK(Q98),ISBLANK(W98)),"-",IF(AND(G98="-",M98="-",ISBLANK(Q98),ISBLANK(W98)),"-",IF(AND(G98="-",M98="-",S98="-",ISBLANK(W98)),"-",MIN(G98,M98,S98,Y98)))))) | AG98: =IF(AB98="","",COUNTIF(AB11:AB98,"-")) | AO98: =IF(AB98="","",IF(AN98="0","0",COUNTIF(AN11:AN97,AN98))) | AV98: BYE | AW98: =COUNTIF(#REF!,"AA") -> #REF! | AX98: =IF(BB98="","",COUNTIF(BB11:BB98,"-")) | BA98: BYE
A99: 89 | AB99: =IF(AND(ISBLANK(E99),ISBLANK(K99),ISBLANK(Q99),ISBLANK(W99)),"",IF(AND(G99="-",M99="-",S99="-",Y99="-"),"-",IF(AND(G99="-",ISBLANK(K99),ISBLANK(Q99),ISBLANK(W99)),"-",IF(AND(G99="-",M99="-",ISBLANK(Q99),ISBLANK(W99)),"-",IF(AND(G99="-",M99="-",S99="-",ISBLANK(W99)),"-",MIN(G99,M99,S99,Y99)))))) | AG99: =IF(AB99="","",COUNTIF(AB11:AB99,"-")) | AO99: =IF(AB99="","",IF(AN99="0","0",COUNTIF(AN11:AN98,AN99))) | AV99: BYE | AW99: =COUNTIF(#REF!,"AA") -> #REF! | AX99: =IF(BB99="","",COUNTIF(BB11:BB99,"-")) | BA99: BYE
A100: 90 | AB100: =IF(AND(ISBLANK(E100),ISBLANK(K100),ISBLANK(Q100),ISBLANK(W100)),"",IF(AND(G100="-",M100="-",S100="-",Y100="-"),"-",IF(AND(G100="-",ISBLANK(K100),ISBLANK(Q100),ISBLANK(W100)),"-",IF(AND(G100="-",M100="-",ISBLANK(Q100),ISBLANK(W100)),"-",IF(AND(G100="-",M100="-",S100="-",ISBLANK(W100)),"-",MIN(G100,M100,S100,Y100)))))) | AG100: =IF(AB100="","",COUNTIF(AB11:AB100,"-")) | AO100: =IF(AB100="","",IF(AN100="0","0",COUNTIF(AN11:AN99,AN100))) | AV100: BYE | AW100: =COUNTIF(#REF!,"AA") -> #REF! | AX100: =IF(BB100="","",COUNTIF(BB11:BB100,"-")) | BA100: BYE
A101: 91 | AB101: =IF(AND(ISBLANK(E101),ISBLANK(K101),ISBLANK(Q101),ISBLANK(W101)),"",IF(AND(G101="-",M101="-",S101="-",Y101="-"),"-",IF(AND(G101="-",ISBLANK(K101),ISBLANK(Q101),ISBLANK(W101)),"-",IF(AND(G101="-",M101="-",ISBLANK(Q101),ISBLANK(W101)),"-",IF(AND(G101="-",M101="-",S101="-",ISBLANK(W101)),"-",MIN(G101,M101,S101,Y101)))))) | AG101: =IF(AB101="","",COUNTIF(AB11:AB101,"-")) | AO101: =IF(AB101="","",IF(AN101="0","0",COUNTIF(AN11:AN100,AN101))) | AV101: BYE | AW101: =COUNTIF(#REF!,"AA") -> #REF! | AX101: =IF(BB101="","",COUNTIF(BB11:BB101,"-")) | BA101: BYE
A102: 92 | AB102: =IF(AND(ISBLANK(E102),ISBLANK(K102),ISBLANK(Q102),ISBLANK(W102)),"",IF(AND(G102="-",M102="-",S102="-",Y102="-"),"-",IF(AND(G102="-",ISBLANK(K102),ISBLANK(Q102),ISBLANK(W102)),"-",IF(AND(G102="-",M102="-",ISBLANK(Q102),ISBLANK(W102)),"-",IF(AND(G102="-",M102="-",S102="-",ISBLANK(W102)),"-",MIN(G102,M102,S102,Y102)))))) | AG102: =IF(AB102="","",COUNTIF(AB11:AB102,"-")) | AO102: =IF(AB102="","",IF(AN102="0","0",COUNTIF(AN11:AN101,AN102))) | AV102: BYE | AW102: =COUNTIF(#REF!,"AA") -> #REF! | AX102: =IF(BB102="","",COUNTIF(BB11:BB102,"-")) | BA102: BYE
A103: 93 | AB103: =IF(AND(ISBLANK(E103),ISBLANK(K103),ISBLANK(Q103),ISBLANK(W103)),"",IF(AND(G103="-",M103="-",S103="-",Y103="-"),"-",IF(AND(G103="-",ISBLANK(K103),ISBLANK(Q103),ISBLANK(W103)),"-",IF(AND(G103="-",M103="-",ISBLANK(Q103),ISBLANK(W103)),"-",IF(AND(G103="-",M103="-",S103="-",ISBLANK(W103)),"-",MIN(G103,M103,S103,Y103)))))) | AG103: =IF(AB103="","",COUNTIF(AB11:AB103,"-")) | AO103: =IF(AB103="","",IF(AN103="0","0",COUNTIF(AN11:AN102,AN103))) | AV103: BYE | AW103: =COUNTIF(#REF!,"AA") -> #REF! | AX103: =IF(BB103="","",COUNTIF(BB11:BB103,"-")) | BA103: BYE
...

Sheet Teens
D1: =INFO!C1 -> Slalom Petersburg battle | AZ1: Database development by
D2: =INFO!C9 -> September, 7 • Murinskiy park | AZ2: Dan Gesmer, SeismicSK8@aol.com
D3: =INFO!C3&" / Teens" -> Giant slalom / Teens
A6: 0.1 | B6: secs penalty per hit cone | D6: Under "Raw Time," enter "DQ" or"DNF" for
A7: 20 | B7: maximum hit cones before DQ | D7: "Disqualified" and "DNR" for "Did Not Race."
B9: Bib Number | C9: Racer Name | D9: Run 1 | J9: Run 2 | P9: Run 3 | V9: Run 4 | AA9: Qual Rank (w/out DQs) | AB9: Best Time | AC9: Final Position | AD9: Qual Rank (w/DQs sequenced) | AE9: Racer No. & Name | AF9: Best Time | AG9: Double DQ Place Factor | AH9: No. of Ties per Best Time | AI9: Tied-at Time | AJ9: Tied-at Time Rank | AK9: Run 1 Time w/DQ Adjust | AL9: Run 2 Time w/DQ Adjust | AM9: Total Time w/DQ Adjust | AN9: Total Time Rank | AO9: Total Tie Place Factor | AP9: Tie 1 Total Time Rank | AQ9: Tie 1 Place Factor | AR9: Tie 2 Total Time Rank | AS9: Tie 2 Place Factor | AT9: Tie 3 Total Time Rank | AU9: Tie 3 Place Factor | AV9: Placed Racer No. & Name | AW9: Withdrawal Place Factor | AX9: Double DQ Place Factor 2 | AY9: Final Spot - Withdrawals | AZ9: Final Position | BA9: Racer No. & Name | BB9: Best Time
D10: Reaction Time | E10: Raw Time | F10: Cones | G10: Final Time | H10: Run Rank | J10: Reaction Time | K10: Raw Time | L10: Cones | M10: Final Time | N10: Run Rank | P10: Reaction Time | Q10: Raw Time | R10: Cones | S10: Final Time | T10: Run Rank | V10: Reaction Time | W10: Raw Time | X10: Cones | Y10: Final Time | Z10: Run Rank
A11: 1 | C11: Matvei Sargsian | E11: 16.366 | G11: {=IF(LEFT(E11:E110,1)="D","-",IF(F11:F110>A7,"-",IF(E11:E110>0,E11:E110+F11:F110*A6,"")))} -> 16.366 | H11: {=IF(G11:G110="","",IF(G11:G110="-","",RANK(G11:G110,G11:G110,1)))} -> 1 | K11: 15.365 | M11: {=IF(LEFT(K11:K110,1)="D","-",IF(L11:L110>A7,"-",IF(K11:K110>0,K11:K110+L11:L110*A6,"")))} -> 15.365 | N11: {=IF(M11:M110="","",IF(M11:M110="-","",RANK(M11:M110,M11:M110,1)))} -> 1 | S11: {=IF(LEFT(Q11:Q110,1)="D","-",IF(R11:R110>A7,"-",IF(Q11:Q110>0,Q11:Q110+R11:R110*A6,"")))} | T11: {=IF(S11:S110="","",IF(S11:S110="-","",RANK(S11:S110,S11:S110,1)))} | Y11: {=IF(LEFT(W11:W110,1)="D","-",IF(X11:X110>A7,"-",IF(W11:W110>0,W11:W110+X11:X110*A6,"")))} | Z11: {=IF(Y11:Y110="","",IF(Y11:Y110="-","",RANK(Y11:Y110,Y11:Y110,1)))} | AA11: {=IF(AB11:AB110="","",IF(AB11:AB110="-","",RANK(AB11:AB110,AB11:AB110,1)))} -> 1 | AB11: =IF(AND(ISBLANK(E11),ISBLANK(K11),ISBLANK(Q11),ISBLANK(W11)),"",IF(AND(G11="-",M11="-",S11="-",Y11="-"),"-",IF(AND(G11="-",ISBLANK(K11),ISBLANK(Q11),ISBLANK(W11)),"-",IF(AND(G11="-",M11="-",ISBLANK(Q11),ISBLANK(W11)),"-",IF(AND(G11="-",M11="-",S11="-",ISBLANK(W11)),"-",MIN(G11,M11,S11,Y11)))))) -> 15.365 | AC11: {=IF(AB11:AB110="","",VLOOKUP(AE11:AE110,AV11:AZ110,5,FALSE))} -> 1 | AD11: {=IF(AB11:AB110="","",IF(AB11:AB110="-",COUNT(AA11:AA110)+AG11:AG110,AA11:AA110+AO11:AO110+AQ11:AQ110+AS11:AS110+AU11:AU110))} -> 1 | AE11: {=IF(B11:B110 ="","",B11:B110 & " ")&C11:C110} -> Matvei Sargsian | AF11: {=AB11:AB110} -> 15.365 | AG11: =IF(AB11="","",COUNTIF(AB11:AB11,"-")) -> 0 | AH11: {=IF(AA11:AA110="","",COUNTIF(AA11:AA110,AA11:AA110)-1)} -> 0 | AI11: {=IF(AB11:AB110="-","",IF(AH11:AH110=0,"",AB11:AB110))} | AJ11: {=IF(AI11:AI110="","",RANK(AI11:AI110,AI11:AI110,1))} | AK11: {=IF(AH11:AH110="","",IF(AH11:AH110=0,"",IF(LEFT(G11:G110,1)="-","199",G11:G110)))} | AL11: {=IF(AH11:AH110="","",IF(AH11:AH110=0,"",IF(LEFT(M11:M110,1)="-","199",M11:M110)))} | AM11: {=IF(ISERROR(AK11:AK110+AL11:AL110)=TRUE,AK11:AK110,AK11:AK110+AL11:AL110)} | AN11: {=IF(AB11:AB110="","",IF(AH11:AH110=0,"0",IF(ISERROR(RANK(AM11:AM110,AM11:AM110,1))=TRUE,"0",RANK(AM11:AM110,AM11:AM110,1))))} -> 0 | AO11: 0 | AP11: {=IF(ISERROR(AH11:AH110)=TRUE,"",IF(AJ11:AJ110=1,AN11:AN110,""))} | AQ11: {=IF(AB11:AB110="","",IF(AP11:AP110="","0",RANK(AP11:AP110,AP11:AP110,1)-1))} -> 0 | AR11: {=IF(ISERROR(AH11:AH110)=TRUE,"",IF(AJ11:AJ110=COUNT(AP11:AP110)+1,AN11:AN110,""))} | AS11: {=IF(AB11:AB110="","",IF(AR11:AR110="","0",RANK(AR11:AR110,AR11:AR110,1)-1))} -> 0 | AT11: {=IF(ISERROR(AH11:AH110)=TRUE,"",IF(AJ11:AJ110=COUNT(AP11:AP110)+COUNT(AR11:AR110)+1,AN11:AN110,""))} | AU11: {=IF(AB11:AB110="","",IF(AT11:AT110="","0",RANK(AT11:AT110,AT11:AT110,1)-1))} -> 0 | AV11: {=BA11:BA110} -> Matvei Sargsian | AW11: =COUNTIF(#REF!,"AA") -> #REF! | AX11: =IF(BB11="","",COUNTIF(BB11:BB11,"-")) -> 0 | AY11: {=IF(BA11:BA110="BYE","",IF(#REF!="W","",IF(#REF!="N",IF(AZ11:AZ110<=COUNT(AA11:AA110),AZ11:AZ110-AW11:AW110,""),IF(AZ11:AZ110<=COUNT(AA11:AA110),AZ11:AZ110-AW11:AW110,AZ11:AZ110-AW11:AW110+AX11:AX110-1))))} -> #REF! | AZ11: {=IF(AB11:AB110="","",IF(AZ10:AZ109+1<=COUNT(AA11:AA110),AZ10:AZ109+1,COUNT(AA11:AA110)+1))} -> 1 | BA11: {=IF(AB11:AB110="","BYE",IF(ISERROR(VLOOKUP(A11:A110,AD11:AE110,2,FALSE))=TRUE,"",VLOOKUP(A11:A110,AD11:AE110,2,FALSE)))} -> Matvei Sargsian | BB11: {=IF(C11:C110="BYE", "",IF(A11:A110="","",IF(ISERROR(VLOOKUP(A11:A110,AD11:AF110,3,FALSE))=TRUE,"",VLOOKUP(A11:A110,AD11:AF110,3,FALSE))))} -> 15.365
A12: 2 | C12: Iliya Krasukov | E12: 16.784 | G12: 16.784 | H12: 2 | K12: 17.264 | M12: 17.264 | N12: 2 | AA12: 2 | AB12: =IF(AND(ISBLANK(E12),ISBLANK(K12),ISBLANK(Q12),ISBLANK(W12)),"",IF(AND(G12="-",M12="-",S12="-",Y12="-"),"-",IF(AND(G12="-",ISBLANK(K12),ISBLANK(Q12),ISBLANK(W12)),"-",IF(AND(G12="-",M12="-",ISBLANK(Q12),ISBLANK(W12)),"-",IF(AND(G12="-",M12="-",S12="-",ISBLANK(W12)),"-",MIN(G12,M12,S12,Y12)))))) -> 16.784 | AC12: 2 | AD12: 2 | AE12: Iliya Krasukov | AF12: 16.784 | AG12: =IF(AB12="","",COUNTIF(AB11:AB12,"-")) -> 0 | AH12: 0 | AN12: 0 | AO12: =IF(AB12="","",IF(AN12="0","0",COUNTIF(AN11:AN11,AN12))) -> 0 | AQ12: 0 | AS12: 0 | AU12: 0 | AV12: Iliya Krasukov | AW12: =COUNTIF(#REF!,"AA") -> #REF! | AX12: =IF(BB12="","",COUNTIF(BB11:BB12,"-")) -> 0 | AY12: #REF! | AZ12: 2 | BA12: Iliya Krasukov | BB12: 16.784
A13: 3 | AB13: =IF(AND(ISBLANK(E13),ISBLANK(K13),ISBLANK(Q13),ISBLANK(W13)),"",IF(AND(G13="-",M13="-",S13="-",Y13="-"),"-",IF(AND(G13="-",ISBLANK(K13),ISBLANK(Q13),ISBLANK(W13)),"-",IF(AND(G13="-",M13="-",ISBLANK(Q13),ISBLANK(W13)),"-",IF(AND(G13="-",M13="-",S13="-",ISBLANK(W13)),"-",MIN(G13,M13,S13,Y13)))))) | AG13: =IF(AB13="","",COUNTIF(AB11:AB13,"-")) | AO13: =IF(AB13="","",IF(AN13="0","0",COUNTIF(AN11:AN12,AN13))) | AV13: BYE | AW13: =COUNTIF(#REF!,"AA") -> #REF! | AX13: =IF(BB13="","",COUNTIF(BB11:BB13,"-")) | BA13: BYE
A14: 4 | AB14: =IF(AND(ISBLANK(E14),ISBLANK(K14),ISBLANK(Q14),ISBLANK(W14)),"",IF(AND(G14="-",M14="-",S14="-",Y14="-"),"-",IF(AND(G14="-",ISBLANK(K14),ISBLANK(Q14),ISBLANK(W14)),"-",IF(AND(G14="-",M14="-",ISBLANK(Q14),ISBLANK(W14)),"-",IF(AND(G14="-",M14="-",S14="-",ISBLANK(W14)),"-",MIN(G14,M14,S14,Y14)))))) | AG14: =IF(AB14="","",COUNTIF(AB11:AB14,"-")) | AO14: =IF(AB14="","",IF(AN14="0","0",COUNTIF(AN11:AN13,AN14))) | AV14: BYE | AW14: =COUNTIF(#REF!,"AA") -> #REF! | AX14: =IF(BB14="","",COUNTIF(BB11:BB14,"-")) | BA14: BYE
A15: 5 | AB15: =IF(AND(ISBLANK(E15),ISBLANK(K15),ISBLANK(Q15),ISBLANK(W15)),"",IF(AND(G15="-",M15="-",S15="-",Y15="-"),"-",IF(AND(G15="-",ISBLANK(K15),ISBLANK(Q15),ISBLANK(W15)),"-",IF(AND(G15="-",M15="-",ISBLANK(Q15),ISBLANK(W15)),"-",IF(AND(G15="-",M15="-",S15="-",ISBLANK(W15)),"-",MIN(G15,M15,S15,Y15)))))) | AG15: =IF(AB15="","",COUNTIF(AB11:AB15,"-")) | AO15: =IF(AB15="","",IF(AN15="0","0",COUNTIF(AN11:AN14,AN15))) | AV15: BYE | AW15: =COUNTIF(#REF!,"AA") -> #REF! | AX15: =IF(BB15="","",COUNTIF(BB11:BB15,"-")) | BA15: BYE
A16: 6 | AB16: =IF(AND(ISBLANK(E16),ISBLANK(K16),ISBLANK(Q16),ISBLANK(W16)),"",IF(AND(G16="-",M16="-",S16="-",Y16="-"),"-",IF(AND(G16="-",ISBLANK(K16),ISBLANK(Q16),ISBLANK(W16)),"-",IF(AND(G16="-",M16="-",ISBLANK(Q16),ISBLANK(W16)),"-",IF(AND(G16="-",M16="-",S16="-",ISBLANK(W16)),"-",MIN(G16,M16,S16,Y16)))))) | AG16: =IF(AB16="","",COUNTIF(AB11:AB16,"-")) | AO16: =IF(AB16="","",IF(AN16="0","0",COUNTIF(AN11:AN15,AN16))) | AV16: BYE | AW16: =COUNTIF(#REF!,"AA") -> #REF! | AX16: =IF(BB16="","",COUNTIF(BB11:BB16,"-")) | BA16: BYE
A17: 7 | AB17: =IF(AND(ISBLANK(E17),ISBLANK(K17),ISBLANK(Q17),ISBLANK(W17)),"",IF(AND(G17="-",M17="-",S17="-",Y17="-"),"-",IF(AND(G17="-",ISBLANK(K17),ISBLANK(Q17),ISBLANK(W17)),"-",IF(AND(G17="-",M17="-",ISBLANK(Q17),ISBLANK(W17)),"-",IF(AND(G17="-",M17="-",S17="-",ISBLANK(W17)),"-",MIN(G17,M17,S17,Y17)))))) | AG17: =IF(AB17="","",COUNTIF(AB11:AB17,"-")) | AO17: =IF(AB17="","",IF(AB17="","",IF(AN17="0","0",COUNTIF(AN11:AN16,AN17)))) | AV17: BYE | AW17: =COUNTIF(#REF!,"AA") -> #REF! | AX17: =IF(BB17="","",COUNTIF(BB11:BB17,"-")) | BA17: BYE
A18: 8 | AB18: =IF(AND(ISBLANK(E18),ISBLANK(K18),ISBLANK(Q18),ISBLANK(W18)),"",IF(AND(G18="-",M18="-",S18="-",Y18="-"),"-",IF(AND(G18="-",ISBLANK(K18),ISBLANK(Q18),ISBLANK(W18)),"-",IF(AND(G18="-",M18="-",ISBLANK(Q18),ISBLANK(W18)),"-",IF(AND(G18="-",M18="-",S18="-",ISBLANK(W18)),"-",MIN(G18,M18,S18,Y18)))))) | AG18: =IF(AB18="","",COUNTIF(AB11:AB18,"-")) | AO18: =IF(AB18="","",IF(AB18="","",IF(AN18="0","0",COUNTIF(AN11:AN17,AN18)))) | AV18: BYE | AW18: =COUNTIF(#REF!,"AA") -> #REF! | AX18: =IF(BB18="","",COUNTIF(BB11:BB18,"-")) | BA18: BYE
A19: 9 | AB19: =IF(AND(ISBLANK(E19),ISBLANK(K19),ISBLANK(Q19),ISBLANK(W19)),"",IF(AND(G19="-",M19="-",S19="-",Y19="-"),"-",IF(AND(G19="-",ISBLANK(K19),ISBLANK(Q19),ISBLANK(W19)),"-",IF(AND(G19="-",M19="-",ISBLANK(Q19),ISBLANK(W19)),"-",IF(AND(G19="-",M19="-",S19="-",ISBLANK(W19)),"-",MIN(G19,M19,S19,Y19)))))) | AG19: =IF(AB19="","",COUNTIF(AB11:AB19,"-")) | AO19: =IF(AB19="","",IF(AB19="","",IF(AN19="0","0",COUNTIF(AN11:AN18,AN19)))) | AV19: BYE | AW19: =COUNTIF(#REF!,"AA") -> #REF! | AX19: =IF(BB19="","",COUNTIF(BB11:BB19,"-")) | BA19: BYE
A20: 10 | AB20: =IF(AND(ISBLANK(E20),ISBLANK(K20),ISBLANK(Q20),ISBLANK(W20)),"",IF(AND(G20="-",M20="-",S20="-",Y20="-"),"-",IF(AND(G20="-",ISBLANK(K20),ISBLANK(Q20),ISBLANK(W20)),"-",IF(AND(G20="-",M20="-",ISBLANK(Q20),ISBLANK(W20)),"-",IF(AND(G20="-",M20="-",S20="-",ISBLANK(W20)),"-",MIN(G20,M20,S20,Y20)))))) | AG20: =IF(AB20="","",COUNTIF(AB11:AB20,"-")) | AO20: =IF(AB20="","",IF(AN20="0","0",COUNTIF(AN11:AN19,AN20))) | AV20: BYE | AW20: =COUNTIF(#REF!,"AA") -> #REF! | AX20: =IF(BB20="","",COUNTIF(BB11:BB20,"-")) | BA20: BYE
A21: 11 | AB21: =IF(AND(ISBLANK(E21),ISBLANK(K21),ISBLANK(Q21),ISBLANK(W21)),"",IF(AND(G21="-",M21="-",S21="-",Y21="-"),"-",IF(AND(G21="-",ISBLANK(K21),ISBLANK(Q21),ISBLANK(W21)),"-",IF(AND(G21="-",M21="-",ISBLANK(Q21),ISBLANK(W21)),"-",IF(AND(G21="-",M21="-",S21="-",ISBLANK(W21)),"-",MIN(G21,M21,S21,Y21)))))) | AG21: =IF(AB21="","",COUNTIF(AB11:AB21,"-")) | AO21: =IF(AB21="","",IF(AN21="0","0",COUNTIF(AN1:AN20,AN21))) | AV21: BYE | AW21: =COUNTIF(#REF!,"AA") -> #REF! | AX21: =IF(BB21="","",COUNTIF(BB11:BB21,"-")) | BA21: BYE
A22: 12 | AB22: =IF(AND(ISBLANK(E22),ISBLANK(K22),ISBLANK(Q22),ISBLANK(W22)),"",IF(AND(G22="-",M22="-",S22="-",Y22="-"),"-",IF(AND(G22="-",ISBLANK(K22),ISBLANK(Q22),ISBLANK(W22)),"-",IF(AND(G22="-",M22="-",ISBLANK(Q22),ISBLANK(W22)),"-",IF(AND(G22="-",M22="-",S22="-",ISBLANK(W22)),"-",MIN(G22,M22,S22,Y22)))))) | AG22: =IF(AB22="","",COUNTIF(AB11:AB22,"-")) | AO22: =IF(AB22="","",IF(AN22="0","0",COUNTIF(AN11:AN21,AN22))) | AV22: BYE | AW22: =COUNTIF(#REF!,"AA") -> #REF! | AX22: =IF(BB22="","",COUNTIF(BB11:BB22,"-")) | BA22: BYE
A23: 13 | AB23: =IF(AND(ISBLANK(E23),ISBLANK(K23),ISBLANK(Q23),ISBLANK(W23)),"",IF(AND(G23="-",M23="-",S23="-",Y23="-"),"-",IF(AND(G23="-",ISBLANK(K23),ISBLANK(Q23),ISBLANK(W23)),"-",IF(AND(G23="-",M23="-",ISBLANK(Q23),ISBLANK(W23)),"-",IF(AND(G23="-",M23="-",S23="-",ISBLANK(W23)),"-",MIN(G23,M23,S23,Y23)))))) | AG23: =IF(AB23="","",COUNTIF(AB11:AB23,"-")) | AO23: =IF(AB23="","",IF(AN23="0","0",COUNTIF(AN11:AN22,AN23))) | AV23: BYE | AW23: =COUNTIF(#REF!,"AA") -> #REF! | AX23: =IF(BB23="","",COUNTIF(BB11:BB23,"-")) | BA23: BYE
A24: 14 | AB24: =IF(AND(ISBLANK(E24),ISBLANK(K24),ISBLANK(Q24),ISBLANK(W24)),"",IF(AND(G24="-",M24="-",S24="-",Y24="-"),"-",IF(AND(G24="-",ISBLANK(K24),ISBLANK(Q24),ISBLANK(W24)),"-",IF(AND(G24="-",M24="-",ISBLANK(Q24),ISBLANK(W24)),"-",IF(AND(G24="-",M24="-",S24="-",ISBLANK(W24)),"-",MIN(G24,M24,S24,Y24)))))) | AG24: =IF(AB24="","",COUNTIF(AB11:AB24,"-")) | AO24: =IF(AB24="","",IF(AN24="0","0",COUNTIF(AN11:AN23,AN24))) | AV24: BYE | AW24: =COUNTIF(#REF!,"AA") -> #REF! | AX24: =IF(BB24="","",COUNTIF(BB11:BB24,"-")) | BA24: BYE
A25: 15 | AB25: =IF(AND(ISBLANK(E25),ISBLANK(K25),ISBLANK(Q25),ISBLANK(W25)),"",IF(AND(G25="-",M25="-",S25="-",Y25="-"),"-",IF(AND(G25="-",ISBLANK(K25),ISBLANK(Q25),ISBLANK(W25)),"-",IF(AND(G25="-",M25="-",ISBLANK(Q25),ISBLANK(W25)),"-",IF(AND(G25="-",M25="-",S25="-",ISBLANK(W25)),"-",MIN(G25,M25,S25,Y25)))))) | AG25: =IF(AB25="","",COUNTIF(AB11:AB25,"-")) | AO25: =IF(AB25="","",IF(AN25="0","0",COUNTIF(AN11:AN24,AN25))) | AV25: BYE | AW25: =COUNTIF(#REF!,"AA") -> #REF! | AX25: =IF(BB25="","",COUNTIF(BB11:BB25,"-")) | BA25: BYE
A26: 16 | AB26: =IF(AND(ISBLANK(E26),ISBLANK(K26),ISBLANK(Q26),ISBLANK(W26)),"",IF(AND(G26="-",M26="-",S26="-",Y26="-"),"-",IF(AND(G26="-",ISBLANK(K26),ISBLANK(Q26),ISBLANK(W26)),"-",IF(AND(G26="-",M26="-",ISBLANK(Q26),ISBLANK(W26)),"-",IF(AND(G26="-",M26="-",S26="-",ISBLANK(W26)),"-",MIN(G26,M26,S26,Y26)))))) | AG26: =IF(AB26="","",COUNTIF(AB11:AB26,"-")) | AO26: =IF(AB26="","",IF(AN26="0","0",COUNTIF(AN11:AN25,AN26))) | AV26: BYE | AW26: =COUNTIF(#REF!,"AA") -> #REF! | AX26: =IF(BB26="","",COUNTIF(BB11:BB26,"-")) | BA26: BYE
A27: 17 | AB27: =IF(AND(ISBLANK(E27),ISBLANK(K27),ISBLANK(Q27),ISBLANK(W27)),"",IF(AND(G27="-",M27="-",S27="-",Y27="-"),"-",IF(AND(G27="-",ISBLANK(K27),ISBLANK(Q27),ISBLANK(W27)),"-",IF(AND(G27="-",M27="-",ISBLANK(Q27),ISBLANK(W27)),"-",IF(AND(G27="-",M27="-",S27="-",ISBLANK(W27)),"-",MIN(G27,M27,S27,Y27)))))) | AG27: =IF(AB27="","",COUNTIF(AB11:AB27,"-")) | AO27: =IF(AB27="","",IF(AN27="0","0",COUNTIF(AN11:AN26,AN27))) | AV27: BYE | AW27: =COUNTIF(#REF!,"AA") -> #REF! | AX27: =IF(BB27="","",COUNTIF(BB11:BB27,"-")) | BA27: BYE
A28: 18 | AB28: =IF(AND(ISBLANK(E28),ISBLANK(K28),ISBLANK(Q28),ISBLANK(W28)),"",IF(AND(G28="-",M28="-",S28="-",Y28="-"),"-",IF(AND(G28="-",ISBLANK(K28),ISBLANK(Q28),ISBLANK(W28)),"-",IF(AND(G28="-",M28="-",ISBLANK(Q28),ISBLANK(W28)),"-",IF(AND(G28="-",M28="-",S28="-",ISBLANK(W28)),"-",MIN(G28,M28,S28,Y28)))))) | AG28: =IF(AB28="","",COUNTIF(AB11:AB28,"-")) | AO28: =IF(AB28="","",IF(AN28="0","0",COUNTIF(AN11:AN27,AN28))) | AV28: BYE | AW28: =COUNTIF(#REF!,"AA") -> #REF! | AX28: =IF(BB28="","",COUNTIF(BB11:BB28,"-")) | BA28: BYE
A29: 19 | AB29: =IF(AND(ISBLANK(E29),ISBLANK(K29),ISBLANK(Q29),ISBLANK(W29)),"",IF(AND(G29="-",M29="-",S29="-",Y29="-"),"-",IF(AND(G29="-",ISBLANK(K29),ISBLANK(Q29),ISBLANK(W29)),"-",IF(AND(G29="-",M29="-",ISBLANK(Q29),ISBLANK(W29)),"-",IF(AND(G29="-",M29="-",S29="-",ISBLANK(W29)),"-",MIN(G29,M29,S29,Y29)))))) | AG29: =IF(AB29="","",COUNTIF(AB11:AB29,"-")) | AO29: =IF(AB29="","",IF(AN29="0","0",COUNTIF(AN11:AN28,AN29))) | AV29: BYE | AW29: =COUNTIF(#REF!,"AA") -> #REF! | AX29: =IF(BB29="","",COUNTIF(BB11:BB29,"-")) | BA29: BYE
A30: 20 | AB30: =IF(AND(ISBLANK(E30),ISBLANK(K30),ISBLANK(Q30),ISBLANK(W30)),"",IF(AND(G30="-",M30="-",S30="-",Y30="-"),"-",IF(AND(G30="-",ISBLANK(K30),ISBLANK(Q30),ISBLANK(W30)),"-",IF(AND(G30="-",M30="-",ISBLANK(Q30),ISBLANK(W30)),"-",IF(AND(G30="-",M30="-",S30="-",ISBLANK(W30)),"-",MIN(G30,M30,S30,Y30)))))) | AG30: =IF(AB30="","",COUNTIF(AB11:AB30,"-")) | AO30: =IF(AB30="","",IF(AN30="0","0",COUNTIF(AN11:AN29,AN30))) | AV30: BYE | AW30: =COUNTIF(#REF!,"AA") -> #REF! | AX30: =IF(BB30="","",COUNTIF(BB11:BB30,"-")) | BA30: BYE
A31: 21 | AB31: =IF(AND(ISBLANK(E31),ISBLANK(K31),ISBLANK(Q31),ISBLANK(W31)),"",IF(AND(G31="-",M31="-",S31="-",Y31="-"),"-",IF(AND(G31="-",ISBLANK(K31),ISBLANK(Q31),ISBLANK(W31)),"-",IF(AND(G31="-",M31="-",ISBLANK(Q31),ISBLANK(W31)),"-",IF(AND(G31="-",M31="-",S31="-",ISBLANK(W31)),"-",MIN(G31,M31,S31,Y31)))))) | AG31: =IF(AB31="","",COUNTIF(AB11:AB31,"-")) | AO31: =IF(AB31="","",IF(AN31="0","0",COUNTIF(AN11:AN30,AN31))) | AV31: BYE | AW31: =COUNTIF(#REF!,"AA") -> #REF! | AX31: =IF(BB31="","",COUNTIF(BB11:BB31,"-")) | BA31: BYE
A32: 22 | AB32: =IF(AND(ISBLANK(E32),ISBLANK(K32),ISBLANK(Q32),ISBLANK(W32)),"",IF(AND(G32="-",M32="-",S32="-",Y32="-"),"-",IF(AND(G32="-",ISBLANK(K32),ISBLANK(Q32),ISBLANK(W32)),"-",IF(AND(G32="-",M32="-",ISBLANK(Q32),ISBLANK(W32)),"-",IF(AND(G32="-",M32="-",S32="-",ISBLANK(W32)),"-",MIN(G32,M32,S32,Y32)))))) | AG32: =IF(AB32="","",COUNTIF(AB11:AB32,"-")) | AO32: =IF(AB32="","",IF(AN32="0","0",COUNTIF(AN11:AN31,AN32))) | AV32: BYE | AW32: =COUNTIF(#REF!,"AA") -> #REF! | AX32: =IF(BB32="","",COUNTIF(BB11:BB32,"-")) | BA32: BYE
A33: 23 | AB33: =IF(AND(ISBLANK(E33),ISBLANK(K33),ISBLANK(Q33),ISBLANK(W33)),"",IF(AND(G33="-",M33="-",S33="-",Y33="-"),"-",IF(AND(G33="-",ISBLANK(K33),ISBLANK(Q33),ISBLANK(W33)),"-",IF(AND(G33="-",M33="-",ISBLANK(Q33),ISBLANK(W33)),"-",IF(AND(G33="-",M33="-",S33="-",ISBLANK(W33)),"-",MIN(G33,M33,S33,Y33)))))) | AG33: =IF(AB33="","",COUNTIF(AB11:AB33,"-")) | AO33: =IF(AB33="","",IF(AN33="0","0",COUNTIF(AN11:AN32,AN33))) | AV33: BYE | AW33: =COUNTIF(#REF!,"AA") -> #REF! | AX33: =IF(BB33="","",COUNTIF(BB11:BB33,"-")) | BA33: BYE
A34: 24 | AB34: =IF(AND(ISBLANK(E34),ISBLANK(K34),ISBLANK(Q34),ISBLANK(W34)),"",IF(AND(G34="-",M34="-",S34="-",Y34="-"),"-",IF(AND(G34="-",ISBLANK(K34),ISBLANK(Q34),ISBLANK(W34)),"-",IF(AND(G34="-",M34="-",ISBLANK(Q34),ISBLANK(W34)),"-",IF(AND(G34="-",M34="-",S34="-",ISBLANK(W34)),"-",MIN(G34,M34,S34,Y34)))))) | AG34: =IF(AB34="","",COUNTIF(AB11:AB34,"-")) | AO34: =IF(AB34="","",IF(AN34="0","0",COUNTIF(AN11:AN33,AN34))) | AV34: BYE | AW34: =COUNTIF(#REF!,"AA") -> #REF! | AX34: =IF(BB34="","",COUNTIF(BB11:BB34,"-")) | BA34: BYE
A35: 25 | AB35: =IF(AND(ISBLANK(E35),ISBLANK(K35),ISBLANK(Q35),ISBLANK(W35)),"",IF(AND(G35="-",M35="-",S35="-",Y35="-"),"-",IF(AND(G35="-",ISBLANK(K35),ISBLANK(Q35),ISBLANK(W35)),"-",IF(AND(G35="-",M35="-",ISBLANK(Q35),ISBLANK(W35)),"-",IF(AND(G35="-",M35="-",S35="-",ISBLANK(W35)),"-",MIN(G35,M35,S35,Y35)))))) | AG35: =IF(AB35="","",COUNTIF(AB11:AB35,"-")) | AO35: =IF(AB35="","",IF(AN35="0","0",COUNTIF(AN11:AN34,AN35))) | AV35: BYE | AW35: =COUNTIF(#REF!,"AA") -> #REF! | AX35: =IF(BB35="","",COUNTIF(BB11:BB35,"-")) | BA35: BYE
A36: 26 | AB36: =IF(AND(ISBLANK(E36),ISBLANK(K36),ISBLANK(Q36),ISBLANK(W36)),"",IF(AND(G36="-",M36="-",S36="-",Y36="-"),"-",IF(AND(G36="-",ISBLANK(K36),ISBLANK(Q36),ISBLANK(W36)),"-",IF(AND(G36="-",M36="-",ISBLANK(Q36),ISBLANK(W36)),"-",IF(AND(G36="-",M36="-",S36="-",ISBLANK(W36)),"-",MIN(G36,M36,S36,Y36)))))) | AG36: =IF(AB36="","",COUNTIF(AB11:AB36,"-")) | AO36: =IF(AB36="","",IF(AN36="0","0",COUNTIF(AN11:AN35,AN36))) | AV36: BYE | AW36: =COUNTIF(#REF!,"AA") -> #REF! | AX36: =IF(BB36="","",COUNTIF(BB11:BB36,"-")) | BA36: BYE
A37: 27 | AB37: =IF(AND(ISBLANK(E37),ISBLANK(K37),ISBLANK(Q37),ISBLANK(W37)),"",IF(AND(G37="-",M37="-",S37="-",Y37="-"),"-",IF(AND(G37="-",ISBLANK(K37),ISBLANK(Q37),ISBLANK(W37)),"-",IF(AND(G37="-",M37="-",ISBLANK(Q37),ISBLANK(W37)),"-",IF(AND(G37="-",M37="-",S37="-",ISBLANK(W37)),"-",MIN(G37,M37,S37,Y37)))))) | AG37: =IF(AB37="","",COUNTIF(AB11:AB37,"-")) | AO37: =IF(AB37="","",IF(AN37="0","0",COUNTIF(AN11:AN36,AN37))) | AV37: BYE | AW37: =COUNTIF(#REF!,"AA") -> #REF! | AX37: =IF(BB37="","",COUNTIF(BB11:BB37,"-")) | BA37: BYE
A38: 28 | AB38: =IF(AND(ISBLANK(E38),ISBLANK(K38),ISBLANK(Q38),ISBLANK(W38)),"",IF(AND(G38="-",M38="-",S38="-",Y38="-"),"-",IF(AND(G38="-",ISBLANK(K38),ISBLANK(Q38),ISBLANK(W38)),"-",IF(AND(G38="-",M38="-",ISBLANK(Q38),ISBLANK(W38)),"-",IF(AND(G38="-",M38="-",S38="-",ISBLANK(W38)),"-",MIN(G38,M38,S38,Y38)))))) | AG38: =IF(AB38="","",COUNTIF(AB11:AB38,"-")) | AO38: =IF(AB38="","",IF(AN38="0","0",COUNTIF(AN11:AN37,AN38))) | AV38: BYE | AW38: =COUNTIF(#REF!,"AA") -> #REF! | AX38: =IF(BB38="","",COUNTIF(BB11:BB38,"-")) | BA38: BYE
A39: 29 | AB39: =IF(AND(ISBLANK(E39),ISBLANK(K39),ISBLANK(Q39),ISBLANK(W39)),"",IF(AND(G39="-",M39="-",S39="-",Y39="-"),"-",IF(AND(G39="-",ISBLANK(K39),ISBLANK(Q39),ISBLANK(W39)),"-",IF(AND(G39="-",M39="-",ISBLANK(Q39),ISBLANK(W39)),"-",IF(AND(G39="-",M39="-",S39="-",ISBLANK(W39)),"-",MIN(G39,M39,S39,Y39)))))) | AG39: =IF(AB39="","",COUNTIF(AB11:AB39,"-")) | AO39: =IF(AB39="","",IF(AN39="0","0",COUNTIF(AN11:AN38,AN39))) | AV39: BYE | AW39: =COUNTIF(#REF!,"AA") -> #REF! | AX39: =IF(BB39="","",COUNTIF(BB11:BB39,"-")) | BA39: BYE
A40: 30 | AB40: =IF(AND(ISBLANK(E40),ISBLANK(K40),ISBLANK(Q40),ISBLANK(W40)),"",IF(AND(G40="-",M40="-",S40="-",Y40="-"),"-",IF(AND(G40="-",ISBLANK(K40),ISBLANK(Q40),ISBLANK(W40)),"-",IF(AND(G40="-",M40="-",ISBLANK(Q40),ISBLANK(W40)),"-",IF(AND(G40="-",M40="-",S40="-",ISBLANK(W40)),"-",MIN(G40,M40,S40,Y40)))))) | AG40: =IF(AB40="","",COUNTIF(AB11:AB40,"-")) | AO40: =IF(AB40="","",IF(AN40="0","0",COUNTIF(AN11:AN39,AN40))) | AV40: BYE | AW40: =COUNTIF(#REF!,"AA") -> #REF! | AX40: =IF(BB40="","",COUNTIF(BB11:BB40,"-")) | BA40: BYE
A41: 31 | AB41: =IF(AND(ISBLANK(E41),ISBLANK(K41),ISBLANK(Q41),ISBLANK(W41)),"",IF(AND(G41="-",M41="-",S41="-",Y41="-"),"-",IF(AND(G41="-",ISBLANK(K41),ISBLANK(Q41),ISBLANK(W41)),"-",IF(AND(G41="-",M41="-",ISBLANK(Q41),ISBLANK(W41)),"-",IF(AND(G41="-",M41="-",S41="-",ISBLANK(W41)),"-",MIN(G41,M41,S41,Y41)))))) | AG41: =IF(AB41="","",COUNTIF(AB11:AB41,"-")) | AO41: =IF(AB41="","",IF(AN41="0","0",COUNTIF(AN11:AN40,AN41))) | AV41: BYE | AW41: =COUNTIF(#REF!,"AA") -> #REF! | AX41: =IF(BB41="","",COUNTIF(BB11:BB41,"-")) | BA41: BYE
A42: 32 | AB42: =IF(AND(ISBLANK(E42),ISBLANK(K42),ISBLANK(Q42),ISBLANK(W42)),"",IF(AND(G42="-",M42="-",S42="-",Y42="-"),"-",IF(AND(G42="-",ISBLANK(K42),ISBLANK(Q42),ISBLANK(W42)),"-",IF(AND(G42="-",M42="-",ISBLANK(Q42),ISBLANK(W42)),"-",IF(AND(G42="-",M42="-",S42="-",ISBLANK(W42)),"-",MIN(G42,M42,S42,Y42)))))) | AG42: =IF(AB42="","",COUNTIF(AB11:AB42,"-")) | AO42: =IF(AB42="","",IF(AN42="0","0",COUNTIF(AN11:AN41,AN42))) | AV42: BYE | AW42: =COUNTIF(#REF!,"AA") -> #REF! | AX42: =IF(BB42="","",COUNTIF(BB11:BB42,"-")) | BA42: BYE
A43: 33 | AB43: =IF(AND(ISBLANK(E43),ISBLANK(K43),ISBLANK(Q43),ISBLANK(W43)),"",IF(AND(G43="-",M43="-",S43="-",Y43="-"),"-",IF(AND(G43="-",ISBLANK(K43),ISBLANK(Q43),ISBLANK(W43)),"-",IF(AND(G43="-",M43="-",ISBLANK(Q43),ISBLANK(W43)),"-",IF(AND(G43="-",M43="-",S43="-",ISBLANK(W43)),"-",MIN(G43,M43,S43,Y43)))))) | AG43: =IF(AB43="","",COUNTIF(AB11:AB43,"-")) | AO43: =IF(AB43="","",IF(AN43="0","0",COUNTIF(AN11:AN42,AN43))) | AV43: BYE | AW43: =COUNTIF(#REF!,"AA") -> #REF! | AX43: =IF(BB43="","",COUNTIF(BB11:BB43,"-")) | BA43: BYE
A44: 34 | AB44: =IF(AND(ISBLANK(E44),ISBLANK(K44),ISBLANK(Q44),ISBLANK(W44)),"",IF(AND(G44="-",M44="-",S44="-",Y44="-"),"-",IF(AND(G44="-",ISBLANK(K44),ISBLANK(Q44),ISBLANK(W44)),"-",IF(AND(G44="-",M44="-",ISBLANK(Q44),ISBLANK(W44)),"-",IF(AND(G44="-",M44="-",S44="-",ISBLANK(W44)),"-",MIN(G44,M44,S44,Y44)))))) | AG44: =IF(AB44="","",COUNTIF(AB11:AB44,"-")) | AO44: =IF(AB44="","",IF(AN44="0","0",COUNTIF(AN11:AN43,AN44))) | AV44: BYE | AW44: =COUNTIF(#REF!,"AA") -> #REF! | AX44: =IF(BB44="","",COUNTIF(BB11:BB44,"-")) | BA44: BYE
A45: 35 | AB45: =IF(AND(ISBLANK(E45),ISBLANK(K45),ISBLANK(Q45),ISBLANK(W45)),"",IF(AND(G45="-",M45="-",S45="-",Y45="-"),"-",IF(AND(G45="-",ISBLANK(K45),ISBLANK(Q45),ISBLANK(W45)),"-",IF(AND(G45="-",M45="-",ISBLANK(Q45),ISBLANK(W45)),"-",IF(AND(G45="-",M45="-",S45="-",ISBLANK(W45)),"-",MIN(G45,M45,S45,Y45)))))) | AG45: =IF(AB45="","",COUNTIF(AB11:AB45,"-")) | AO45: =IF(AB45="","",IF(AN45="0","0",COUNTIF(AN11:AN44,AN45))) | AV45: BYE | AW45: =COUNTIF(#REF!,"AA") -> #REF! | AX45: =IF(BB45="","",COUNTIF(BB11:BB45,"-")) | BA45: BYE
A46: 36 | AB46: =IF(AND(ISBLANK(E46),ISBLANK(K46),ISBLANK(Q46),ISBLANK(W46)),"",IF(AND(G46="-",M46="-",S46="-",Y46="-"),"-",IF(AND(G46="-",ISBLANK(K46),ISBLANK(Q46),ISBLANK(W46)),"-",IF(AND(G46="-",M46="-",ISBLANK(Q46),ISBLANK(W46)),"-",IF(AND(G46="-",M46="-",S46="-",ISBLANK(W46)),"-",MIN(G46,M46,S46,Y46)))))) | AG46: =IF(AB46="","",COUNTIF(AB11:AB46,"-")) | AO46: =IF(AB46="","",IF(AN46="0","0",COUNTIF(AN11:AN45,AN46))) | AV46: BYE | AW46: =COUNTIF(#REF!,"AA") -> #REF! | AX46: =IF(BB46="","",COUNTIF(BB11:BB46,"-")) | BA46: BYE
A47: 37 | AB47: =IF(AND(ISBLANK(E47),ISBLANK(K47),ISBLANK(Q47),ISBLANK(W47)),"",IF(AND(G47="-",M47="-",S47="-",Y47="-"),"-",IF(AND(G47="-",ISBLANK(K47),ISBLANK(Q47),ISBLANK(W47)),"-",IF(AND(G47="-",M47="-",ISBLANK(Q47),ISBLANK(W47)),"-",IF(AND(G47="-",M47="-",S47="-",ISBLANK(W47)),"-",MIN(G47,M47,S47,Y47)))))) | AG47: =IF(AB47="","",COUNTIF(AB11:AB47,"-")) | AO47: =IF(AB47="","",IF(AN47="0","0",COUNTIF(AN11:AN46,AN47))) | AV47: BYE | AW47: =COUNTIF(#REF!,"AA") -> #REF! | AX47: =IF(BB47="","",COUNTIF(BB11:BB47,"-")) | BA47: BYE
A48: 38 | AB48: =IF(AND(ISBLANK(E48),ISBLANK(K48),ISBLANK(Q48),ISBLANK(W48)),"",IF(AND(G48="-",M48="-",S48="-",Y48="-"),"-",IF(AND(G48="-",ISBLANK(K48),ISBLANK(Q48),ISBLANK(W48)),"-",IF(AND(G48="-",M48="-",ISBLANK(Q48),ISBLANK(W48)),"-",IF(AND(G48="-",M48="-",S48="-",ISBLANK(W48)),"-",MIN(G48,M48,S48,Y48)))))) | AG48: =IF(AB48="","",COUNTIF(AB11:AB48,"-")) | AO48: =IF(AB48="","",IF(AN48="0","0",COUNTIF(AN11:AN47,AN48))) | AV48: BYE | AW48: =COUNTIF(#REF!,"AA") -> #REF! | AX48: =IF(BB48="","",COUNTIF(BB11:BB48,"-")) | BA48: BYE
A49: 39 | AB49: =IF(AND(ISBLANK(E49),ISBLANK(K49),ISBLANK(Q49),ISBLANK(W49)),"",IF(AND(G49="-",M49="-",S49="-",Y49="-"),"-",IF(AND(G49="-",ISBLANK(K49),ISBLANK(Q49),ISBLANK(W49)),"-",IF(AND(G49="-",M49="-",ISBLANK(Q49),ISBLANK(W49)),"-",IF(AND(G49="-",M49="-",S49="-",ISBLANK(W49)),"-",MIN(G49,M49,S49,Y49)))))) | AG49: =IF(AB49="","",COUNTIF(AB11:AB49,"-")) | AO49: =IF(AB49="","",IF(AN49="0","0",COUNTIF(AN11:AN48,AN49))) | AV49: BYE | AW49: =COUNTIF(#REF!,"AA") -> #REF! | AX49: =IF(BB49="","",COUNTIF(BB11:BB49,"-")) | BA49: BYE
A50: 40 | AB50: =IF(AND(ISBLANK(E50),ISBLANK(K50),ISBLANK(Q50),ISBLANK(W50)),"",IF(AND(G50="-",M50="-",S50="-",Y50="-"),"-",IF(AND(G50="-",ISBLANK(K50),ISBLANK(Q50),ISBLANK(W50)),"-",IF(AND(G50="-",M50="-",ISBLANK(Q50),ISBLANK(W50)),"-",IF(AND(G50="-",M50="-",S50="-",ISBLANK(W50)),"-",MIN(G50,M50,S50,Y50)))))) | AG50: =IF(AB50="","",COUNTIF(AB11:AB50,"-")) | AO50: =IF(AB50="","",IF(AN50="0","0",COUNTIF(AN11:AN49,AN50))) | AV50: BYE | AW50: =COUNTIF(#REF!,"AA") -> #REF! | AX50: =IF(BB50="","",COUNTIF(BB11:BB50,"-")) | BA50: BYE
A51: 41 | AB51: =IF(AND(ISBLANK(E51),ISBLANK(K51),ISBLANK(Q51),ISBLANK(W51)),"",IF(AND(G51="-",M51="-",S51="-",Y51="-"),"-",IF(AND(G51="-",ISBLANK(K51),ISBLANK(Q51),ISBLANK(W51)),"-",IF(AND(G51="-",M51="-",ISBLANK(Q51),ISBLANK(W51)),"-",IF(AND(G51="-",M51="-",S51="-",ISBLANK(W51)),"-",MIN(G51,M51,S51,Y51)))))) | AG51: =IF(AB51="","",COUNTIF(AB11:AB51,"-")) | AO51: =IF(AB51="","",IF(AN51="0","0",COUNTIF(AN11:AN50,AN51))) | AV51: BYE | AW51: =COUNTIF(#REF!,"AA") -> #REF! | AX51: =IF(BB51="","",COUNTIF(BB11:BB51,"-")) | BA51: BYE
A52: 42 | AB52: =IF(AND(ISBLANK(E52),ISBLANK(K52),ISBLANK(Q52),ISBLANK(W52)),"",IF(AND(G52="-",M52="-",S52="-",Y52="-"),"-",IF(AND(G52="-",ISBLANK(K52),ISBLANK(Q52),ISBLANK(W52)),"-",IF(AND(G52="-",M52="-",ISBLANK(Q52),ISBLANK(W52)),"-",IF(AND(G52="-",M52="-",S52="-",ISBLANK(W52)),"-",MIN(G52,M52,S52,Y52)))))) | AG52: =IF(AB52="","",COUNTIF(AB11:AB52,"-")) | AO52: =IF(AB52="","",IF(AN52="0","0",COUNTIF(AN11:AN51,AN52))) | AV52: BYE | AW52: =COUNTIF(#REF!,"AA") -> #REF! | AX52: =IF(BB52="","",COUNTIF(BB11:BB52,"-")) | BA52: BYE
A53: 43 | AB53: =IF(AND(ISBLANK(E53),ISBLANK(K53),ISBLANK(Q53),ISBLANK(W53)),"",IF(AND(G53="-",M53="-",S53="-",Y53="-"),"-",IF(AND(G53="-",ISBLANK(K53),ISBLANK(Q53),ISBLANK(W53)),"-",IF(AND(G53="-",M53="-",ISBLANK(Q53),ISBLANK(W53)),"-",IF(AND(G53="-",M53="-",S53="-",ISBLANK(W53)),"-",MIN(G53,M53,S53,Y53)))))) | AG53: =IF(AB53="","",COUNTIF(AB11:AB53,"-")) | AO53: =IF(AB53="","",IF(AN53="0","0",COUNTIF(AN11:AN52,AN53))) | AV53: BYE | AW53: =COUNTIF(#REF!,"AA") -> #REF! | AX53: =IF(BB53="","",COUNTIF(BB11:BB53,"-")) | BA53: BYE
A54: 44 | AB54: =IF(AND(ISBLANK(E54),ISBLANK(K54),ISBLANK(Q54),ISBLANK(W54)),"",IF(AND(G54="-",M54="-",S54="-",Y54="-"),"-",IF(AND(G54="-",ISBLANK(K54),ISBLANK(Q54),ISBLANK(W54)),"-",IF(AND(G54="-",M54="-",ISBLANK(Q54),ISBLANK(W54)),"-",IF(AND(G54="-",M54="-",S54="-",ISBLANK(W54)),"-",MIN(G54,M54,S54,Y54)))))) | AG54: =IF(AB54="","",COUNTIF(AB11:AB54,"-")) | AO54: =IF(AB54="","",IF(AN54="0","0",COUNTIF(AN11:AN53,AN54))) | AV54: BYE | AW54: =COUNTIF(#REF!,"AA") -> #REF! | AX54: =IF(BB54="","",COUNTIF(BB11:BB54,"-")) | BA54: BYE
A55: 45 | AB55: =IF(AND(ISBLANK(E55),ISBLANK(K55),ISBLANK(Q55),ISBLANK(W55)),"",IF(AND(G55="-",M55="-",S55="-",Y55="-"),"-",IF(AND(G55="-",ISBLANK(K55),ISBLANK(Q55),ISBLANK(W55)),"-",IF(AND(G55="-",M55="-",ISBLANK(Q55),ISBLANK(W55)),"-",IF(AND(G55="-",M55="-",S55="-",ISBLANK(W55)),"-",MIN(G55,M55,S55,Y55)))))) | AG55: =IF(AB55="","",COUNTIF(AB11:AB55,"-")) | AO55: =IF(AB55="","",IF(AN55="0","0",COUNTIF(AN11:AN54,AN55))) | AV55: BYE | AW55: =COUNTIF(#REF!,"AA") -> #REF! | AX55: =IF(BB55="","",COUNTIF(BB11:BB55,"-")) | BA55: BYE
A56: 46 | AB56: =IF(AND(ISBLANK(E56),ISBLANK(K56),ISBLANK(Q56),ISBLANK(W56)),"",IF(AND(G56="-",M56="-",S56="-",Y56="-"),"-",IF(AND(G56="-",ISBLANK(K56),ISBLANK(Q56),ISBLANK(W56)),"-",IF(AND(G56="-",M56="-",ISBLANK(Q56),ISBLANK(W56)),"-",IF(AND(G56="-",M56="-",S56="-",ISBLANK(W56)),"-",MIN(G56,M56,S56,Y56)))))) | AG56: =IF(AB56="","",COUNTIF(AB11:AB56,"-")) | AO56: =IF(AB56="","",IF(AN56="0","0",COUNTIF(AN11:AN55,AN56))) | AV56: BYE | AW56: =COUNTIF(#REF!,"AA") -> #REF! | AX56: =IF(BB56="","",COUNTIF(BB11:BB56,"-")) | BA56: BYE
A57: 47 | AB57: =IF(AND(ISBLANK(E57),ISBLANK(K57),ISBLANK(Q57),ISBLANK(W57)),"",IF(AND(G57="-",M57="-",S57="-",Y57="-"),"-",IF(AND(G57="-",ISBLANK(K57),ISBLANK(Q57),ISBLANK(W57)),"-",IF(AND(G57="-",M57="-",ISBLANK(Q57),ISBLANK(W57)),"-",IF(AND(G57="-",M57="-",S57="-",ISBLANK(W57)),"-",MIN(G57,M57,S57,Y57)))))) | AG57: =IF(AB57="","",COUNTIF(AB11:AB57,"-")) | AO57: =IF(AB57="","",IF(AN57="0","0",COUNTIF(AN11:AN56,AN57))) | AV57: BYE | AW57: =COUNTIF(#REF!,"AA") -> #REF! | AX57: =IF(BB57="","",COUNTIF(BB11:BB57,"-")) | BA57: BYE
A58: 48 | AB58: =IF(AND(ISBLANK(E58),ISBLANK(K58),ISBLANK(Q58),ISBLANK(W58)),"",IF(AND(G58="-",M58="-",S58="-",Y58="-"),"-",IF(AND(G58="-",ISBLANK(K58),ISBLANK(Q58),ISBLANK(W58)),"-",IF(AND(G58="-",M58="-",ISBLANK(Q58),ISBLANK(W58)),"-",IF(AND(G58="-",M58="-",S58="-",ISBLANK(W58)),"-",MIN(G58,M58,S58,Y58)))))) | AG58: =IF(AB58="","",COUNTIF(AB11:AB58,"-")) | AO58: =IF(AB58="","",IF(AN58="0","0",COUNTIF(AN11:AN57,AN58))) | AV58: BYE | AW58: =COUNTIF(#REF!,"AA") -> #REF! | AX58: =IF(BB58="","",COUNTIF(BB11:BB58,"-")) | BA58: BYE
A59: 49 | AB59: =IF(AND(ISBLANK(E59),ISBLANK(K59),ISBLANK(Q59),ISBLANK(W59)),"",IF(AND(G59="-",M59="-",S59="-",Y59="-"),"-",IF(AND(G59="-",ISBLANK(K59),ISBLANK(Q59),ISBLANK(W59)),"-",IF(AND(G59="-",M59="-",ISBLANK(Q59),ISBLANK(W59)),"-",IF(AND(G59="-",M59="-",S59="-",ISBLANK(W59)),"-",MIN(G59,M59,S59,Y59)))))) | AG59: =IF(AB59="","",COUNTIF(AB11:AB59,"-")) | AO59: =IF(AB59="","",IF(AN59="0","0",COUNTIF(AN11:AN58,AN59))) | AV59: BYE | AW59: =COUNTIF(#REF!,"AA") -> #REF! | AX59: =IF(BB59="","",COUNTIF(BB11:BB59,"-")) | BA59: BYE
A60: 50 | AB60: =IF(AND(ISBLANK(E60),ISBLANK(K60),ISBLANK(Q60),ISBLANK(W60)),"",IF(AND(G60="-",M60="-",S60="-",Y60="-"),"-",IF(AND(G60="-",ISBLANK(K60),ISBLANK(Q60),ISBLANK(W60)),"-",IF(AND(G60="-",M60="-",ISBLANK(Q60),ISBLANK(W60)),"-",IF(AND(G60="-",M60="-",S60="-",ISBLANK(W60)),"-",MIN(G60,M60,S60,Y60)))))) | AG60: =IF(AB60="","",COUNTIF(AB11:AB60,"-")) | AO60: =IF(AB60="","",IF(AN60="0","0",COUNTIF(AN11:AN59,AN60))) | AV60: BYE | AW60: =COUNTIF(#REF!,"AA") -> #REF! | AX60: =IF(BB60="","",COUNTIF(BB11:BB60,"-")) | BA60: BYE
A61: 51 | AB61: =IF(AND(ISBLANK(E61),ISBLANK(K61),ISBLANK(Q61),ISBLANK(W61)),"",IF(AND(G61="-",M61="-",S61="-",Y61="-"),"-",IF(AND(G61="-",ISBLANK(K61),ISBLANK(Q61),ISBLANK(W61)),"-",IF(AND(G61="-",M61="-",ISBLANK(Q61),ISBLANK(W61)),"-",IF(AND(G61="-",M61="-",S61="-",ISBLANK(W61)),"-",MIN(G61,M61,S61,Y61)))))) | AG61: =IF(AB61="","",COUNTIF(AB11:AB61,"-")) | AO61: =IF(AB61="","",IF(AN61="0","0",COUNTIF(AN11:AN60,AN61))) | AV61: BYE | AW61: =COUNTIF(#REF!,"AA") -> #REF! | AX61: =IF(BB61="","",COUNTIF(BB11:BB61,"-")) | BA61: BYE
A62: 52 | AB62: =IF(AND(ISBLANK(E62),ISBLANK(K62),ISBLANK(Q62),ISBLANK(W62)),"",IF(AND(G62="-",M62="-",S62="-",Y62="-"),"-",IF(AND(G62="-",ISBLANK(K62),ISBLANK(Q62),ISBLANK(W62)),"-",IF(AND(G62="-",M62="-",ISBLANK(Q62),ISBLANK(W62)),"-",IF(AND(G62="-",M62="-",S62="-",ISBLANK(W62)),"-",MIN(G62,M62,S62,Y62)))))) | AG62: =IF(AB62="","",COUNTIF(AB11:AB62,"-")) | AO62: =IF(AB62="","",IF(AN62="0","0",COUNTIF(AN11:AN61,AN62))) | AV62: BYE | AW62: =COUNTIF(#REF!,"AA") -> #REF! | AX62: =IF(BB62="","",COUNTIF(BB11:BB62,"-")) | BA62: BYE
A63: 53 | AB63: =IF(AND(ISBLANK(E63),ISBLANK(K63),ISBLANK(Q63),ISBLANK(W63)),"",IF(AND(G63="-",M63="-",S63="-",Y63="-"),"-",IF(AND(G63="-",ISBLANK(K63),ISBLANK(Q63),ISBLANK(W63)),"-",IF(AND(G63="-",M63="-",ISBLANK(Q63),ISBLANK(W63)),"-",IF(AND(G63="-",M63="-",S63="-",ISBLANK(W63)),"-",MIN(G63,M63,S63,Y63)))))) | AG63: =IF(AB63="","",COUNTIF(AB11:AB63,"-")) | AO63: =IF(AB63="","",IF(AN63="0","0",COUNTIF(AN11:AN62,AN63))) | AV63: BYE | AW63: =COUNTIF(#REF!,"AA") -> #REF! | AX63: =IF(BB63="","",COUNTIF(BB11:BB63,"-")) | BA63: BYE
A64: 54 | AB64: =IF(AND(ISBLANK(E64),ISBLANK(K64),ISBLANK(Q64),ISBLANK(W64)),"",IF(AND(G64="-",M64="-",S64="-",Y64="-"),"-",IF(AND(G64="-",ISBLANK(K64),ISBLANK(Q64),ISBLANK(W64)),"-",IF(AND(G64="-",M64="-",ISBLANK(Q64),ISBLANK(W64)),"-",IF(AND(G64="-",M64="-",S64="-",ISBLANK(W64)),"-",MIN(G64,M64,S64,Y64)))))) | AG64: =IF(AB64="","",COUNTIF(AB11:AB64,"-")) | AO64: =IF(AB64="","",IF(AN64="0","0",COUNTIF(AN11:AN63,AN64))) | AV64: BYE | AW64: =COUNTIF(#REF!,"AA") -> #REF! | AX64: =IF(BB64="","",COUNTIF(BB11:BB64,"-")) | BA64: BYE
A65: 55 | AB65: =IF(AND(ISBLANK(E65),ISBLANK(K65),ISBLANK(Q65),ISBLANK(W65)),"",IF(AND(G65="-",M65="-",S65="-",Y65="-"),"-",IF(AND(G65="-",ISBLANK(K65),ISBLANK(Q65),ISBLANK(W65)),"-",IF(AND(G65="-",M65="-",ISBLANK(Q65),ISBLANK(W65)),"-",IF(AND(G65="-",M65="-",S65="-",ISBLANK(W65)),"-",MIN(G65,M65,S65,Y65)))))) | AG65: =IF(AB65="","",COUNTIF(AB11:AB65,"-")) | AO65: =IF(AB65="","",IF(AN65="0","0",COUNTIF(AN11:AN64,AN65))) | AV65: BYE | AW65: =COUNTIF(#REF!,"AA") -> #REF! | AX65: =IF(BB65="","",COUNTIF(BB11:BB65,"-")) | BA65: BYE
A66: 56 | AB66: =IF(AND(ISBLANK(E66),ISBLANK(K66),ISBLANK(Q66),ISBLANK(W66)),"",IF(AND(G66="-",M66="-",S66="-",Y66="-"),"-",IF(AND(G66="-",ISBLANK(K66),ISBLANK(Q66),ISBLANK(W66)),"-",IF(AND(G66="-",M66="-",ISBLANK(Q66),ISBLANK(W66)),"-",IF(AND(G66="-",M66="-",S66="-",ISBLANK(W66)),"-",MIN(G66,M66,S66,Y66)))))) | AG66: =IF(AB66="","",COUNTIF(AB11:AB66,"-")) | AO66: =IF(AB66="","",IF(AN66="0","0",COUNTIF(AN11:AN65,AN66))) | AV66: BYE | AW66: =COUNTIF(#REF!,"AA") -> #REF! | AX66: =IF(BB66="","",COUNTIF(BB11:BB66,"-")) | BA66: BYE
A67: 57 | AB67: =IF(AND(ISBLANK(E67),ISBLANK(K67),ISBLANK(Q67),ISBLANK(W67)),"",IF(AND(G67="-",M67="-",S67="-",Y67="-"),"-",IF(AND(G67="-",ISBLANK(K67),ISBLANK(Q67),ISBLANK(W67)),"-",IF(AND(G67="-",M67="-",ISBLANK(Q67),ISBLANK(W67)),"-",IF(AND(G67="-",M67="-",S67="-",ISBLANK(W67)),"-",MIN(G67,M67,S67,Y67)))))) | AG67: =IF(AB67="","",COUNTIF(AB11:AB67,"-")) | AO67: =IF(AB67="","",IF(AB67="","",IF(AN67="0","0",COUNTIF(AN11:AN66,AN67)))) | AV67: BYE | AW67: =COUNTIF(#REF!,"AA") -> #REF! | AX67: =IF(BB67="","",COUNTIF(BB11:BB67,"-")) | BA67: BYE
A68: 58 | AB68: =IF(AND(ISBLANK(E68),ISBLANK(K68),ISBLANK(Q68),ISBLANK(W68)),"",IF(AND(G68="-",M68="-",S68="-",Y68="-"),"-",IF(AND(G68="-",ISBLANK(K68),ISBLANK(Q68),ISBLANK(W68)),"-",IF(AND(G68="-",M68="-",ISBLANK(Q68),ISBLANK(W68)),"-",IF(AND(G68="-",M68="-",S68="-",ISBLANK(W68)),"-",MIN(G68,M68,S68,Y68)))))) | AG68: =IF(AB68="","",COUNTIF(AB11:AB68,"-")) | AO68: =IF(AB68="","",IF(AB68="","",IF(AN68="0","0",COUNTIF(AN11:AN67,AN68)))) | AV68: BYE | AW68: =COUNTIF(#REF!,"AA") -> #REF! | AX68: =IF(BB68="","",COUNTIF(BB11:BB68,"-")) | BA68: BYE
A69: 59 | AB69: =IF(AND(ISBLANK(E69),ISBLANK(K69),ISBLANK(Q69),ISBLANK(W69)),"",IF(AND(G69="-",M69="-",S69="-",Y69="-"),"-",IF(AND(G69="-",ISBLANK(K69),ISBLANK(Q69),ISBLANK(W69)),"-",IF(AND(G69="-",M69="-",ISBLANK(Q69),ISBLANK(W69)),"-",IF(AND(G69="-",M69="-",S69="-",ISBLANK(W69)),"-",MIN(G69,M69,S69,Y69)))))) | AG69: =IF(AB69="","",COUNTIF(AB11:AB69,"-")) | AO69: =IF(AB69="","",IF(AB69="","",IF(AN69="0","0",COUNTIF(AN11:AN68,AN69)))) | AV69: BYE | AW69: =COUNTIF(#REF!,"AA") -> #REF! | AX69: =IF(BB69="","",COUNTIF(BB11:BB69,"-")) | BA69: BYE
A70: 60 | AB70: =IF(AND(ISBLANK(E70),ISBLANK(K70),ISBLANK(Q70),ISBLANK(W70)),"",IF(AND(G70="-",M70="-",S70="-",Y70="-"),"-",IF(AND(G70="-",ISBLANK(K70),ISBLANK(Q70),ISBLANK(W70)),"-",IF(AND(G70="-",M70="-",ISBLANK(Q70),ISBLANK(W70)),"-",IF(AND(G70="-",M70="-",S70="-",ISBLANK(W70)),"-",MIN(G70,M70,S70,Y70)))))) | AG70: =IF(AB70="","",COUNTIF(AB11:AB70,"-")) | AO70: =IF(AB70="","",IF(AN70="0","0",COUNTIF(AN11:AN69,AN70))) | AV70: BYE | AW70: =COUNTIF(#REF!,"AA") -> #REF! | AX70: =IF(BB70="","",COUNTIF(BB11:BB70,"-")) | BA70: BYE
A71: 61 | AB71: =IF(AND(ISBLANK(E71),ISBLANK(K71),ISBLANK(Q71),ISBLANK(W71)),"",IF(AND(G71="-",M71="-",S71="-",Y71="-"),"-",IF(AND(G71="-",ISBLANK(K71),ISBLANK(Q71),ISBLANK(W71)),"-",IF(AND(G71="-",M71="-",ISBLANK(Q71),ISBLANK(W71)),"-",IF(AND(G71="-",M71="-",S71="-",ISBLANK(W71)),"-",MIN(G71,M71,S71,Y71)))))) | AG71: =IF(AB71="","",COUNTIF(AB11:AB71,"-")) | AO71: =IF(AB71="","",IF(AN71="0","0",COUNTIF(AN51:AN70,AN71))) | AV71: BYE | AW71: =COUNTIF(#REF!,"AA") -> #REF! | AX71: =IF(BB71="","",COUNTIF(BB11:BB71,"-")) | BA71: BYE
A72: 62 | AB72: =IF(AND(ISBLANK(E72),ISBLANK(K72),ISBLANK(Q72),ISBLANK(W72)),"",IF(AND(G72="-",M72="-",S72="-",Y72="-"),"-",IF(AND(G72="-",ISBLANK(K72),ISBLANK(Q72),ISBLANK(W72)),"-",IF(AND(G72="-",M72="-",ISBLANK(Q72),ISBLANK(W72)),"-",IF(AND(G72="-",M72="-",S72="-",ISBLANK(W72)),"-",MIN(G72,M72,S72,Y72)))))) | AG72: =IF(AB72="","",COUNTIF(AB11:AB72,"-")) | AO72: =IF(AB72="","",IF(AN72="0","0",COUNTIF(AN11:AN71,AN72))) | AV72: BYE | AW72: =COUNTIF(#REF!,"AA") -> #REF! | AX72: =IF(BB72="","",COUNTIF(BB11:BB72,"-")) | BA72: BYE
A73: 63 | AB73: =IF(AND(ISBLANK(E73),ISBLANK(K73),ISBLANK(Q73),ISBLANK(W73)),"",IF(AND(G73="-",M73="-",S73="-",Y73="-"),"-",IF(AND(G73="-",ISBLANK(K73),ISBLANK(Q73),ISBLANK(W73)),"-",IF(AND(G73="-",M73="-",ISBLANK(Q73),ISBLANK(W73)),"-",IF(AND(G73="-",M73="-",S73="-",ISBLANK(W73)),"-",MIN(G73,M73,S73,Y73)))))) | AG73: =IF(AB73="","",COUNTIF(AB11:AB73,"-")) | AO73: =IF(AB73="","",IF(AN73="0","0",COUNTIF(AN11:AN72,AN73))) | AV73: BYE | AW73: =COUNTIF(#REF!,"AA") -> #REF! | AX73: =IF(BB73="","",COUNTIF(BB11:BB73,"-")) | BA73: BYE
A74: 64 | AB74: =IF(AND(ISBLANK(E74),ISBLANK(K74),ISBLANK(Q74),ISBLANK(W74)),"",IF(AND(G74="-",M74="-",S74="-",Y74="-"),"-",IF(AND(G74="-",ISBLANK(K74),ISBLANK(Q74),ISBLANK(W74)),"-",IF(AND(G74="-",M74="-",ISBLANK(Q74),ISBLANK(W74)),"-",IF(AND(G74="-",M74="-",S74="-",ISBLANK(W74)),"-",MIN(G74,M74,S74,Y74)))))) | AG74: =IF(AB74="","",COUNTIF(AB11:AB74,"-")) | AO74: =IF(AB74="","",IF(AN74="0","0",COUNTIF(AN11:AN73,AN74))) | AV74: BYE | AW74: =COUNTIF(#REF!,"AA") -> #REF! | AX74: =IF(BB74="","",COUNTIF(BB11:BB74,"-")) | BA74: BYE
A75: 65 | AB75: =IF(AND(ISBLANK(E75),ISBLANK(K75),ISBLANK(Q75),ISBLANK(W75)),"",IF(AND(G75="-",M75="-",S75="-",Y75="-"),"-",IF(AND(G75="-",ISBLANK(K75),ISBLANK(Q75),ISBLANK(W75)),"-",IF(AND(G75="-",M75="-",ISBLANK(Q75),ISBLANK(W75)),"-",IF(AND(G75="-",M75="-",S75="-",ISBLANK(W75)),"-",MIN(G75,M75,S75,Y75)))))) | AG75: =IF(AB75="","",COUNTIF(AB11:AB75,"-")) | AO75: =IF(AB75="","",IF(AN75="0","0",COUNTIF(AN11:AN74,AN75))) | AV75: BYE | AW75: =COUNTIF(#REF!,"AA") -> #REF! | AX75: =IF(BB75="","",COUNTIF(BB11:BB75,"-")) | BA75: BYE
A76: 66 | AB76: =IF(AND(ISBLANK(E76),ISBLANK(K76),ISBLANK(Q76),ISBLANK(W76)),"",IF(AND(G76="-",M76="-",S76="-",Y76="-"),"-",IF(AND(G76="-",ISBLANK(K76),ISBLANK(Q76),ISBLANK(W76)),"-",IF(AND(G76="-",M76="-",ISBLANK(Q76),ISBLANK(W76)),"-",IF(AND(G76="-",M76="-",S76="-",ISBLANK(W76)),"-",MIN(G76,M76,S76,Y76)))))) | AG76: =IF(AB76="","",COUNTIF(AB11:AB76,"-")) | AO76: =IF(AB76="","",IF(AN76="0","0",COUNTIF(AN11:AN75,AN76))) | AV76: BYE | AW76: =COUNTIF(#REF!,"AA") -> #REF! | AX76: =IF(BB76="","",COUNTIF(BB11:BB76,"-")) | BA76: BYE
A77: 67 | AB77: =IF(AND(ISBLANK(E77),ISBLANK(K77),ISBLANK(Q77),ISBLANK(W77)),"",IF(AND(G77="-",M77="-",S77="-",Y77="-"),"-",IF(AND(G77="-",ISBLANK(K77),ISBLANK(Q77),ISBLANK(W77)),"-",IF(AND(G77="-",M77="-",ISBLANK(Q77),ISBLANK(W77)),"-",IF(AND(G77="-",M77="-",S77="-",ISBLANK(W77)),"-",MIN(G77,M77,S77,Y77)))))) | AG77: =IF(AB77="","",COUNTIF(AB11:AB77,"-")) | AO77: =IF(AB77="","",IF(AN77="0","0",COUNTIF(AN11:AN76,AN77))) | AV77: BYE | AW77: =COUNTIF(#REF!,"AA") -> #REF! | AX77: =IF(BB77="","",COUNTIF(BB11:BB77,"-")) | BA77: BYE
A78: 68 | AB78: =IF(AND(ISBLANK(E78),ISBLANK(K78),ISBLANK(Q78),ISBLANK(W78)),"",IF(AND(G78="-",M78="-",S78="-",Y78="-"),"-",IF(AND(G78="-",ISBLANK(K78),ISBLANK(Q78),ISBLANK(W78)),"-",IF(AND(G78="-",M78="-",ISBLANK(Q78),ISBLANK(W78)),"-",IF(AND(G78="-",M78="-",S78="-",ISBLANK(W78)),"-",MIN(G78,M78,S78,Y78)))))) | AG78: =IF(AB78="","",COUNTIF(AB11:AB78,"-")) | AO78: =IF(AB78="","",IF(AN78="0","0",COUNTIF(AN11:AN77,AN78))) | AV78: BYE | AW78: =COUNTIF(#REF!,"AA") -> #REF! | AX78: =IF(BB78="","",COUNTIF(BB11:BB78,"-")) | BA78: BYE
A79: 69 | AB79: =IF(AND(ISBLANK(E79),ISBLANK(K79),ISBLANK(Q79),ISBLANK(W79)),"",IF(AND(G79="-",M79="-",S79="-",Y79="-"),"-",IF(AND(G79="-",ISBLANK(K79),ISBLANK(Q79),ISBLANK(W79)),"-",IF(AND(G79="-",M79="-",ISBLANK(Q79),ISBLANK(W79)),"-",IF(AND(G79="-",M79="-",S79="-",ISBLANK(W79)),"-",MIN(G79,M79,S79,Y79)))))) | AG79: =IF(AB79="","",COUNTIF(AB11:AB79,"-")) | AO79: =IF(AB79="","",IF(AN79="0","0",COUNTIF(AN11:AN78,AN79))) | AV79: BYE | AW79: =COUNTIF(#REF!,"AA") -> #REF! | AX79: =IF(BB79="","",COUNTIF(BB11:BB79,"-")) | BA79: BYE
A80: 70 | AB80: =IF(AND(ISBLANK(E80),ISBLANK(K80),ISBLANK(Q80),ISBLANK(W80)),"",IF(AND(G80="-",M80="-",S80="-",Y80="-"),"-",IF(AND(G80="-",ISBLANK(K80),ISBLANK(Q80),ISBLANK(W80)),"-",IF(AND(G80="-",M80="-",ISBLANK(Q80),ISBLANK(W80)),"-",IF(AND(G80="-",M80="-",S80="-",ISBLANK(W80)),"-",MIN(G80,M80,S80,Y80)))))) | AG80: =IF(AB80="","",COUNTIF(AB11:AB80,"-")) | AO80: =IF(AB80="","",IF(AN80="0","0",COUNTIF(AN11:AN79,AN80))) | AV80: BYE | AW80: =COUNTIF(#REF!,"AA") -> #REF! | AX80: =IF(BB80="","",COUNTIF(BB11:BB80,"-")) | BA80: BYE
A81: 71 | AB81: =IF(AND(ISBLANK(E81),ISBLANK(K81),ISBLANK(Q81),ISBLANK(W81)),"",IF(AND(G81="-",M81="-",S81="-",Y81="-"),"-",IF(AND(G81="-",ISBLANK(K81),ISBLANK(Q81),ISBLANK(W81)),"-",IF(AND(G81="-",M81="-",ISBLANK(Q81),ISBLANK(W81)),"-",IF(AND(G81="-",M81="-",S81="-",ISBLANK(W81)),"-",MIN(G81,M81,S81,Y81)))))) | AG81: =IF(AB81="","",COUNTIF(AB11:AB81,"-")) | AO81: =IF(AB81="","",IF(AN81="0","0",COUNTIF(AN11:AN80,AN81))) | AV81: BYE | AW81: =COUNTIF(#REF!,"AA") -> #REF! | AX81: =IF(BB81="","",COUNTIF(BB11:BB81,"-")) | BA81: BYE
A82: 72 | AB82: =IF(AND(ISBLANK(E82),ISBLANK(K82),ISBLANK(Q82),ISBLANK(W82)),"",IF(AND(G82="-",M82="-",S82="-",Y82="-"),"-",IF(AND(G82="-",ISBLANK(K82),ISBLANK(Q82),ISBLANK(W82)),"-",IF(AND(G82="-",M82="-",ISBLANK(Q82),ISBLANK(W82)),"-",IF(AND(G82="-",M82="-",S82="-",ISBLANK(W82)),"-",MIN(G82,M82,S82,Y82)))))) | AG82: =IF(AB82="","",COUNTIF(AB11:AB82,"-")) | AO82: =IF(AB82="","",IF(AN82="0","0",COUNTIF(AN11:AN81,AN82))) | AV82: BYE | AW82: =COUNTIF(#REF!,"AA") -> #REF! | AX82: =IF(BB82="","",COUNTIF(BB11:BB82,"-")) | BA82: BYE
A83: 73 | AB83: =IF(AND(ISBLANK(E83),ISBLANK(K83),ISBLANK(Q83),ISBLANK(W83)),"",IF(AND(G83="-",M83="-",S83="-",Y83="-"),"-",IF(AND(G83="-",ISBLANK(K83),ISBLANK(Q83),ISBLANK(W83)),"-",IF(AND(G83="-",M83="-",ISBLANK(Q83),ISBLANK(W83)),"-",IF(AND(G83="-",M83="-",S83="-",ISBLANK(W83)),"-",MIN(G83,M83,S83,Y83)))))) | AG83: =IF(AB83="","",COUNTIF(AB11:AB83,"-")) | AO83: =IF(AB83="","",IF(AN83="0","0",COUNTIF(AN11:AN82,AN83))) | AV83: BYE | AW83: =COUNTIF(#REF!,"AA") -> #REF! | AX83: =IF(BB83="","",COUNTIF(BB11:BB83,"-")) | BA83: BYE
A84: 74 | AB84: =IF(AND(ISBLANK(E84),ISBLANK(K84),ISBLANK(Q84),ISBLANK(W84)),"",IF(AND(G84="-",M84="-",S84="-",Y84="-"),"-",IF(AND(G84="-",ISBLANK(K84),ISBLANK(Q84),ISBLANK(W84)),"-",IF(AND(G84="-",M84="-",ISBLANK(Q84),ISBLANK(W84)),"-",IF(AND(G84="-",M84="-",S84="-",ISBLANK(W84)),"-",MIN(G84,M84,S84,Y84)))))) | AG84: =IF(AB84="","",COUNTIF(AB11:AB84,"-")) | AO84: =IF(AB84="","",IF(AN84="0","0",COUNTIF(AN11:AN83,AN84))) | AV84: BYE | AW84: =COUNTIF(#REF!,"AA") -> #REF! | AX84: =IF(BB84="","",COUNTIF(BB11:BB84,"-")) | BA84: BYE
A85: 75 | AB85: =IF(AND(ISBLANK(E85),ISBLANK(K85),ISBLANK(Q85),ISBLANK(W85)),"",IF(AND(G85="-",M85="-",S85="-",Y85="-"),"-",IF(AND(G85="-",ISBLANK(K85),ISBLANK(Q85),ISBLANK(W85)),"-",IF(AND(G85="-",M85="-",ISBLANK(Q85),ISBLANK(W85)),"-",IF(AND(G85="-",M85="-",S85="-",ISBLANK(W85)),"-",MIN(G85,M85,S85,Y85)))))) | AG85: =IF(AB85="","",COUNTIF(AB11:AB85,"-")) | AO85: =IF(AB85="","",IF(AN85="0","0",COUNTIF(AN11:AN84,AN85))) | AV85: BYE | AW85: =COUNTIF(#REF!,"AA") -> #REF! | AX85: =IF(BB85="","",COUNTIF(BB11:BB85,"-")) | BA85: BYE
A86: 76 | AB86: =IF(AND(ISBLANK(E86),ISBLANK(K86),ISBLANK(Q86),ISBLANK(W86)),"",IF(AND(G86="-",M86="-",S86="-",Y86="-"),"-",IF(AND(G86="-",ISBLANK(K86),ISBLANK(Q86),ISBLANK(W86)),"-",IF(AND(G86="-",M86="-",ISBLANK(Q86),ISBLANK(W86)),"-",IF(AND(G86="-",M86="-",S86="-",ISBLANK(W86)),"-",MIN(G86,M86,S86,Y86)))))) | AG86: =IF(AB86="","",COUNTIF(AB11:AB86,"-")) | AO86: =IF(AB86="","",IF(AN86="0","0",COUNTIF(AN11:AN85,AN86))) | AV86: BYE | AW86: =COUNTIF(#REF!,"AA") -> #REF! | AX86: =IF(BB86="","",COUNTIF(BB11:BB86,"-")) | BA86: BYE
A87: 77 | AB87: =IF(AND(ISBLANK(E87),ISBLANK(K87),ISBLANK(Q87),ISBLANK(W87)),"",IF(AND(G87="-",M87="-",S87="-",Y87="-"),"-",IF(AND(G87="-",ISBLANK(K87),ISBLANK(Q87),ISBLANK(W87)),"-",IF(AND(G87="-",M87="-",ISBLANK(Q87),ISBLANK(W87)),"-",IF(AND(G87="-",M87="-",S87="-",ISBLANK(W87)),"-",MIN(G87,M87,S87,Y87)))))) | AG87: =IF(AB87="","",COUNTIF(AB11:AB87,"-")) | AO87: =IF(AB87="","",IF(AN87="0","0",COUNTIF(AN11:AN86,AN87))) | AV87: BYE | AW87: =COUNTIF(#REF!,"AA") -> #REF! | AX87: =IF(BB87="","",COUNTIF(BB11:BB87,"-")) | BA87: BYE
A88: 78 | AB88: =IF(AND(ISBLANK(E88),ISBLANK(K88),ISBLANK(Q88),ISBLANK(W88)),"",IF(AND(G88="-",M88="-",S88="-",Y88="-"),"-",IF(AND(G88="-",ISBLANK(K88),ISBLANK(Q88),ISBLANK(W88)),"-",IF(AND(G88="-",M88="-",ISBLANK(Q88),ISBLANK(W88)),"-",IF(AND(G88="-",M88="-",S88="-",ISBLANK(W88)),"-",MIN(G88,M88,S88,Y88)))))) | AG88: =IF(AB88="","",COUNTIF(AB11:AB88,"-")) | AO88: =IF(AB88="","",IF(AN88="0","0",COUNTIF(AN11:AN87,AN88))) | AV88: BYE | AW88: =COUNTIF(#REF!,"AA") -> #REF! | AX88: =IF(BB88="","",COUNTIF(BB11:BB88,"-")) | BA88: BYE
A89: 79 | AB89: =IF(AND(ISBLANK(E89),ISBLANK(K89),ISBLANK(Q89),ISBLANK(W89)),"",IF(AND(G89="-",M89="-",S89="-",Y89="-"),"-",IF(AND(G89="-",ISBLANK(K89),ISBLANK(Q89),ISBLANK(W89)),"-",IF(AND(G89="-",M89="-",ISBLANK(Q89),ISBLANK(W89)),"-",IF(AND(G89="-",M89="-",S89="-",ISBLANK(W89)),"-",MIN(G89,M89,S89,Y89)))))) | AG89: =IF(AB89="","",COUNTIF(AB11:AB89,"-")) | AO89: =IF(AB89="","",IF(AN89="0","0",COUNTIF(AN11:AN88,AN89))) | AV89: BYE | AW89: =COUNTIF(#REF!,"AA") -> #REF! | AX89: =IF(BB89="","",COUNTIF(BB11:BB89,"-")) | BA89: BYE
A90: 80 | AB90: =IF(AND(ISBLANK(E90),ISBLANK(K90),ISBLANK(Q90),ISBLANK(W90)),"",IF(AND(G90="-",M90="-",S90="-",Y90="-"),"-",IF(AND(G90="-",ISBLANK(K90),ISBLANK(Q90),ISBLANK(W90)),"-",IF(AND(G90="-",M90="-",ISBLANK(Q90),ISBLANK(W90)),"-",IF(AND(G90="-",M90="-",S90="-",ISBLANK(W90)),"-",MIN(G90,M90,S90,Y90)))))) | AG90: =IF(AB90="","",COUNTIF(AB11:AB90,"-")) | AO90: =IF(AB90="","",IF(AN90="0","0",COUNTIF(AN11:AN89,AN90))) | AV90: BYE | AW90: =COUNTIF(#REF!,"AA") -> #REF! | AX90: =IF(BB90="","",COUNTIF(BB11:BB90,"-")) | BA90: BYE
A91: 81 | AB91: =IF(AND(ISBLANK(E91),ISBLANK(K91),ISBLANK(Q91),ISBLANK(W91)),"",IF(AND(G91="-",M91="-",S91="-",Y91="-"),"-",IF(AND(G91="-",ISBLANK(K91),ISBLANK(Q91),ISBLANK(W91)),"-",IF(AND(G91="-",M91="-",ISBLANK(Q91),ISBLANK(W91)),"-",IF(AND(G91="-",M91="-",S91="-",ISBLANK(W91)),"-",MIN(G91,M91,S91,Y91)))))) | AG91: =IF(AB91="","",COUNTIF(AB11:AB91,"-")) | AO91: =IF(AB91="","",IF(AN91="0","0",COUNTIF(AN11:AN90,AN91))) | AV91: BYE | AW91: =COUNTIF(#REF!,"AA") -> #REF! | AX91: =IF(BB91="","",COUNTIF(BB11:BB91,"-")) | BA91: BYE
A92: 82 | AB92: =IF(AND(ISBLANK(E92),ISBLANK(K92),ISBLANK(Q92),ISBLANK(W92)),"",IF(AND(G92="-",M92="-",S92="-",Y92="-"),"-",IF(AND(G92="-",ISBLANK(K92),ISBLANK(Q92),ISBLANK(W92)),"-",IF(AND(G92="-",M92="-",ISBLANK(Q92),ISBLANK(W92)),"-",IF(AND(G92="-",M92="-",S92="-",ISBLANK(W92)),"-",MIN(G92,M92,S92,Y92)))))) | AG92: =IF(AB92="","",COUNTIF(AB11:AB92,"-")) | AO92: =IF(AB92="","",IF(AN92="0","0",COUNTIF(AN11:AN91,AN92))) | AV92: BYE | AW92: =COUNTIF(#REF!,"AA") -> #REF! | AX92: =IF(BB92="","",COUNTIF(BB11:BB92,"-")) | BA92: BYE
A93: 83 | AB93: =IF(AND(ISBLANK(E93),ISBLANK(K93),ISBLANK(Q93),ISBLANK(W93)),"",IF(AND(G93="-",M93="-",S93="-",Y93="-"),"-",IF(AND(G93="-",ISBLANK(K93),ISBLANK(Q93),ISBLANK(W93)),"-",IF(AND(G93="-",M93="-",ISBLANK(Q93),ISBLANK(W93)),"-",IF(AND(G93="-",M93="-",S93="-",ISBLANK(W93)),"-",MIN(G93,M93,S93,Y93)))))) | AG93: =IF(AB93="","",COUNTIF(AB11:AB93,"-")) | AO93: =IF(AB93="","",IF(AN93="0","0",COUNTIF(AN11:AN92,AN93))) | AV93: BYE | AW93: =COUNTIF(#REF!,"AA") -> #REF! | AX93: =IF(BB93="","",COUNTIF(BB11:BB93,"-")) | BA93: BYE
A94: 84 | AB94: =IF(AND(ISBLANK(E94),ISBLANK(K94),ISBLANK(Q94),ISBLANK(W94)),"",IF(AND(G94="-",M94="-",S94="-",Y94="-"),"-",IF(AND(G94="-",ISBLANK(K94),ISBLANK(Q94),ISBLANK(W94)),"-",IF(AND(G94="-",M94="-",ISBLANK(Q94),ISBLANK(W94)),"-",IF(AND(G94="-",M94="-",S94="-",ISBLANK(W94)),"-",MIN(G94,M94,S94,Y94)))))) | AG94: =IF(AB94="","",COUNTIF(AB11:AB94,"-")) | AO94: =IF(AB94="","",IF(AN94="0","0",COUNTIF(AN11:AN93,AN94))) | AV94: BYE | AW94: =COUNTIF(#REF!,"AA") -> #REF! | AX94: =IF(BB94="","",COUNTIF(BB11:BB94,"-")) | BA94: BYE
A95: 85 | AB95: =IF(AND(ISBLANK(E95),ISBLANK(K95),ISBLANK(Q95),ISBLANK(W95)),"",IF(AND(G95="-",M95="-",S95="-",Y95="-"),"-",IF(AND(G95="-",ISBLANK(K95),ISBLANK(Q95),ISBLANK(W95)),"-",IF(AND(G95="-",M95="-",ISBLANK(Q95),ISBLANK(W95)),"-",IF(AND(G95="-",M95="-",S95="-",ISBLANK(W95)),"-",MIN(G95,M95,S95,Y95)))))) | AG95: =IF(AB95="","",COUNTIF(AB11:AB95,"-")) | AO95: =IF(AB95="","",IF(AN95="0","0",COUNTIF(AN11:AN94,AN95))) | AV95: BYE | AW95: =COUNTIF(#REF!,"AA") -> #REF! | AX95: =IF(BB95="","",COUNTIF(BB11:BB95,"-")) | BA95: BYE
A96: 86 | AB96: =IF(AND(ISBLANK(E96),ISBLANK(K96),ISBLANK(Q96),ISBLANK(W96)),"",IF(AND(G96="-",M96="-",S96="-",Y96="-"),"-",IF(AND(G96="-",ISBLANK(K96),ISBLANK(Q96),ISBLANK(W96)),"-",IF(AND(G96="-",M96="-",ISBLANK(Q96),ISBLANK(W96)),"-",IF(AND(G96="-",M96="-",S96="-",ISBLANK(W96)),"-",MIN(G96,M96,S96,Y96)))))) | AG96: =IF(AB96="","",COUNTIF(AB11:AB96,"-")) | AO96: =IF(AB96="","",IF(AN96="0","0",COUNTIF(AN11:AN95,AN96))) | AV96: BYE | AW96: =COUNTIF(#REF!,"AA") -> #REF! | AX96: =IF(BB96="","",COUNTIF(BB11:BB96,"-")) | BA96: BYE
A97: 87 | AB97: =IF(AND(ISBLANK(E97),ISBLANK(K97),ISBLANK(Q97),ISBLANK(W97)),"",IF(AND(G97="-",M97="-",S97="-",Y97="-"),"-",IF(AND(G97="-",ISBLANK(K97),ISBLANK(Q97),ISBLANK(W97)),"-",IF(AND(G97="-",M97="-",ISBLANK(Q97),ISBLANK(W97)),"-",IF(AND(G97="-",M97="-",S97="-",ISBLANK(W97)),"-",MIN(G97,M97,S97,Y97)))))) | AG97: =IF(AB97="","",COUNTIF(AB11:AB97,"-")) | AO97: =IF(AB97="","",IF(AN97="0","0",COUNTIF(AN11:AN96,AN97))) | AV97: BYE | AW97: =COUNTIF(#REF!,"AA") -> #REF! | AX97: =IF(BB97="","",COUNTIF(BB11:BB97,"-")) | BA97: BYE
A98: 88 | AB98: =IF(AND(ISBLANK(E98),ISBLANK(K98),ISBLANK(Q98),ISBLANK(W98)),"",IF(AND(G98="-",M98="-",S98="-",Y98="-"),"-",IF(AND(G98="-",ISBLANK(K98),ISBLANK(Q98),ISBLANK(W98)),"-",IF(AND(G98="-",M98="-",ISBLANK(Q98),ISBLANK(W98)),"-",IF(AND(G98="-",M98="-",S98="-",ISBLANK(W98)),"-",MIN(G98,M98,S98,Y98)))))) | AG98: =IF(AB98="","",COUNTIF(AB11:AB98,"-")) | AO98: =IF(AB98="","",IF(AN98="0","0",COUNTIF(AN11:AN97,AN98))) | AV98: BYE | AW98: =COUNTIF(#REF!,"AA") -> #REF! | AX98: =IF(BB98="","",COUNTIF(BB11:BB98,"-")) | BA98: BYE
A99: 89 | AB99: =IF(AND(ISBLANK(E99),ISBLANK(K99),ISBLANK(Q99),ISBLANK(W99)),"",IF(AND(G99="-",M99="-",S99="-",Y99="-"),"-",IF(AND(G99="-",ISBLANK(K99),ISBLANK(Q99),ISBLANK(W99)),"-",IF(AND(G99="-",M99="-",ISBLANK(Q99),ISBLANK(W99)),"-",IF(AND(G99="-",M99="-",S99="-",ISBLANK(W99)),"-",MIN(G99,M99,S99,Y99)))))) | AG99: =IF(AB99="","",COUNTIF(AB11:AB99,"-")) | AO99: =IF(AB99="","",IF(AN99="0","0",COUNTIF(AN11:AN98,AN99))) | AV99: BYE | AW99: =COUNTIF(#REF!,"AA") -> #REF! | AX99: =IF(BB99="","",COUNTIF(BB11:BB99,"-")) | BA99: BYE
A100: 90 | AB100: =IF(AND(ISBLANK(E100),ISBLANK(K100),ISBLANK(Q100),ISBLANK(W100)),"",IF(AND(G100="-",M100="-",S100="-",Y100="-"),"-",IF(AND(G100="-",ISBLANK(K100),ISBLANK(Q100),ISBLANK(W100)),"-",IF(AND(G100="-",M100="-",ISBLANK(Q100),ISBLANK(W100)),"-",IF(AND(G100="-",M100="-",S100="-",ISBLANK(W100)),"-",MIN(G100,M100,S100,Y100)))))) | AG100: =IF(AB100="","",COUNTIF(AB11:AB100,"-")) | AO100: =IF(AB100="","",IF(AN100="0","0",COUNTIF(AN11:AN99,AN100))) | AV100: BYE | AW100: =COUNTIF(#REF!,"AA") -> #REF! | AX100: =IF(BB100="","",COUNTIF(BB11:BB100,"-")) | BA100: BYE
A101: 91 | AB101: =IF(AND(ISBLANK(E101),ISBLANK(K101),ISBLANK(Q101),ISBLANK(W101)),"",IF(AND(G101="-",M101="-",S101="-",Y101="-"),"-",IF(AND(G101="-",ISBLANK(K101),ISBLANK(Q101),ISBLANK(W101)),"-",IF(AND(G101="-",M101="-",ISBLANK(Q101),ISBLANK(W101)),"-",IF(AND(G101="-",M101="-",S101="-",ISBLANK(W101)),"-",MIN(G101,M101,S101,Y101)))))) | AG101: =IF(AB101="","",COUNTIF(AB11:AB101,"-")) | AO101: =IF(AB101="","",IF(AN101="0","0",COUNTIF(AN11:AN100,AN101))) | AV101: BYE | AW101: =COUNTIF(#REF!,"AA") -> #REF! | AX101: =IF(BB101="","",COUNTIF(BB11:BB101,"-")) | BA101: BYE
A102: 92 | AB102: =IF(AND(ISBLANK(E102),ISBLANK(K102),ISBLANK(Q102),ISBLANK(W102)),"",IF(AND(G102="-",M102="-",S102="-",Y102="-"),"-",IF(AND(G102="-",ISBLANK(K102),ISBLANK(Q102),ISBLANK(W102)),"-",IF(AND(G102="-",M102="-",ISBLANK(Q102),ISBLANK(W102)),"-",IF(AND(G102="-",M102="-",S102="-",ISBLANK(W102)),"-",MIN(G102,M102,S102,Y102)))))) | AG102: =IF(AB102="","",COUNTIF(AB11:AB102,"-")) | AO102: =IF(AB102="","",IF(AN102="0","0",COUNTIF(AN11:AN101,AN102))) | AV102: BYE | AW102: =COUNTIF(#REF!,"AA") -> #REF! | AX102: =IF(BB102="","",COUNTIF(BB11:BB102,"-")) | BA102: BYE
A103: 93 | AB103: =IF(AND(ISBLANK(E103),ISBLANK(K103),ISBLANK(Q103),ISBLANK(W103)),"",IF(AND(G103="-",M103="-",S103="-",Y103="-"),"-",IF(AND(G103="-",ISBLANK(K103),ISBLANK(Q103),ISBLANK(W103)),"-",IF(AND(G103="-",M103="-",ISBLANK(Q103),ISBLANK(W103)),"-",IF(AND(G103="-",M103="-",S103="-",ISBLANK(W103)),"-",MIN(G103,M103,S103,Y103)))))) | AG103: =IF(AB103="","",COUNTIF(AB11:AB103,"-")) | AO103: =IF(AB103="","",IF(AN103="0","0",COUNTIF(AN11:AN102,AN103))) | AV103: BYE | AW103: =COUNTIF(#REF!,"AA") -> #REF! | AX103: =IF(BB103="","",COUNTIF(BB11:BB103,"-")) | BA103: BYE
...

Sheet Jr
D1: =INFO!C1 -> Slalom Petersburg battle | AZ1: Database development by
D2: =INFO!C9 -> September, 7 • Murinskiy park | AZ2: Dan Gesmer, SeismicSK8@aol.com
D3: =INFO!C3&" / Juniors" -> Giant slalom / Juniors
A6: 0.1 | B6: secs penalty per hit cone | D6: Under "Raw Time," enter "DQ" or"DNF" for
A7: 20 | B7: maximum hit cones before DQ | D7: "Disqualified" and "DNR" for "Did Not Race."
B9: Bib Number | C9: Racer Name | D9: Run 1 | J9: Run 2 | P9: Run 3 | V9: Run 4 | AA9: Qual Rank (w/out DQs) | AB9: Best Time | AC9: Final Position | AD9: Qual Rank (w/DQs sequenced) | AE9: Racer No. & Name | AF9: Best Time | AG9: Double DQ Place Factor | AH9: No. of Ties per Best Time | AI9: Tied-at Time | AJ9: Tied-at Time Rank | AK9: Run 1 Time w/DQ Adjust | AL9: Run 2 Time w/DQ Adjust | AM9: Total Time w/DQ Adjust | AN9: Total Time Rank | AO9: Total Tie Place Factor | AP9: Tie 1 Total Time Rank | AQ9: Tie 1 Place Factor | AR9: Tie 2 Total Time Rank | AS9: Tie 2 Place Factor | AT9: Tie 3 Total Time Rank | AU9: Tie 3 Place Factor | AV9: Placed Racer No. & Name | AW9: Withdrawal Place Factor | AX9: Double DQ Place Factor 2 | AY9: Final Spot - Withdrawals | AZ9: Final Position | BA9: Racer No. & Name | BB9: Best Time
D10: Reaction Time | E10: Raw Time | F10: Cones | G10: Final Time | H10: Run Rank | J10: Reaction Time | K10: Raw Time | L10: Cones | M10: Final Time | N10: Run Rank | P10: Reaction Time | Q10: Raw Time | R10: Cones | S10: Final Time | T10: Run Rank | V10: Reaction Time | W10: Raw Time | X10: Cones | Y10: Final Time | Z10: Run Rank
A11: 1 | C11: Vlad Savkin | E11: 14.241 | G11: {=IF(LEFT(E11:E110,1)="D","-",IF(F11:F110>A7,"-",IF(E11:E110>0,E11:E110+F11:F110*A6,"")))} -> 14.241 | H11: {=IF(G11:G110="","",IF(G11:G110="-","",RANK(G11:G110,G11:G110,1)))} -> 1 | K11: 15.088 | M11: {=IF(LEFT(K11:K110,1)="D","-",IF(L11:L110>A7,"-",IF(K11:K110>0,K11:K110+L11:L110*A6,"")))} -> 15.088 | N11: {=IF(M11:M110="","",IF(M11:M110="-","",RANK(M11:M110,M11:M110,1)))} -> 1 | S11: {=IF(LEFT(Q11:Q110,1)="D","-",IF(R11:R110>A7,"-",IF(Q11:Q110>0,Q11:Q110+R11:R110*A6,"")))} | T11: {=IF(S11:S110="","",IF(S11:S110="-","",RANK(S11:S110,S11:S110,1)))} | Y11: {=IF(LEFT(W11:W110,1)="D","-",IF(X11:X110>A7,"-",IF(W11:W110>0,W11:W110+X11:X110*A6,"")))} | Z11: {=IF(Y11:Y110="","",IF(Y11:Y110="-","",RANK(Y11:Y110,Y11:Y110,1)))} | AA11: {=IF(AB11:AB110="","",IF(AB11:AB110="-","",RANK(AB11:AB110,AB11:AB110,1)))} -> 1 | AB11: =IF(AND(ISBLANK(E11),ISBLANK(K11),ISBLANK(Q11),ISBLANK(W11)),"",IF(AND(G11="-",M11="-",S11="-",Y11="-"),"-",IF(AND(G11="-",ISBLANK(K11),ISBLANK(Q11),ISBLANK(W11)),"-",IF(AND(G11="-",M11="-",ISBLANK(Q11),ISBLANK(W11)),"-",IF(AND(G11="-",M11="-",S11="-",ISBLANK(W11)),"-",MIN(G11,M11,S11,Y11)))))) -> 14.241 | AC11: {=IF(AB11:AB110="","",VLOOKUP(AE11:AE110,AV11:AZ110,5,FALSE))} -> 1 | AD11: {=IF(AB11:AB110="","",IF(AB11:AB110="-",COUNT(AA11:AA110)+AG11:AG110,AA11:AA110+AO11:AO110+AQ11:AQ110+AS11:AS110+AU11:AU110))} -> 1 | AE11: {=IF(B11:B110 ="","",B11:B110 & " ")&C11:C110} -> Vlad Savkin | AF11: {=AB11:AB110} -> 14.241 | AG11: =IF(AB11="","",COUNTIF(AB11:AB11,"-")) -> 0 | AH11: {=IF(AA11:AA110="","",COUNTIF(AA11:AA110,AA11:AA110)-1)} -> 0 | AI11: {=IF(AB11:AB110="-","",IF(AH11:AH110=0,"",AB11:AB110))} | AJ11: {=IF(AI11:AI110="","",RANK(AI11:AI110,AI11:AI110,1))} | AK11: {=IF(AH11:AH110="","",IF(AH11:AH110=0,"",IF(LEFT(G11:G110,1)="-","199",G11:G110)))} | AL11: {=IF(AH11:AH110="","",IF(AH11:AH110=0,"",IF(LEFT(M11:M110,1)="-","199",M11:M110)))} | AM11: {=IF(ISERROR(AK11:AK110+AL11:AL110)=TRUE,AK11:AK110,AK11:AK110+AL11:AL110)} | AN11: {=IF(AB11:AB110="","",IF(AH11:AH110=0,"0",IF(ISERROR(RANK(AM11:AM110,AM11:AM110,1))=TRUE,"0",RANK(AM11:AM110,AM11:AM110,1))))} -> 0 | AO11: 0 | AP11: {=IF(ISERROR(AH11:AH110)=TRUE,"",IF(AJ11:AJ110=1,AN11:AN110,""))} | AQ11: {=IF(AB11:AB110="","",IF(AP11:AP110="","0",RANK(AP11:AP110,AP11:AP110,1)-1))} -> 0 | AR11: {=IF(ISERROR(AH11:AH110)=TRUE,"",IF(AJ11:AJ110=COUNT(AP11:AP110)+1,AN11:AN110,""))} | AS11: {=IF(AB11:AB110="","",IF(AR11:AR110="","0",RANK(AR11:AR110,AR11:AR110,1)-1))} -> 0 | AT11: {=IF(ISERROR(AH11:AH110)=TRUE,"",IF(AJ11:AJ110=COUNT(AP11:AP110)+COUNT(AR11:AR110)+1,AN11:AN110,""))} | AU11: {=IF(AB11:AB110="","",IF(AT11:AT110="","0",RANK(AT11:AT110,AT11:AT110,1)-1))} -> 0 | AV11: {=BA11:BA110} -> Vlad Savkin | AW11: =COUNTIF(#REF!,"AA") -> #REF! | AX11: =IF(BB11="","",COUNTIF(BB11:BB11,"-")) -> 0 | AY11: {=IF(BA11:BA110="BYE","",IF(#REF!="W","",IF(#REF!="N",IF(AZ11:AZ110<=COUNT(AA11:AA110),AZ11:AZ110-AW11:AW110,""),IF(AZ11:AZ110<=COUNT(AA11:AA110),AZ11:AZ110-AW11:AW110,AZ11:AZ110-AW11:AW110+AX11:AX110-1))))} -> #REF! | AZ11: {=IF(AB11:AB110="","",IF(AZ10:AZ109+1<=COUNT(AA11:AA110),AZ10:AZ109+1,COUNT(AA11:AA110)+1))} -> 1 | BA11: {=IF(AB11:AB110="","BYE",IF(ISERROR(VLOOKUP(A11:A110,AD11:AE110,2,FALSE))=TRUE,"",VLOOKUP(A11:A110,AD11:AE110,2,FALSE)))} -> Vlad Savkin | BB11: {=IF(C11:C110="BYE", "",IF(A11:A110="","",IF(ISERROR(VLOOKUP(A11:A110,AD11:AF110,3,FALSE))=TRUE,"",VLOOKUP(A11:A110,AD11:AF110,3,FALSE))))} -> 14.241
A12: 2 | C12: Anastasia Yrgenstein | E12: DQ | G12: - | K12: DQ | M12: - | AB12: =IF(AND(ISBLANK(E12),ISBLANK(K12),ISBLANK(Q12),ISBLANK(W12)),"",IF(AND(G12="-",M12="-",S12="-",Y12="-"),"-",IF(AND(G12="-",ISBLANK(K12),ISBLANK(Q12),ISBLANK(W12)),"-",IF(AND(G12="-",M12="-",ISBLANK(Q12),ISBLANK(W12)),"-",IF(AND(G12="-",M12="-",S12="-",ISBLANK(W12)),"-",MIN(G12,M12,S12,Y12)))))) -> - | AC12: 4 | AD12: 4 | AE12: Anastasia Yrgenstein | AF12: - | AG12: =IF(AB12="","",COUNTIF(AB11:AB12,"-")) -> 1 | AN12: 0 | AO12: =IF(AB12="","",IF(AN12="0","0",COUNTIF(AN11:AN11,AN12))) -> 0 | AQ12: 0 | AS12: 0 | AU12: 0 | AV12: Dmitry Azarchenko | AW12: =COUNTIF(#REF!,"AA") -> #REF! | AX12: =IF(BB12="","",COUNTIF(BB11:BB12,"-")) -> 0 | AY12: #REF! | AZ12: 2 | BA12: Dmitry Azarchenko | BB12: 16.276
A13: 3 | C13: Elizaveta Pyatina | E13: 17.693 | G13: 17.693 | H13: 3 | K13: 17.693 | M13: 17.693 | N13: 3 | AA13: 3 | AB13: =IF(AND(ISBLANK(E13),ISBLANK(K13),ISBLANK(Q13),ISBLANK(W13)),"",IF(AND(G13="-",M13="-",S13="-",Y13="-"),"-",IF(AND(G13="-",ISBLANK(K13),ISBLANK(Q13),ISBLANK(W13)),"-",IF(AND(G13="-",M13="-",ISBLANK(Q13),ISBLANK(W13)),"-",IF(AND(G13="-",M13="-",S13="-",ISBLANK(W13)),"-",MIN(G13,M13,S13,Y13)))))) -> 17.693 | AC13: 3 | AD13: 3 | AE13: Elizaveta Pyatina | AF13: 17.693 | AG13: =IF(AB13="","",COUNTIF(AB11:AB13,"-")) -> 1 | AH13: 0 | AN13: 0 | AO13: =IF(AB13="","",IF(AN13="0","0",COUNTIF(AN11:AN12,AN13))) -> 0 | AQ13: 0 | AS13: 0 | AU13: 0 | AV13: Elizaveta Pyatina | AW13: =COUNTIF(#REF!,"AA") -> #REF! | AX13: =IF(BB13="","",COUNTIF(BB11:BB13,"-")) -> 0 | AY13: #REF! | AZ13: 3 | BA13: Elizaveta Pyatina | BB13: 17.693
A14: 4 | C14: Dmitry Azarchenko | E14: 16.554 | G14: 16.554 | H14: 2 | K14: 16.276 | M14: 16.276 | N14: 2 | AA14: 2 | AB14: =IF(AND(ISBLANK(E14),ISBLANK(K14),ISBLANK(Q14),ISBLANK(W14)),"",IF(AND(G14="-",M14="-",S14="-",Y14="-"),"-",IF(AND(G14="-",ISBLANK(K14),ISBLANK(Q14),ISBLANK(W14)),"-",IF(AND(G14="-",M14="-",ISBLANK(Q14),ISBLANK(W14)),"-",IF(AND(G14="-",M14="-",S14="-",ISBLANK(W14)),"-",MIN(G14,M14,S14,Y14)))))) -> 16.276 | AC14: 2 | AD14: 2 | AE14: Dmitry Azarchenko | AF14: 16.276 | AG14: =IF(AB14="","",COUNTIF(AB11:AB14,"-")) -> 1 | AH14: 0 | AN14: 0 | AO14: =IF(AB14="","",IF(AN14="0","0",COUNTIF(AN11:AN13,AN14))) -> 0 | AQ14: 0 | AS14: 0 | AU14: 0 | AV14: Anastasia Yrgenstein | AW14: =COUNTIF(#REF!,"AA") -> #REF! | AX14: =IF(BB14="","",COUNTIF(BB11:BB14,"-")) -> 1 | AY14: #REF! | AZ14: 4 | BA14: Anastasia Yrgenstein | BB14: -
A15: 5 | AB15: =IF(AND(ISBLANK(E15),ISBLANK(K15),ISBLANK(Q15),ISBLANK(W15)),"",IF(AND(G15="-",M15="-",S15="-",Y15="-"),"-",IF(AND(G15="-",ISBLANK(K15),ISBLANK(Q15),ISBLANK(W15)),"-",IF(AND(G15="-",M15="-",ISBLANK(Q15),ISBLANK(W15)),"-",IF(AND(G15="-",M15="-",S15="-",ISBLANK(W15)),"-",MIN(G15,M15,S15,Y15)))))) | AG15: =IF(AB15="","",COUNTIF(AB11:AB15,"-")) | AO15: =IF(AB15="","",IF(AN15="0","0",COUNTIF(AN11:AN14,AN15))) | AV15: BYE | AW15: =COUNTIF(#REF!,"AA") -> #REF! | AX15: =IF(BB15="","",COUNTIF(BB11:BB15,"-")) | BA15: BYE
A16: 6 | AB16: =IF(AND(ISBLANK(E16),ISBLANK(K16),ISBLANK(Q16),ISBLANK(W16)),"",IF(AND(G16="-",M16="-",S16="-",Y16="-"),"-",IF(AND(G16="-",ISBLANK(K16),ISBLANK(Q16),ISBLANK(W16)),"-",IF(AND(G16="-",M16="-",ISBLANK(Q16),ISBLANK(W16)),"-",IF(AND(G16="-",M16="-",S16="-",ISBLANK(W16)),"-",MIN(G16,M16,S16,Y16)))))) | AG16: =IF(AB16="","",COUNTIF(AB11:AB16,"-")) | AO16: =IF(AB16="","",IF(AN16="0","0",COUNTIF(AN11:AN15,AN16))) | AV16: BYE | AW16: =COUNTIF(#REF!,"AA") -> #REF! | AX16: =IF(BB16="","",COUNTIF(BB11:BB16,"-")) | BA16: BYE
A17: 7 | AB17: =IF(AND(ISBLANK(E17),ISBLANK(K17),ISBLANK(Q17),ISBLANK(W17)),"",IF(AND(G17="-",M17="-",S17="-",Y17="-"),"-",IF(AND(G17="-",ISBLANK(K17),ISBLANK(Q17),ISBLANK(W17)),"-",IF(AND(G17="-",M17="-",ISBLANK(Q17),ISBLANK(W17)),"-",IF(AND(G17="-",M17="-",S17="-",ISBLANK(W17)),"-",MIN(G17,M17,S17,Y17)))))) | AG17: =IF(AB17="","",COUNTIF(AB11:AB17,"-")) | AO17: =IF(AB17="","",IF(AB17="","",IF(AN17="0","0",COUNTIF(AN11:AN16,AN17)))) | AV17: BYE | AW17: =COUNTIF(#REF!,"AA") -> #REF! | AX17: =IF(BB17="","",COUNTIF(BB11:BB17,"-")) | BA17: BYE
A18: 8 | AB18: =IF(AND(ISBLANK(E18),ISBLANK(K18),ISBLANK(Q18),ISBLANK(W18)),"",IF(AND(G18="-",M18="-",S18="-",Y18="-"),"-",IF(AND(G18="-",ISBLANK(K18),ISBLANK(Q18),ISBLANK(W18)),"-",IF(AND(G18="-",M18="-",ISBLANK(Q18),ISBLANK(W18)),"-",IF(AND(G18="-",M18="-",S18="-",ISBLANK(W18)),"-",MIN(G18,M18,S18,Y18)))))) | AG18: =IF(AB18="","",COUNTIF(AB11:AB18,"-")) | AO18: =IF(AB18="","",IF(AB18="","",IF(AN18="0","0",COUNTIF(AN11:AN17,AN18)))) | AV18: BYE | AW18: =COUNTIF(#REF!,"AA") -> #REF! | AX18: =IF(BB18="","",COUNTIF(BB11:BB18,"-")) | BA18: BYE
A19: 9 | AB19: =IF(AND(ISBLANK(E19),ISBLANK(K19),ISBLANK(Q19),ISBLANK(W19)),"",IF(AND(G19="-",M19="-",S19="-",Y19="-"),"-",IF(AND(G19="-",ISBLANK(K19),ISBLANK(Q19),ISBLANK(W19)),"-",IF(AND(G19="-",M19="-",ISBLANK(Q19),ISBLANK(W19)),"-",IF(AND(G19="-",M19="-",S19="-",ISBLANK(W19)),"-",MIN(G19,M19,S19,Y19)))))) | AG19: =IF(AB19="","",COUNTIF(AB11:AB19,"-")) | AO19: =IF(AB19="","",IF(AB19="","",IF(AN19="0","0",COUNTIF(AN11:AN18,AN19)))) | AV19: BYE | AW19: =COUNTIF(#REF!,"AA") -> #REF! | AX19: =IF(BB19="","",COUNTIF(BB11:BB19,"-")) | BA19: BYE
A20: 10 | AB20: =IF(AND(ISBLANK(E20),ISBLANK(K20),ISBLANK(Q20),ISBLANK(W20)),"",IF(AND(G20="-",M20="-",S20="-",Y20="-"),"-",IF(AND(G20="-",ISBLANK(K20),ISBLANK(Q20),ISBLANK(W20)),"-",IF(AND(G20="-",M20="-",ISBLANK(Q20),ISBLANK(W20)),"-",IF(AND(G20="-",M20="-",S20="-",ISBLANK(W20)),"-",MIN(G20,M20,S20,Y20)))))) | AG20: =IF(AB20="","",COUNTIF(AB11:AB20,"-")) | AO20: =IF(AB20="","",IF(AN20="0","0",COUNTIF(AN11:AN19,AN20))) | AV20: BYE | AW20: =COUNTIF(#REF!,"AA") -> #REF! | AX20: =IF(BB20="","",COUNTIF(BB11:BB20,"-")) | BA20: BYE
A21: 11 | AB21: =IF(AND(ISBLANK(E21),ISBLANK(K21),ISBLANK(Q21),ISBLANK(W21)),"",IF(AND(G21="-",M21="-",S21="-",Y21="-"),"-",IF(AND(G21="-",ISBLANK(K21),ISBLANK(Q21),ISBLANK(W21)),"-",IF(AND(G21="-",M21="-",ISBLANK(Q21),ISBLANK(W21)),"-",IF(AND(G21="-",M21="-",S21="-",ISBLANK(W21)),"-",MIN(G21,M21,S21,Y21)))))) | AG21: =IF(AB21="","",COUNTIF(AB11:AB21,"-")) | AO21: =IF(AB21="","",IF(AN21="0","0",COUNTIF(AN1:AN20,AN21))) | AV21: BYE | AW21: =COUNTIF(#REF!,"AA") -> #REF! | AX21: =IF(BB21="","",COUNTIF(BB11:BB21,"-")) | BA21: BYE
A22: 12 | AB22: =IF(AND(ISBLANK(E22),ISBLANK(K22),ISBLANK(Q22),ISBLANK(W22)),"",IF(AND(G22="-",M22="-",S22="-",Y22="-"),"-",IF(AND(G22="-",ISBLANK(K22),ISBLANK(Q22),ISBLANK(W22)),"-",IF(AND(G22="-",M22="-",ISBLANK(Q22),ISBLANK(W22)),"-",IF(AND(G22="-",M22="-",S22="-",ISBLANK(W22)),"-",MIN(G22,M22,S22,Y22)))))) | AG22: =IF(AB22="","",COUNTIF(AB11:AB22,"-")) | AO22: =IF(AB22="","",IF(AN22="0","0",COUNTIF(AN11:AN21,AN22))) | AV22: BYE | AW22: =COUNTIF(#REF!,"AA") -> #REF! | AX22: =IF(BB22="","",COUNTIF(BB11:BB22,"-")) | BA22: BYE
A23: 13 | AB23: =IF(AND(ISBLANK(E23),ISBLANK(K23),ISBLANK(Q23),ISBLANK(W23)),"",IF(AND(G23="-",M23="-",S23="-",Y23="-"),"-",IF(AND(G23="-",ISBLANK(K23),ISBLANK(Q23),ISBLANK(W23)),"-",IF(AND(G23="-",M23="-",ISBLANK(Q23),ISBLANK(W23)),"-",IF(AND(G23="-",M23="-",S23="-",ISBLANK(W23)),"-",MIN(G23,M23,S23,Y23)))))) | AG23: =IF(AB23="","",COUNTIF(AB11:AB23,"-")) | AO23: =IF(AB23="","",IF(AN23="0","0",COUNTIF(AN11:AN22,AN23))) | AV23: BYE | AW23: =COUNTIF(#REF!,"AA") -> #REF! | AX23: =IF(BB23="","",COUNTIF(BB11:BB23,"-")) | BA23: BYE
A24: 14 | AB24: =IF(AND(ISBLANK(E24),ISBLANK(K24),ISBLANK(Q24),ISBLANK(W24)),"",IF(AND(G24="-",M24="-",S24="-",Y24="-"),"-",IF(AND(G24="-",ISBLANK(K24),ISBLANK(Q24),ISBLANK(W24)),"-",IF(AND(G24="-",M24="-",ISBLANK(Q24),ISBLANK(W24)),"-",IF(AND(G24="-",M24="-",S24="-",ISBLANK(W24)),"-",MIN(G24,M24,S24,Y24)))))) | AG24: =IF(AB24="","",COUNTIF(AB11:AB24,"-")) | AO24: =IF(AB24="","",IF(AN24="0","0",COUNTIF(AN11:AN23,AN24))) | AV24: BYE | AW24: =COUNTIF(#REF!,"AA") -> #REF! | AX24: =IF(BB24="","",COUNTIF(BB11:BB24,"-")) | BA24: BYE
A25: 15 | AB25: =IF(AND(ISBLANK(E25),ISBLANK(K25),ISBLANK(Q25),ISBLANK(W25)),"",IF(AND(G25="-",M25="-",S25="-",Y25="-"),"-",IF(AND(G25="-",ISBLANK(K25),ISBLANK(Q25),ISBLANK(W25)),"-",IF(AND(G25="-",M25="-",ISBLANK(Q25),ISBLANK(W25)),"-",IF(AND(G25="-",M25="-",S25="-",ISBLANK(W25)),"-",MIN(G25,M25,S25,Y25)))))) | AG25: =IF(AB25="","",COUNTIF(AB11:AB25,"-")) | AO25: =IF(AB25="","",IF(AN25="0","0",COUNTIF(AN11:AN24,AN25))) | AV25: BYE | AW25: =COUNTIF(#REF!,"AA") -> #REF! | AX25: =IF(BB25="","",COUNTIF(BB11:BB25,"-")) | BA25: BYE
A26: 16 | AB26: =IF(AND(ISBLANK(E26),ISBLANK(K26),ISBLANK(Q26),ISBLANK(W26)),"",IF(AND(G26="-",M26="-",S26="-",Y26="-"),"-",IF(AND(G26="-",ISBLANK(K26),ISBLANK(Q26),ISBLANK(W26)),"-",IF(AND(G26="-",M26="-",ISBLANK(Q26),ISBLANK(W26)),"-",IF(AND(G26="-",M26="-",S26="-",ISBLANK(W26)),"-",MIN(G26,M26,S26,Y26)))))) | AG26: =IF(AB26="","",COUNTIF(AB11:AB26,"-")) | AO26: =IF(AB26="","",IF(AN26="0","0",COUNTIF(AN11:AN25,AN26))) | AV26: BYE | AW26: =COUNTIF(#REF!,"AA") -> #REF! | AX26: =IF(BB26="","",COUNTIF(BB11:BB26,"-")) | BA26: BYE
A27: 17 | AB27: =IF(AND(ISBLANK(E27),ISBLANK(K27),ISBLANK(Q27),ISBLANK(W27)),"",IF(AND(G27="-",M27="-",S27="-",Y27="-"),"-",IF(AND(G27="-",ISBLANK(K27),ISBLANK(Q27),ISBLANK(W27)),"-",IF(AND(G27="-",M27="-",ISBLANK(Q27),ISBLANK(W27)),"-",IF(AND(G27="-",M27="-",S27="-",ISBLANK(W27)),"-",MIN(G27,M27,S27,Y27)))))) | AG27: =IF(AB27="","",COUNTIF(AB11:AB27,"-")) | AO27: =IF(AB27="","",IF(AN27="0","0",COUNTIF(AN11:AN26,AN27))) | AV27: BYE | AW27: =COUNTIF(#REF!,"AA") -> #REF! | AX27: =IF(BB27="","",COUNTIF(BB11:BB27,"-")) | BA27: BYE
A28: 18 | AB28: =IF(AND(ISBLANK(E28),ISBLANK(K28),ISBLANK(Q28),ISBLANK(W28)),"",IF(AND(G28="-",M28="-",S28="-",Y28="-"),"-",IF(AND(G28="-",ISBLANK(K28),ISBLANK(Q28),ISBLANK(W28)),"-",IF(AND(G28="-",M28="-",ISBLANK(Q28),ISBLANK(W28)),"-",IF(AND(G28="-",M28="-",S28="-",ISBLANK(W28)),"-",MIN(G28,M28,S28,Y28)))))) | AG28: =IF(AB28="","",COUNTIF(AB11:AB28,"-")) | AO28: =IF(AB28="","",IF(AN28="0","0",COUNTIF(AN11:AN27,AN28))) | AV28: BYE | AW28: =COUNTIF(#REF!,"AA") -> #REF! | AX28: =IF(BB28="","",COUNTIF(BB11:BB28,"-")) | BA28: BYE
A29: 19 | AB29: =IF(AND(ISBLANK(E29),ISBLANK(K29),ISBLANK(Q29),ISBLANK(W29)),"",IF(AND(G29="-",M29="-",S29="-",Y29="-"),"-",IF(AND(G29="-",ISBLANK(K29),ISBLANK(Q29),ISBLANK(W29)),"-",IF(AND(G29="-",M29="-",ISBLANK(Q29),ISBLANK(W29)),"-",IF(AND(G29="-",M29="-",S29="-",ISBLANK(W29)),"-",MIN(G29,M29,S29,Y29)))))) | AG29: =IF(AB29="","",COUNTIF(AB11:AB29,"-")) | AO29: =IF(AB29="","",IF(AN29="0","0",COUNTIF(AN11:AN28,AN29))) | AV29: BYE | AW29: =COUNTIF(#REF!,"AA") -> #REF! | AX29: =IF(BB29="","",COUNTIF(BB11:BB29,"-")) | BA29: BYE
A30: 20 | AB30: =IF(AND(ISBLANK(E30),ISBLANK(K30),ISBLANK(Q30),ISBLANK(W30)),"",IF(AND(G30="-",M30="-",S30="-",Y30="-"),"-",IF(AND(G30="-",ISBLANK(K30),ISBLANK(Q30),ISBLANK(W30)),"-",IF(AND(G30="-",M30="-",ISBLANK(Q30),ISBLANK(W30)),"-",IF(AND(G30="-",M30="-",S30="-",ISBLANK(W30)),"-",MIN(G30,M30,S30,Y30)))))) | AG30: =IF(AB30="","",COUNTIF(AB11:AB30,"-")) | AO30: =IF(AB30="","",IF(AN30="0","0",COUNTIF(AN11:AN29,AN30))) | AV30: BYE | AW30: =COUNTIF(#REF!,"AA") -> #REF! | AX30: =IF(BB30="","",COUNTIF(BB11:BB30,"-")) | BA30: BYE
A31: 21 | AB31: =IF(AND(ISBLANK(E31),ISBLANK(K31),ISBLANK(Q31),ISBLANK(W31)),"",IF(AND(G31="-",M31="-",S31="-",Y31="-"),"-",IF(AND(G31="-",ISBLANK(K31),ISBLANK(Q31),ISBLANK(W31)),"-",IF(AND(G31="-",M31="-",ISBLANK(Q31),ISBLANK(W31)),"-",IF(AND(G31="-",M31="-",S31="-",ISBLANK(W31)),"-",MIN(G31,M31,S31,Y31)))))) | AG31: =IF(AB31="","",COUNTIF(AB11:AB31,"-")) | AO31: =IF(AB31="","",IF(AN31="0","0",COUNTIF(AN11:AN30,AN31))) | AV31: BYE | AW31: =COUNTIF(#REF!,"AA") -> #REF! | AX31: =IF(BB31="","",COUNTIF(BB11:BB31,"-")) | BA31: BYE
A32: 22 | AB32: =IF(AND(ISBLANK(E32),ISBLANK(K32),ISBLANK(Q32),ISBLANK(W32)),"",IF(AND(G32="-",M32="-",S32="-",Y32="-"),"-",IF(AND(G32="-",ISBLANK(K32),ISBLANK(Q32),ISBLANK(W32)),"-",IF(AND(G32="-",M32="-",ISBLANK(Q32),ISBLANK(W32)),"-",IF(AND(G32="-",M32="-",S32="-",ISBLANK(W32)),"-",MIN(G32,M32,S32,Y32)))))) | AG32: =IF(AB32="","",COUNTIF(AB11:AB32,"-")) | AO32: =IF(AB32="","",IF(AN32="0","0",COUNTIF(AN11:AN31,AN32))) | AV32: BYE | AW32: =COUNTIF(#REF!,"AA") -> #REF! | AX32: =IF(BB32="","",COUNTIF(BB11:BB32,"-")) | BA32: BYE
A33: 23 | AB33: =IF(AND(ISBLANK(E33),ISBLANK(K33),ISBLANK(Q33),ISBLANK(W33)),"",IF(AND(G33="-",M33="-",S33="-",Y33="-"),"-",IF(AND(G33="-",ISBLANK(K33),ISBLANK(Q33),ISBLANK(W33)),"-",IF(AND(G33="-",M33="-",ISBLANK(Q33),ISBLANK(W33)),"-",IF(AND(G33="-",M33="-",S33="-",ISBLANK(W33)),"-",MIN(G33,M33,S33,Y33)))))) | AG33: =IF(AB33="","",COUNTIF(AB11:AB33,"-")) | AO33: =IF(AB33="","",IF(AN33="0","0",COUNTIF(AN11:AN32,AN33))) | AV33: BYE | AW33: =COUNTIF(#REF!,"AA") -> #REF! | AX33: =IF(BB33="","",COUNTIF(BB11:BB33,"-")) | BA33: BYE
A34: 24 | AB34: =IF(AND(ISBLANK(E34),ISBLANK(K34),ISBLANK(Q34),ISBLANK(W34)),"",IF(AND(G34="-",M34="-",S34="-",Y34="-"),"-",IF(AND(G34="-",ISBLANK(K34),ISBLANK(Q34),ISBLANK(W34)),"-",IF(AND(G34="-",M34="-",ISBLANK(Q34),ISBLANK(W34)),"-",IF(AND(G34="-",M34="-",S34="-",ISBLANK(W34)),"-",MIN(G34,M34,S34,Y34)))))) | AG34: =IF(AB34="","",COUNTIF(AB11:AB34,"-")) | AO34: =IF(AB34="","",IF(AN34="0","0",COUNTIF(AN11:AN33,AN34))) | AV34: BYE | AW34: =COUNTIF(#REF!,"AA") -> #REF! | AX34: =IF(BB34="","",COUNTIF(BB11:BB34,"-")) | BA34: BYE
A35: 25 | AB35: =IF(AND(ISBLANK(E35),ISBLANK(K35),ISBLANK(Q35),ISBLANK(W35)),"",IF(AND(G35="-",M35="-",S35="-",Y35="-"),"-",IF(AND(G35="-",ISBLANK(K35),ISBLANK(Q35),ISBLANK(W35)),"-",IF(AND(G35="-",M35="-",ISBLANK(Q35),ISBLANK(W35)),"-",IF(AND(G35="-",M35="-",S35="-",ISBLANK(W35)),"-",MIN(G35,M35,S35,Y35)))))) | AG35: =IF(AB35="","",COUNTIF(AB11:AB35,"-")) | AO35: =IF(AB35="","",IF(AN35="0","0",COUNTIF(AN11:AN34,AN35))) | AV35: BYE | AW35: =COUNTIF(#REF!,"AA") -> #REF! | AX35: =IF(BB35="","",COUNTIF(BB11:BB35,"-")) | BA35: BYE
A36: 26 | AB36: =IF(AND(ISBLANK(E36),ISBLANK(K36),ISBLANK(Q36),ISBLANK(W36)),"",IF(AND(G36="-",M36="-",S36="-",Y36="-"),"-",IF(AND(G36="-",ISBLANK(K36),ISBLANK(Q36),ISBLANK(W36)),"-",IF(AND(G36="-",M36="-",ISBLANK(Q36),ISBLANK(W36)),"-",IF(AND(G36="-",M36="-",S36="-",ISBLANK(W36)),"-",MIN(G36,M36,S36,Y36)))))) | AG36: =IF(AB36="","",COUNTIF(AB11:AB36,"-")) | AO36: =IF(AB36="","",IF(AN36="0","0",COUNTIF(AN11:AN35,AN36))) | AV36: BYE | AW36: =COUNTIF(#REF!,"AA") -> #REF! | AX36: =IF(BB36="","",COUNTIF(BB11:BB36,"-")) | BA36: BYE
A37: 27 | AB37: =IF(AND(ISBLANK(E37),ISBLANK(K37),ISBLANK(Q37),ISBLANK(W37)),"",IF(AND(G37="-",M37="-",S37="-",Y37="-"),"-",IF(AND(G37="-",ISBLANK(K37),ISBLANK(Q37),ISBLANK(W37)),"-",IF(AND(G37="-",M37="-",ISBLANK(Q37),ISBLANK(W37)),"-",IF(AND(G37="-",M37="-",S37="-",ISBLANK(W37)),"-",MIN(G37,M37,S37,Y37)))))) | AG37: =IF(AB37="","",COUNTIF(AB11:AB37,"-")) | AO37: =IF(AB37="","",IF(AN37="0","0",COUNTIF(AN11:AN36,AN37))) | AV37: BYE | AW37: =COUNTIF(#REF!,"AA") -> #REF! | AX37: =IF(BB37="","",COUNTIF(BB11:BB37,"-")) | BA37: BYE
A38: 28 | AB38: =IF(AND(ISBLANK(E38),ISBLANK(K38),ISBLANK(Q38),ISBLANK(W38)),"",IF(AND(G38="-",M38="-",S38="-",Y38="-"),"-",IF(AND(G38="-",ISBLANK(K38),ISBLANK(Q38),ISBLANK(W38)),"-",IF(AND(G38="-",M38="-",ISBLANK(Q38),ISBLANK(W38)),"-",IF(AND(G38="-",M38="-",S38="-",ISBLANK(W38)),"-",MIN(G38,M38,S38,Y38)))))) | AG38: =IF(AB38="","",COUNTIF(AB11:AB38,"-")) | AO38: =IF(AB38="","",IF(AN38="0","0",COUNTIF(AN11:AN37,AN38))) | AV38: BYE | AW38: =COUNTIF(#REF!,"AA") -> #REF! | AX38: =IF(BB38="","",COUNTIF(BB11:BB38,"-")) | BA38: BYE
A39: 29 | AB39: =IF(AND(ISBLANK(E39),ISBLANK(K39),ISBLANK(Q39),ISBLANK(W39)),"",IF(AND(G39="-",M39="-",S39="-",Y39="-"),"-",IF(AND(G39="-",ISBLANK(K39),ISBLANK(Q39),ISBLANK(W39)),"-",IF(AND(G39="-",M39="-",ISBLANK(Q39),ISBLANK(W39)),"-",IF(AND(G39="-",M39="-",S39="-",ISBLANK(W39)),"-",MIN(G39,M39,S39,Y39)))))) | AG39: =IF(AB39="","",COUNTIF(AB11:AB39,"-")) | AO39: =IF(AB39="","",IF(AN39="0","0",COUNTIF(AN11:AN38,AN39))) | AV39: BYE | AW39: =COUNTIF(#REF!,"AA") -> #REF! | AX39: =IF(BB39="","",COUNTIF(BB11:BB39,"-")) | BA39: BYE
A40: 30 | AB40: =IF(AND(ISBLANK(E40),ISBLANK(K40),ISBLANK(Q40),ISBLANK(W40)),"",IF(AND(G40="-",M40="-",S40="-",Y40="-"),"-",IF(AND(G40="-",ISBLANK(K40),ISBLANK(Q40),ISBLANK(W40)),"-",IF(AND(G40="-",M40="-",ISBLANK(Q40),ISBLANK(W40)),"-",IF(AND(G40="-",M40="-",S40="-",ISBLANK(W40)),"-",MIN(G40,M40,S40,Y40)))))) | AG40: =IF(AB40="","",COUNTIF(AB11:AB40,"-")) | AO40: =IF(AB40="","",IF(AN40="0","0",COUNTIF(AN11:AN39,AN40))) | AV40: BYE | AW40: =COUNTIF(#REF!,"AA") -> #REF! | AX40: =IF(BB40="","",COUNTIF(BB11:BB40,"-")) | BA40: BYE
A41: 31 | AB41: =IF(AND(ISBLANK(E41),ISBLANK(K41),ISBLANK(Q41),ISBLANK(W41)),"",IF(AND(G41="-",M41="-",S41="-",Y41="-"),"-",IF(AND(G41="-",ISBLANK(K41),ISBLANK(Q41),ISBLANK(W41)),"-",IF(AND(G41="-",M41="-",ISBLANK(Q41),ISBLANK(W41)),"-",IF(AND(G41="-",M41="-",S41="-",ISBLANK(W41)),"-",MIN(G41,M41,S41,Y41)))))) | AG41: =IF(AB41="","",COUNTIF(AB11:AB41,"-")) | AO41: =IF(AB41="","",IF(AN41="0","0",COUNTIF(AN11:AN40,AN41))) | AV41: BYE | AW41: =COUNTIF(#REF!,"AA") -> #REF! | AX41: =IF(BB41="","",COUNTIF(BB11:BB41,"-")) | BA41: BYE
A42: 32 | AB42: =IF(AND(ISBLANK(E42),ISBLANK(K42),ISBLANK(Q42),ISBLANK(W42)),"",IF(AND(G42="-",M42="-",S42="-",Y42="-"),"-",IF(AND(G42="-",ISBLANK(K42),ISBLANK(Q42),ISBLANK(W42)),"-",IF(AND(G42="-",M42="-",ISBLANK(Q42),ISBLANK(W42)),"-",IF(AND(G42="-",M42="-",S42="-",ISBLANK(W42)),"-",MIN(G42,M42,S42,Y42)))))) | AG42: =IF(AB42="","",COUNTIF(AB11:AB42,"-")) | AO42: =IF(AB42="","",IF(AN42="0","0",COUNTIF(AN11:AN41,AN42))) | AV42: BYE | AW42: =COUNTIF(#REF!,"AA") -> #REF! | AX42: =IF(BB42="","",COUNTIF(BB11:BB42,"-")) | BA42: BYE
A43: 33 | AB43: =IF(AND(ISBLANK(E43),ISBLANK(K43),ISBLANK(Q43),ISBLANK(W43)),"",IF(AND(G43="-",M43="-",S43="-",Y43="-"),"-",IF(AND(G43="-",ISBLANK(K43),ISBLANK(Q43),ISBLANK(W43)),"-",IF(AND(G43="-",M43="-",ISBLANK(Q43),ISBLANK(W43)),"-",IF(AND(G43="-",M43="-",S43="-",ISBLANK(W43)),"-",MIN(G43,M43,S43,Y43)))))) | AG43: =IF(AB43="","",COUNTIF(AB11:AB43,"-")) | AO43: =IF(AB43="","",IF(AN43="0","0",COUNTIF(AN11:AN42,AN43))) | AV43: BYE | AW43: =COUNTIF(#REF!,"AA") -> #REF! | AX43: =IF(BB43="","",COUNTIF(BB11:BB43,"-")) | BA43: BYE
A44: 34 | AB44: =IF(AND(ISBLANK(E44),ISBLANK(K44),ISBLANK(Q44),ISBLANK(W44)),"",IF(AND(G44="-",M44="-",S44="-",Y44="-"),"-",IF(AND(G44="-",ISBLANK(K44),ISBLANK(Q44),ISBLANK(W44)),"-",IF(AND(G44="-",M44="-",ISBLANK(Q44),ISBLANK(W44)),"-",IF(AND(G44="-",M44="-",S44="-",ISBLANK(W44)),"-",MIN(G44,M44,S44,Y44)))))) | AG44: =IF(AB44="","",COUNTIF(AB11:AB44,"-")) | AO44: =IF(AB44="","",IF(AN44="0","0",COUNTIF(AN11:AN43,AN44))) | AV44: BYE | AW44: =COUNTIF(#REF!,"AA") -> #REF! | AX44: =IF(BB44="","",COUNTIF(BB11:BB44,"-")) | BA44: BYE
A45: 35 | AB45: =IF(AND(ISBLANK(E45),ISBLANK(K45),ISBLANK(Q45),ISBLANK(W45)),"",IF(AND(G45="-",M45="-",S45="-",Y45="-"),"-",IF(AND(G45="-",ISBLANK(K45),ISBLANK(Q45),ISBLANK(W45)),"-",IF(AND(G45="-",M45="-",ISBLANK(Q45),ISBLANK(W45)),"-",IF(AND(G45="-",M45="-",S45="-",ISBLANK(W45)),"-",MIN(G45,M45,S45,Y45)))))) | AG45: =IF(AB45="","",COUNTIF(AB11:AB45,"-")) | AO45: =IF(AB45="","",IF(AN45="0","0",COUNTIF(AN11:AN44,AN45))) | AV45: BYE | AW45: =COUNTIF(#REF!,"AA") -> #REF! | AX45: =IF(BB45="","",COUNTIF(BB11:BB45,"-")) | BA45: BYE
A46: 36 | AB46: =IF(AND(ISBLANK(E46),ISBLANK(K46),ISBLANK(Q46),ISBLANK(W46)),"",IF(AND(G46="-",M46="-",S46="-",Y46="-"),"-",IF(AND(G46="-",ISBLANK(K46),ISBLANK(Q46),ISBLANK(W46)),"-",IF(AND(G46="-",M46="-",ISBLANK(Q46),ISBLANK(W46)),"-",IF(AND(G46="-",M46="-",S46="-",ISBLANK(W46)),"-",MIN(G46,M46,S46,Y46)))))) | AG46: =IF(AB46="","",COUNTIF(AB11:AB46,"-")) | AO46: =IF(AB46="","",IF(AN46="0","0",COUNTIF(AN11:AN45,AN46))) | AV46: BYE | AW46: =COUNTIF(#REF!,"AA") -> #REF! | AX46: =IF(BB46="","",COUNTIF(BB11:BB46,"-")) | BA46: BYE
A47: 37 | AB47: =IF(AND(ISBLANK(E47),ISBLANK(K47),ISBLANK(Q47),ISBLANK(W47)),"",IF(AND(G47="-",M47="-",S47="-",Y47="-"),"-",IF(AND(G47="-",ISBLANK(K47),ISBLANK(Q47),ISBLANK(W47)),"-",IF(AND(G47="-",M47="-",ISBLANK(Q47),ISBLANK(W47)),"-",IF(AND(G47="-",M47="-",S47="-",ISBLANK(W47)),"-",MIN(G47,M47,S47,Y47)))))) | AG47: =IF(AB47="","",COUNTIF(AB11:AB47,"-")) | AO47: =IF(AB47="","",IF(AN47="0","0",COUNTIF(AN11:AN46,AN47))) | AV47: BYE | AW47: =COUNTIF(#REF!,"AA") -> #REF! | AX47: =IF(BB47="","",COUNTIF(BB11:BB47,"-")) | BA47: BYE
A48: 38 | AB48: =IF(AND(ISBLANK(E48),ISBLANK(K48),ISBLANK(Q48),ISBLANK(W48)),"",IF(AND(G48="-",M48="-",S48="-",Y48="-"),"-",IF(AND(G48="-",ISBLANK(K48),ISBLANK(Q48),ISBLANK(W48)),"-",IF(AND(G48="-",M48="-",ISBLANK(Q48),ISBLANK(W48)),"-",IF(AND(G48="-",M48="-",S48="-",ISBLANK(W48)),"-",MIN(G48,M48,S48,Y48)))))) | AG48: =IF(AB48="","",COUNTIF(AB11:AB48,"-")) | AO48: =IF(AB48="","",IF(AN48="0","0",COUNTIF(AN11:AN47,AN48))) | AV48: BYE | AW48: =COUNTIF(#REF!,"AA") -> #REF! | AX48: =IF(BB48="","",COUNTIF(BB11:BB48,"-")) | BA48: BYE
A49: 39 | AB49: =IF(AND(ISBLANK(E49),ISBLANK(K49),ISBLANK(Q49),ISBLANK(W49)),"",IF(AND(G49="-",M49="-",S49="-",Y49="-"),"-",IF(AND(G49="-",ISBLANK(K49),ISBLANK(Q49),ISBLANK(W49)),"-",IF(AND(G49="-",M49="-",ISBLANK(Q49),ISBLANK(W49)),"-",IF(AND(G49="-",M49="-",S49="-",ISBLANK(W49)),"-",MIN(G49,M49,S49,Y49)))))) | AG49: =IF(AB49="","",COUNTIF(AB11:AB49,"-")) | AO49: =IF(AB49="","",IF(AN49="0","0",COUNTIF(AN11:AN48,AN49))) | AV49: BYE | AW49: =COUNTIF(#REF!,"AA") -> #REF! | AX49: =IF(BB49="","",COUNTIF(BB11:BB49,"-")) | BA49: BYE
A50: 40 | AB50: =IF(AND(ISBLANK(E50),ISBLANK(K50),ISBLANK(Q50),ISBLANK(W50)),"",IF(AND(G50="-",M50="-",S50="-",Y50="-"),"-",IF(AND(G50="-",ISBLANK(K50),ISBLANK(Q50),ISBLANK(W50)),"-",IF(AND(G50="-",M50="-",ISBLANK(Q50),ISBLANK(W50)),"-",IF(AND(G50="-",M50="-",S50="-",ISBLANK(W50)),"-",MIN(G50,M50,S50,Y50)))))) | AG50: =IF(AB50="","",COUNTIF(AB11:AB50,"-")) | AO50: =IF(AB50="","",IF(AN50="0","0",COUNTIF(AN11:AN49,AN50))) | AV50: BYE | AW50: =COUNTIF(#REF!,"AA") -> #REF! | AX50: =IF(BB50="","",COUNTIF(BB11:BB50,"-")) | BA50: BYE
A51: 41 | AB51: =IF(AND(ISBLANK(E51),ISBLANK(K51),ISBLANK(Q51),ISBLANK(W51)),"",IF(AND(G51="-",M51="-",S51="-",Y51="-"),"-",IF(AND(G51="-",ISBLANK(K51),ISBLANK(Q51),ISBLANK(W51)),"-",IF(AND(G51="-",M51="-",ISBLANK(Q51),ISBLANK(W51)),"-",IF(AND(G51="-",M51="-",S51="-",ISBLANK(W51)),"-",MIN(G51,M51,S51,Y51)))))) | AG51: =IF(AB51="","",COUNTIF(AB11:AB51,"-")) | AO51: =IF(AB51="","",IF(AN51="0","0",COUNTIF(AN11:AN50,AN51))) | AV51: BYE | AW51: =COUNTIF(#REF!,"AA") -> #REF! | AX51: =IF(BB51="","",COUNTIF(BB11:BB51,"-")) | BA51: BYE
A52: 42 | AB52: =IF(AND(ISBLANK(E52),ISBLANK(K52),ISBLANK(Q52),ISBLANK(W52)),"",IF(AND(G52="-",M52="-",S52="-",Y52="-"),"-",IF(AND(G52="-",ISBLANK(K52),ISBLANK(Q52),ISBLANK(W52)),"-",IF(AND(G52="-",M52="-",ISBLANK(Q52),ISBLANK(W52)),"-",IF(AND(G52="-",M52="-",S52="-",ISBLANK(W52)),"-",MIN(G52,M52,S52,Y52)))))) | AG52: =IF(AB52="","",COUNTIF(AB11:AB52,"-")) | AO52: =IF(AB52="","",IF(AN52="0","0",COUNTIF(AN11:AN51,AN52))) | AV52: BYE | AW52: =COUNTIF(#REF!,"AA") -> #REF! | AX52: =IF(BB52="","",COUNTIF(BB11:BB52,"-")) | BA52: BYE
A53: 43 | AB53: =IF(AND(ISBLANK(E53),ISBLANK(K53),ISBLANK(Q53),ISBLANK(W53)),"",IF(AND(G53="-",M53="-",S53="-",Y53="-"),"-",IF(AND(G53="-",ISBLANK(K53),ISBLANK(Q53),ISBLANK(W53)),"-",IF(AND(G53="-",M53="-",ISBLANK(Q53),ISBLANK(W53)),"-",IF(AND(G53="-",M53="-",S53="-",ISBLANK(W53)),"-",MIN(G53,M53,S53,Y53)))))) | AG53: =IF(AB53="","",COUNTIF(AB11:AB53,"-")) | AO53: =IF(AB53="","",IF(AN53="0","0",COUNTIF(AN11:AN52,AN53))) | AV53: BYE | AW53: =COUNTIF(#REF!,"AA") -> #REF! | AX53: =IF(BB53="","",COUNTIF(BB11:BB53,"-")) | BA53: BYE
A54: 44 | AB54: =IF(AND(ISBLANK(E54),ISBLANK(K54),ISBLANK(Q54),ISBLANK(W54)),"",IF(AND(G54="-",M54="-",S54="-",Y54="-"),"-",IF(AND(G54="-",ISBLANK(K54),ISBLANK(Q54),ISBLANK(W54)),"-",IF(AND(G54="-",M54="-",ISBLANK(Q54),ISBLANK(W54)),"-",IF(AND(G54="-",M54="-",S54="-",ISBLANK(W54)),"-",MIN(G54,M54,S54,Y54)))))) | AG54: =IF(AB54="","",COUNTIF(AB11:AB54,"-")) | AO54: =IF(AB54="","",IF(AN54="0","0",COUNTIF(AN11:AN53,AN54))) | AV54: BYE | AW54: =COUNTIF(#REF!,"AA") -> #REF! | AX54: =IF(BB54="","",COUNTIF(BB11:BB54,"-")) | BA54: BYE
A55: 45 | AB55: =IF(AND(ISBLANK(E55),ISBLANK(K55),ISBLANK(Q55),ISBLANK(W55)),"",IF(AND(G55="-",M55="-",S55="-",Y55="-"),"-",IF(AND(G55="-",ISBLANK(K55),ISBLANK(Q55),ISBLANK(W55)),"-",IF(AND(G55="-",M55="-",ISBLANK(Q55),ISBLANK(W55)),"-",IF(AND(G55="-",M55="-",S55="-",ISBLANK(W55)),"-",MIN(G55,M55,S55,Y55)))))) | AG55: =IF(AB55="","",COUNTIF(AB11:AB55,"-")) | AO55: =IF(AB55="","",IF(AN55="0","0",COUNTIF(AN11:AN54,AN55))) | AV55: BYE | AW55: =COUNTIF(#REF!,"AA") -> #REF! | AX55: =IF(BB55="","",COUNTIF(BB11:BB55,"-")) | BA55: BYE
A56: 46 | AB56: =IF(AND(ISBLANK(E56),ISBLANK(K56),ISBLANK(Q56),ISBLANK(W56)),"",IF(AND(G56="-",M56="-",S56="-",Y56="-"),"-",IF(AND(G56="-",ISBLANK(K56),ISBLANK(Q56),ISBLANK(W56)),"-",IF(AND(G56="-",M56="-",ISBLANK(Q56),ISBLANK(W56)),"-",IF(AND(G56="-",M56="-",S56="-",ISBLANK(W56)),"-",MIN(G56,M56,S56,Y56)))))) | AG56: =IF(AB56="","",COUNTIF(AB11:AB56,"-")) | AO56: =IF(AB56="","",IF(AN56="0","0",COUNTIF(AN11:AN55,AN56))) | AV56: BYE | AW56: =COUNTIF(#REF!,"AA") -> #REF! | AX56: =IF(BB56="","",COUNTIF(BB11:BB56,"-")) | BA56: BYE
A57: 47 | AB57: =IF(AND(ISBLANK(E57),ISBLANK(K57),ISBLANK(Q57),ISBLANK(W57)),"",IF(AND(G57="-",M57="-",S57="-",Y57="-"),"-",IF(AND(G57="-",ISBLANK(K57),ISBLANK(Q57),ISBLANK(W57)),"-",IF(AND(G57="-",M57="-",ISBLANK(Q57),ISBLANK(W57)),"-",IF(AND(G57="-",M57="-",S57="-",ISBLANK(W57)),"-",MIN(G57,M57,S57,Y57)))))) | AG57: =IF(AB57="","",COUNTIF(AB11:AB57,"-")) | AO57: =IF(AB57="","",IF(AN57="0","0",COUNTIF(AN11:AN56,AN57))) | AV57: BYE | AW57: =COUNTIF(#REF!,"AA") -> #REF! | AX57: =IF(BB57="","",COUNTIF(BB11:BB57,"-")) | BA57: BYE
A58: 48 | AB58: =IF(AND(ISBLANK(E58),ISBLANK(K58),ISBLANK(Q58),ISBLANK(W58)),"",IF(AND(G58="-",M58="-",S58="-",Y58="-"),"-",IF(AND(G58="-",ISBLANK(K58),ISBLANK(Q58),ISBLANK(W58)),"-",IF(AND(G58="-",M58="-",ISBLANK(Q58),ISBLANK(W58)),"-",IF(AND(G58="-",M58="-",S58="-",ISBLANK(W58)),"-",MIN(G58,M58,S58,Y58)))))) | AG58: =IF(AB58="","",COUNTIF(AB11:AB58,"-")) | AO58: =IF(AB58="","",IF(AN58="0","0",COUNTIF(AN11:AN57,AN58))) | AV58: BYE | AW58: =COUNTIF(#REF!,"AA") -> #REF! | AX58: =IF(BB58="","",COUNTIF(BB11:BB58,"-")) | BA58: BYE
A59: 49 | AB59: =IF(AND(ISBLANK(E59),ISBLANK(K59),ISBLANK(Q59),ISBLANK(W59)),"",IF(AND(G59="-",M59="-",S59="-",Y59="-"),"-",IF(AND(G59="-",ISBLANK(K59),ISBLANK(Q59),ISBLANK(W59)),"-",IF(AND(G59="-",M59="-",ISBLANK(Q59),ISBLANK(W59)),"-",IF(AND(G59="-",M59="-",S59="-",ISBLANK(W59)),"-",MIN(G59,M59,S59,Y59)))))) | AG59: =IF(AB59="","",COUNTIF(AB11:AB59,"-")) | AO59: =IF(AB59="","",IF(AN59="0","0",COUNTIF(AN11:AN58,AN59))) | AV59: BYE | AW59: =COUNTIF(#REF!,"AA") -> #REF! | AX59: =IF(BB59="","",COUNTIF(BB11:BB59,"-")) | BA59: BYE
A60: 50 | AB60: =IF(AND(ISBLANK(E60),ISBLANK(K60),ISBLANK(Q60),ISBLANK(W60)),"",IF(AND(G60="-",M60="-",S60="-",Y60="-"),"-",IF(AND(G60="-",ISBLANK(K60),ISBLANK(Q60),ISBLANK(W60)),"-",IF(AND(G60="-",M60="-",ISBLANK(Q60),ISBLANK(W60)),"-",IF(AND(G60="-",M60="-",S60="-",ISBLANK(W60)),"-",MIN(G60,M60,S60,Y60)))))) | AG60: =IF(AB60="","",COUNTIF(AB11:AB60,"-")) | AO60: =IF(AB60="","",IF(AN60="0","0",COUNTIF(AN11:AN59,AN60))) | AV60: BYE | AW60: =COUNTIF(#REF!,"AA") -> #REF! | AX60: =IF(BB60="","",COUNTIF(BB11:BB60,"-")) | BA60: BYE
A61: 51 | AB61: =IF(AND(ISBLANK(E61),ISBLANK(K61),ISBLANK(Q61),ISBLANK(W61)),"",IF(AND(G61="-",M61="-",S61="-",Y61="-"),"-",IF(AND(G61="-",ISBLANK(K61),ISBLANK(Q61),ISBLANK(W61)),"-",IF(AND(G61="-",M61="-",ISBLANK(Q61),ISBLANK(W61)),"-",IF(AND(G61="-",M61="-",S61="-",ISBLANK(W61)),"-",MIN(G61,M61,S61,Y61)))))) | AG61: =IF(AB61="","",COUNTIF(AB11:AB61,"-")) | AO61: =IF(AB61="","",IF(AN61="0","0",COUNTIF(AN11:AN60,AN61))) | AV61: BYE | AW61: =COUNTIF(#REF!,"AA") -> #REF! | AX61: =IF(BB61="","",COUNTIF(BB11:BB61,"-")) | BA61: BYE
A62: 52 | AB62: =IF(AND(ISBLANK(E62),ISBLANK(K62),ISBLANK(Q62),ISBLANK(W62)),"",IF(AND(G62="-",M62="-",S62="-",Y62="-"),"-",IF(AND(G62="-",ISBLANK(K62),ISBLANK(Q62),ISBLANK(W62)),"-",IF(AND(G62="-",M62="-",ISBLANK(Q62),ISBLANK(W62)),"-",IF(AND(G62="-",M62="-",S62="-",ISBLANK(W62)),"-",MIN(G62,M62,S62,Y62)))))) | AG62: =IF(AB62="","",COUNTIF(AB11:AB62,"-")) | AO62: =IF(AB62="","",IF(AN62="0","0",COUNTIF(AN11:AN61,AN62))) | AV62: BYE | AW62: =COUNTIF(#REF!,"AA") -> #REF! | AX62: =IF(BB62="","",COUNTIF(BB11:BB62,"-")) | BA62: BYE
A63: 53 | AB63: =IF(AND(ISBLANK(E63),ISBLANK(K63),ISBLANK(Q63),ISBLANK(W63)),"",IF(AND(G63="-",M63="-",S63="-",Y63="-"),"-",IF(AND(G63="-",ISBLANK(K63),ISBLANK(Q63),ISBLANK(W63)),"-",IF(AND(G63="-",M63="-",ISBLANK(Q63),ISBLANK(W63)),"-",IF(AND(G63="-",M63="-",S63="-",ISBLANK(W63)),"-",MIN(G63,M63,S63,Y63)))))) | AG63: =IF(AB63="","",COUNTIF(AB11:AB63,"-")) | AO63: =IF(AB63="","",IF(AN63="0","0",COUNTIF(AN11:AN62,AN63))) | AV63: BYE | AW63: =COUNTIF(#REF!,"AA") -> #REF! | AX63: =IF(BB63="","",COUNTIF(BB11:BB63,"-")) | BA63: BYE
A64: 54 | AB64: =IF(AND(ISBLANK(E64),ISBLANK(K64),ISBLANK(Q64),ISBLANK(W64)),"",IF(AND(G64="-",M64="-",S64="-",Y64="-"),"-",IF(AND(G64="-",ISBLANK(K64),ISBLANK(Q64),ISBLANK(W64)),"-",IF(AND(G64="-",M64="-",ISBLANK(Q64),ISBLANK(W64)),"-",IF(AND(G64="-",M64="-",S64="-",ISBLANK(W64)),"-",MIN(G64,M64,S64,Y64)))))) | AG64: =IF(AB64="","",COUNTIF(AB11:AB64,"-")) | AO64: =IF(AB64="","",IF(AN64="0","0",COUNTIF(AN11:AN63,AN64))) | AV64: BYE | AW64: =COUNTIF(#REF!,"AA") -> #REF! | AX64: =IF(BB64="","",COUNTIF(BB11:BB64,"-")) | BA64: BYE
A65: 55 | AB65: =IF(AND(ISBLANK(E65),ISBLANK(K65),ISBLANK(Q65),ISBLANK(W65)),"",IF(AND(G65="-",M65="-",S65="-",Y65="-"),"-",IF(AND(G65="-",ISBLANK(K65),ISBLANK(Q65),ISBLANK(W65)),"-",IF(AND(G65="-",M65="-",ISBLANK(Q65),ISBLANK(W65)),"-",IF(AND(G65="-",M65="-",S65="-",ISBLANK(W65)),"-",MIN(G65,M65,S65,Y65)))))) | AG65: =IF(AB65="","",COUNTIF(AB11:AB65,"-")) | AO65: =IF(AB65="","",IF(AN65="0","0",COUNTIF(AN11:AN64,AN65))) | AV65: BYE | AW65: =COUNTIF(#REF!,"AA") -> #REF! | AX65: =IF(BB65="","",COUNTIF(BB11:BB65,"-")) | BA65: BYE
