Workbook

Sheet Am Quals
D1: Moscow City Race: Afterparty | AP1: Database development by
D2: 23 May 2015 • Moscow, Krasnaya presnya park | AP2: Dan Gesmer, SeismicSK8@aol.com
D3: Tight / Open Qualifications
A5: 0.1 | B5: secs penalty per hit cone
A6: 20 | B6: maximum hit cones before DQ
A7: 2 | B7: false start multiplication factor | D7: Under "Raw Time," enter "DQ" or"DNF" for | AP7: Advance Racers who DQ | AS7: Y
A8: =IF(ISERROR(0.1*AR12)=TRUE,"",ROUND(0.1*AR12,2)) -> 1.31 | B8: secs head-to-head DQ/DNR penalty | D8: "Disqualified" and "DNR" for "Did Not Race." | AP8: all Qualifying Runs? (Y/N)
A9: =IF(ISERROR(0.1*AR12)=TRUE,"",ROUND(0.1*AR12,2)) -> 1.31 | B9: secs max head-to-head victory margin
B10: Bib Number | C10: Racer Name | D10: Run 1 | K10: Run 2 | Q10: Qual Rank (w/out DQs) | R10: Best Time | S10: Qualifying Position | T10: Qual Rank (w/DQs sequenced) | U10: Racer No. & Name | V10: Best Time | W10: Double DQ Place Factor | X10: No. of Ties per Best Time | Y10: Tied-at Time | Z10: Tied-at Time Rank | AA10: Run 1 Time w/DQ Adjust | AB10: Run 2 Time w/DQ Adjust | AC10: Total Time w/DQ Adjust | AD10: Total Time Rank | AE10: Total Tie Place Factor | AF10: Tie 1 Total Time Rank | AG10: Tie 1 Place Factor | AH10: Tie 2 Total Time Rank | AI10: Tie 2 Place Factor | AJ10: Tie 3 Total Time Rank | AK10: Tie 3 Place Factor | AL10: Placed Racer No. & Name | AM10: Withdrawal Place Factor | AN10: Double DQ Place Factor 2 | AO10: Final Spot - Withdrawals | AP10: Qualifying Position | AQ10: Racer No. & Name | AR10: Best Time | AS10: Withdraw (W)
D11: Raw Time | E11: Cones | F11: Reaction Time | G11: False Start | H11: Final Time | I11: Run Rank | K11: Raw Time | L11: Cones | M11: Reaction Time | N11: False Start | O11: Final Time | P11: Run Rank
A12: 1 | C12: Rogachev Vladimir | D12: 19.368 | E12: 0 | F12: 1.061 | H12: {=IF(LEFT(D12:D111,1)="D","-",IF(E12:E111>A6,"-",IF(D12:D111>0,D12:D111+E12:E111*A5+G12:G111*A7,"")))} -> 19.368 | I12: {=IF(H12:H111="","",IF(H12:H111="-","",RANK(H12:H111,H12:H111,1)))} -> 7 | K12: 19.237 | L12: 0 | M12: 0.862 | O12: {=IF(LEFT(K12:K111,1)="D","-",IF(L12:L111>A6,"-",IF(K12:K111>0,K12:K111+L12:L111*A5+N12:N111*A7,"")))} -> 19.237 | P12: {=IF(O12:O111="","",IF(O12:O111="-","",RANK(O12:O111,O12:O111,1)))} -> 7 | Q12: {=IF(R12:R111="","",IF(R12:R111="-","",RANK(R12:R111,R12:R111,1)))} -> 7 | R12: =IF(AND(ISBLANK(D12),ISBLANK(K12)),"",IF(AND(H12="-",O12="-"),"-",IF(AND(H12="-",ISBLANK(K12)),"-",MIN(H12,O12)))) -> 19.237 | S12: {=IF(R12:R111="","",VLOOKUP(U12:U111,AL12:AP111,5,FALSE))} -> 7 | T12: {=IF(R12:R111="","",IF(R12:R111="-",COUNT(Q12:Q111)+W12:W111,Q12:Q111+AE12:AE111+AG12:AG111+AI12:AI111+AK12:AK111))} -> 7 | U12: {=IF(B12:B111 ="","",B12:B111 & " ")&C12:C111} -> Rogachev Vladimir | V12: {=R12:R111} -> 19.237 | W12: =IF(R12="","",COUNTIF(R12:R12,"-")) -> 0 | X12: {=IF(Q12:Q111="","",COUNTIF(Q12:Q111,Q12:Q111)-1)} -> 0 | Y12: {=IF(R12:R111="-","",IF(X12:X111=0,"",R12:R111))} | Z12: {=IF(Y12:Y111="","",RANK(Y12:Y111,Y12:Y111,1))} | AA12: {=IF(X12:X111="","",IF(X12:X111=0,"",IF(LEFT(H12:H111,1)="-","199",H12:H111)))} | AB12: {=IF(X12:X111="","",IF(X12:X111=0,"",IF(LEFT(O12:O111,1)="-","199",O12:O111)))} | AC12: {=IF(ISERROR(AA12:AA111+AB12:AB111)=TRUE,AA12:AA111,AA12:AA111+AB12:AB111)} | AD12: {=IF(R12:R111="","",IF(X12:X111=0,"0",IF(ISERROR(RANK(AC12:AC111,AC12:AC111,1))=TRUE,"0",RANK(AC12:AC111,AC12:AC111,1))))} -> 0 | AE12: 0 | AF12: {=IF(ISERROR(X12:X111)=TRUE,"",IF(Z12:Z111=1,AD12:AD111,""))} | AG12: {=IF(R12:R111="","",IF(AF12:AF111="","0",RANK(AF12:AF111,AF12:AF111,1)-1))} -> 0 | AH12: {=IF(ISERROR(X12:X111)=TRUE,"",IF(Z12:Z111=COUNT(AF12:AF111)+1,AD12:AD111,""))} | AI12: {=IF(R12:R111="","",IF(AH12:AH111="","0",RANK(AH12:AH111,AH12:AH111,1)-1))} -> 0 | AJ12: {=IF(ISERROR(X12:X111)=TRUE,"",IF(Z12:Z111=COUNT(AF12:AF111)+COUNT(AH12:AH111)+1,AD12:AD111,""))} | AK12: {=IF(R12:R111="","",IF(AJ12:AJ111="","0",RANK(AJ12:AJ111,AJ12:AJ111,1)-1))} -> 0 | AL12: {=AQ12:AQ111} -> Kolesov Anton | AM12: =COUNTIF(AS12:AS12,"W") -> 0 | AN12: =IF(AR12="","",COUNTIF(AR12:AR12,"-")) -> 0 | AO12: {=IF(AQ12:AQ111="BYE","",IF(AS12:AS111="W","",IF(AS7="N",IF(AP12:AP111<=COUNT(Q12:Q111),AP12:AP111-AM12:AM111,""),IF(AP12:AP111<=COUNT(Q12:Q111),AP12:AP111-AM12:AM111,AP12:AP111-AM12:AM111+AN12:AN111-1))))} -> 1 | AP12: {=IF(R12:R111="","",IF(AP11:AP110+1<=COUNT(Q12:Q111),AP11:AP110+1,COUNT(Q12:Q111)+1))} -> 1 | AQ12: {=IF(R12:R111="","BYE",IF(ISERROR(VLOOKUP(A12:A111,T12:U111,2,FALSE))=TRUE,"",VLOOKUP(A12:A111,T12:U111,2,FALSE)))} -> Kolesov Anton | AR12: {=IF(C12:C111="BYE", "",IF(A12:A111="","",IF(ISERROR(VLOOKUP(A12:A111,T12:V111,3,FALSE))=TRUE,"",VLOOKUP(A12:A111,T12:V111,3,FALSE))))} -> 13.135
A13: 2 | C13: Popov Igor | D13: 19.814 | E13: 3 | F13: 0.908 | H13: 20.114 | I13: 8 | K13: 19.441 | L13: 3 | M13: 0.755 | O13: 19.741 | P13: 8 | Q13: 8 | R13: =IF(AND(ISBLANK(D13),ISBLANK(K13)),"",IF(AND(H13="-",O13="-"),"-",IF(AND(H13="-",ISBLANK(K13)),"-",MIN(H13,O13)))) -> 19.741 | S13: 8 | T13: 8 | U13: Popov Igor | V13: 19.741 | W13: =IF(R13="","",COUNTIF(R12:R13,"-")) -> 0 | X13: 0 | AD13: 0 | AE13: =IF(R13="","",IF(AD13="0","0",COUNTIF(AD12:AD12,AD13))) -> 0 | AG13: 0 | AI13: 0 | AK13: 0 | AL13: Nikulin Anton | AM13: =COUNTIF(AS12:AS13,"W") -> 0 | AN13: =IF(AR13="","",COUNTIF(AR12:AR13,"-")) -> 0 | AO13: 2 | AP13: 2 | AQ13: Nikulin Anton | AR13: 13.293
A14: 3 | C14: Rychkov Svyatoslav | D14: 18.49 | E14: 3 | F14: 2.036 | H14: 18.79 | I14: 6 | K14: 18.251 | L14: 1 | M14: 1.393 | O14: 18.351 | P14: 6 | Q14: 6 | R14: =IF(AND(ISBLANK(D14),ISBLANK(K14)),"",IF(AND(H14="-",O14="-"),"-",IF(AND(H14="-",ISBLANK(K14)),"-",MIN(H14,O14)))) -> 18.351 | S14: 6 | T14: 6 | U14: Rychkov Svyatoslav | V14: 18.351 | W14: =IF(R14="","",COUNTIF(R12:R14,"-")) -> 0 | X14: 0 | AD14: 0 | AE14: =IF(R14="","",IF(AD14="0","0",COUNTIF(AD12:AD13,AD14))) -> 0 | AG14: 0 | AI14: 0 | AK14: 0 | AL14: Glushko Oleg | AM14: =COUNTIF(AS12:AS14,"W") -> 0 | AN14: =IF(AR14="","",COUNTIF(AR12:AR14,"-")) -> 0 | AO14: 3 | AP14: 3 | AQ14: Glushko Oleg | AR14: 13.48
A15: 4 | C15: Savin Aleksandr | D15: 14.974 | E15: 0 | F15: 0.811 | H15: 14.974 | I15: 5 | K15: 14.725 | L15: 2 | M15: 0.696 | O15: 14.925 | P15: 5 | Q15: 5 | R15: =IF(AND(ISBLANK(D15),ISBLANK(K15)),"",IF(AND(H15="-",O15="-"),"-",IF(AND(H15="-",ISBLANK(K15)),"-",MIN(H15,O15)))) -> 14.925 | S15: 5 | T15: 5 | U15: Savin Aleksandr | V15: 14.925 | W15: =IF(R15="","",COUNTIF(R12:R15,"-")) -> 0 | X15: 0 | AD15: 0 | AE15: =IF(R15="","",IF(AD15="0","0",COUNTIF(AD12:AD14,AD15))) -> 0 | AG15: 0 | AI15: 0 | AK15: 0 | AL15: Artemov Georgy | AM15: =COUNTIF(AS12:AS15,"W") -> 0 | AN15: =IF(AR15="","",COUNTIF(AR12:AR15,"-")) -> 0 | AO15: 4 | AP15: 4 | AQ15: Artemov Georgy | AR15: 13.541
A16: 5 | C16: Glushko Oleg | D16: 13.721 | E16: 0 | F16: 0.541 | H16: 13.721 | I16: 4 | K16: 13.48 | L16: 0 | M16: 0.595 | O16: 13.48 | P16: 3 | Q16: 3 | R16: =IF(AND(ISBLANK(D16),ISBLANK(K16)),"",IF(AND(H16="-",O16="-"),"-",IF(AND(H16="-",ISBLANK(K16)),"-",MIN(H16,O16)))) -> 13.48 | S16: 3 | T16: 3 | U16: Glushko Oleg | V16: 13.48 | W16: =IF(R16="","",COUNTIF(R12:R16,"-")) -> 0 | X16: 0 | AD16: 0 | AE16: =IF(R16="","",IF(AD16="0","0",COUNTIF(AD12:AD15,AD16))) -> 0 | AG16: 0 | AI16: 0 | AK16: 0 | AL16: Savin Aleksandr | AM16: =COUNTIF(AS12:AS16,"W") -> 0 | AN16: =IF(AR16="","",COUNTIF(AR12:AR16,"-")) -> 0 | AO16: 5 | AP16: 5 | AQ16: Savin Aleksandr | AR16: 14.925
A17: 6 | C17: Artemov Georgy | D17: 13.541 | E17: 0 | F17: 0.683 | H17: 13.541 | I17: 3 | K17: 13.374 | L17: 2 | M17: 0.678 | O17: 13.574 | P17: 4 | Q17: 4 | R17: =IF(AND(ISBLANK(D17),ISBLANK(K17)),"",IF(AND(H17="-",O17="-"),"-",IF(AND(H17="-",ISBLANK(K17)),"-",MIN(H17,O17)))) -> 13.541 | S17: 4 | T17: 4 | U17: Artemov Georgy | V17: 13.541 | W17: =IF(R17="","",COUNTIF(R12:R17,"-")) -> 0 | X17: 0 | AD17: 0 | AE17: =IF(R17="","",IF(AD17="0","0",COUNTIF(AD12:AD16,AD17))) -> 0 | AG17: 0 | AI17: 0 | AK17: 0 | AL17: Rychkov Svyatoslav | AM17: =COUNTIF(AS12:AS17,"W") -> 0 | AN17: =IF(AR17="","",COUNTIF(AR12:AR17,"-")) -> 0 | AO17: 6 | AP17: 6 | AQ17: Rychkov Svyatoslav | AR17: 18.351
A18: 7 | C18: Kolesov Anton | D18: 13.244 | E18: 1 | F18: 0.716 | H18: 13.344 | I18: 2 | K18: 13.135 | L18: 0 | M18: 0.665 | O18: 13.135 | P18: 1 | Q18: 1 | R18: =IF(AND(ISBLANK(D18),ISBLANK(K18)),"",IF(AND(H18="-",O18="-"),"-",IF(AND(H18="-",ISBLANK(K18)),"-",MIN(H18,O18)))) -> 13.135 | S18: 1 | T18: 1 | U18: Kolesov Anton | V18: 13.135 | W18: =IF(R18="","",COUNTIF(R12:R18,"-")) -> 0 | X18: 0 | AD18: 0 | AE18: =IF(R18="","",IF(R18="","",IF(AD18="0","0",COUNTIF(AD12:AD17,AD18)))) -> 0 | AG18: 0 | AI18: 0 | AK18: 0 | AL18: Rogachev Vladimir | AM18: =COUNTIF(AS12:AS18,"W") -> 0 | AN18: =IF(AR18="","",COUNTIF(AR12:AR18,"-")) -> 0 | AO18: 7 | AP18: 7 | AQ18: Rogachev Vladimir | AR18: 19.237
A19: 8 | C19: Nikulin Anton | D19: 13.235 | E19: 1 | F19: 0.646 | H19: 13.335 | I19: 1 | K19: 13.093 | L19: 2 | M19: 0.526 | O19: 13.293 | P19: 2 | Q19: 2 | R19: =IF(AND(ISBLANK(D19),ISBLANK(K19)),"",IF(AND(H19="-",O19="-"),"-",IF(AND(H19="-",ISBLANK(K19)),"-",MIN(H19,O19)))) -> 13.293 | S19: 2 | T19: 2 | U19: Nikulin Anton | V19: 13.293 | W19: =IF(R19="","",COUNTIF(R12:R19,"-")) -> 0 | X19: 0 | AD19: 0 | AE19: =IF(R19="","",IF(R19="","",IF(AD19="0","0",COUNTIF(AD12:AD18,AD19)))) -> 0 | AG19: 0 | AI19: 0 | AK19: 0 | AL19: Popov Igor | AM19: =COUNTIF(AS12:AS19,"W") -> 0 | AN19: =IF(AR19="","",COUNTIF(AR12:AR19,"-")) -> 0 | AO19: 8 | AP19: 8 | AQ19: Popov Igor | AR19: 19.741
A20: 9 | R20: =IF(AND(ISBLANK(D20),ISBLANK(K20)),"",IF(AND(H20="-",O20="-"),"-",IF(AND(H20="-",ISBLANK(K20)),"-",MIN(H20,O20)))) | W20: =IF(R20="","",COUNTIF(R12:R20,"-")) | AE20: =IF(R20="","",IF(R20="","",IF(AD20="0","0",COUNTIF(AD12:AD19,AD20)))) | AL20: BYE | AM20: =COUNTIF(AS12:AS20,"W") -> 0 | AN20: =IF(AR20="","",COUNTIF(AR12:AR20,"-")) | AQ20: BYE
A21: 10 | R21: =IF(AND(ISBLANK(D21),ISBLANK(K21)),"",IF(AND(H21="-",O21="-"),"-",IF(AND(H21="-",ISBLANK(K21)),"-",MIN(H21,O21)))) | W21: =IF(R21="","",COUNTIF(R12:R21,"-")) | AE21: =IF(R21="","",IF(AD21="0","0",COUNTIF(AD12:AD20,AD21))) | AL21: BYE | AM21: =COUNTIF(AS12:AS21,"W") -> 0 | AN21: =IF(AR21="","",COUNTIF(AR12:AR21,"-")) | AQ21: BYE
A22: 11 | R22: =IF(AND(ISBLANK(D22),ISBLANK(K22)),"",IF(AND(H22="-",O22="-"),"-",IF(AND(H22="-",ISBLANK(K22)),"-",MIN(H22,O22)))) | W22: =IF(R22="","",COUNTIF(R12:R22,"-")) | AE22: =IF(R22="","",IF(AD22="0","0",COUNTIF(AD1:AD21,AD22))) | AL22: BYE | AM22: =COUNTIF(AS12:AS22,"W") -> 0 | AN22: =IF(AR22="","",COUNTIF(AR12:AR22,"-")) | AQ22: BYE
A23: 12 | R23: =IF(AND(ISBLANK(D23),ISBLANK(K23)),"",IF(AND(H23="-",O23="-"),"-",IF(AND(H23="-",ISBLANK(K23)),"-",MIN(H23,O23)))) | W23: =IF(R23="","",COUNTIF(R12:R23,"-")) | AE23: =IF(R23="","",IF(AD23="0","0",COUNTIF(AD12:AD22,AD23))) | AL23: BYE | AM23: =COUNTIF(AS12:AS23,"W") -> 0 | AN23: =IF(AR23="","",COUNTIF(AR12:AR23,"-")) | AQ23: BYE
A24: 13 | R24: =IF(AND(ISBLANK(D24),ISBLANK(K24)),"",IF(AND(H24="-",O24="-"),"-",IF(AND(H24="-",ISBLANK(K24)),"-",MIN(H24,O24)))) | W24: =IF(R24="","",COUNTIF(R12:R24,"-")) | AE24: =IF(R24="","",IF(AD24="0","0",COUNTIF(AD12:AD23,AD24))) | AL24: BYE | AM24: =COUNTIF(AS12:AS24,"W") -> 0 | AN24: =IF(AR24="","",COUNTIF(AR12:AR24,"-")) | AQ24: BYE
A25: 14 | R25: =IF(AND(ISBLANK(D25),ISBLANK(K25)),"",IF(AND(H25="-",O25="-"),"-",IF(AND(H25="-",ISBLANK(K25)),"-",MIN(H25,O25)))) | W25: =IF(R25="","",COUNTIF(R12:R25,"-")) | AE25: =IF(R25="","",IF(AD25="0","0",COUNTIF(AD12:AD24,AD25))) | AL25: BYE | AM25: =COUNTIF(AS12:AS25,"W") -> 0 | AN25: =IF(AR25="","",COUNTIF(AR12:AR25,"-")) | AQ25: BYE
A26: 15 | R26: =IF(AND(ISBLANK(D26),ISBLANK(K26)),"",IF(AND(H26="-",O26="-"),"-",IF(AND(H26="-",ISBLANK(K26)),"-",MIN(H26,O26)))) | W26: =IF(R26="","",COUNTIF(R12:R26,"-")) | AE26: =IF(R26="","",IF(AD26="0","0",COUNTIF(AD12:AD25,AD26))) | AL26: BYE | AM26: =COUNTIF(AS12:AS26,"W") -> 0 | AN26: =IF(AR26="","",COUNTIF(AR12:AR26,"-")) | AQ26: BYE
A27: 16 | R27: =IF(AND(ISBLANK(D27),ISBLANK(K27)),"",IF(AND(H27="-",O27="-"),"-",IF(AND(H27="-",ISBLANK(K27)),"-",MIN(H27,O27)))) | W27: =IF(R27="","",COUNTIF(R12:R27,"-")) | AE27: =IF(R27="","",IF(AD27="0","0",COUNTIF(AD12:AD26,AD27))) | AL27: BYE | AM27: =COUNTIF(AS12:AS27,"W") -> 0 | AN27: =IF(AR27="","",COUNTIF(AR12:AR27,"-")) | AQ27: BYE
A28: 17 | R28: =IF(AND(ISBLANK(D28),ISBLANK(K28)),"",IF(AND(H28="-",O28="-"),"-",IF(AND(H28="-",ISBLANK(K28)),"-",MIN(H28,O28)))) | W28: =IF(R28="","",COUNTIF(R12:R28,"-")) | AE28: =IF(R28="","",IF(AD28="0","0",COUNTIF(AD12:AD27,AD28))) | AL28: BYE | AM28: =COUNTIF(AS12:AS28,"W") -> 0 | AN28: =IF(AR28="","",COUNTIF(AR12:AR28,"-")) | AQ28: BYE
A29: 18 | R29: =IF(AND(ISBLANK(D29),ISBLANK(K29)),"",IF(AND(H29="-",O29="-"),"-",IF(AND(H29="-",ISBLANK(K29)),"-",MIN(H29,O29)))) | W29: =IF(R29="","",COUNTIF(R12:R29,"-")) | AE29: =IF(R29="","",IF(AD29="0","0",COUNTIF(AD12:AD28,AD29))) | AL29: BYE | AM29: =COUNTIF(AS12:AS29,"W") -> 0 | AN29: =IF(AR29="","",COUNTIF(AR12:AR29,"-")) | AQ29: BYE
A30: 19 | R30: =IF(AND(ISBLANK(D30),ISBLANK(K30)),"",IF(AND(H30="-",O30="-"),"-",IF(AND(H30="-",ISBLANK(K30)),"-",MIN(H30,O30)))) | W30: =IF(R30="","",COUNTIF(R12:R30,"-")) | AE30: =IF(R30="","",IF(AD30="0","0",COUNTIF(AD12:AD29,AD30))) | AL30: BYE | AM30: =COUNTIF(AS12:AS30,"W") -> 0 | AN30: =IF(AR30="","",COUNTIF(AR12:AR30,"-")) | AQ30: BYE
A31: 20 | R31: =IF(AND(ISBLANK(D31),ISBLANK(K31)),"",IF(AND(H31="-",O31="-"),"-",IF(AND(H31="-",ISBLANK(K31)),"-",MIN(H31,O31)))) | W31: =IF(R31="","",COUNTIF(R12:R31,"-")) | AE31: =IF(R31="","",IF(AD31="0","0",COUNTIF(AD12:AD30,AD31))) | AL31: BYE | AM31: =COUNTIF(AS12:AS31,"W") -> 0 | AN31: =IF(AR31="","",COUNTIF(AR12:AR31,"-")) | AQ31: BYE
A32: 21 | R32: =IF(AND(ISBLANK(D32),ISBLANK(K32)),"",IF(AND(H32="-",O32="-"),"-",IF(AND(H32="-",ISBLANK(K32)),"-",MIN(H32,O32)))) | W32: =IF(R32="","",COUNTIF(R12:R32,"-")) | AE32: =IF(R32="","",IF(AD32="0","0",COUNTIF(AD12:AD31,AD32))) | AL32: BYE | AM32: =COUNTIF(AS12:AS32,"W") -> 0 | AN32: =IF(AR32="","",COUNTIF(AR12:AR32,"-")) | AQ32: BYE
A33: 22 | R33: =IF(AND(ISBLANK(D33),ISBLANK(K33)),"",IF(AND(H33="-",O33="-"),"-",IF(AND(H33="-",ISBLANK(K33)),"-",MIN(H33,O33)))) | W33: =IF(R33="","",COUNTIF(R12:R33,"-")) | AE33: =IF(R33="","",IF(AD33="0","0",COUNTIF(AD12:AD32,AD33))) | AL33: BYE | AM33: =COUNTIF(AS12:AS33,"W") -> 0 | AN33: =IF(AR33="","",COUNTIF(AR12:AR33,"-")) | AQ33: BYE
A34: 23 | R34: =IF(AND(ISBLANK(D34),ISBLANK(K34)),"",IF(AND(H34="-",O34="-"),"-",IF(AND(H34="-",ISBLANK(K34)),"-",MIN(H34,O34)))) | W34: =IF(R34="","",COUNTIF(R12:R34,"-")) | AE34: =IF(R34="","",IF(AD34="0","0",COUNTIF(AD12:AD33,AD34))) | AL34: BYE | AM34: =COUNTIF(AS12:AS34,"W") -> 0 | AN34: =IF(AR34="","",COUNTIF(AR12:AR34,"-")) | AQ34: BYE
A35: 24 | R35: =IF(AND(ISBLANK(D35),ISBLANK(K35)),"",IF(AND(H35="-",O35="-"),"-",IF(AND(H35="-",ISBLANK(K35)),"-",MIN(H35,O35)))) | W35: =IF(R35="","",COUNTIF(R12:R35,"-")) | AE35: =IF(R35="","",IF(AD35="0","0",COUNTIF(AD12:AD34,AD35))) | AL35: BYE | AM35: =COUNTIF(AS12:AS35,"W") -> 0 | AN35: =IF(AR35="","",COUNTIF(AR12:AR35,"-")) | AQ35: BYE
A36: 25 | R36: =IF(AND(ISBLANK(D36),ISBLANK(K36)),"",IF(AND(H36="-",O36="-"),"-",IF(AND(H36="-",ISBLANK(K36)),"-",MIN(H36,O36)))) | W36: =IF(R36="","",COUNTIF(R12:R36,"-")) | AE36: =IF(R36="","",IF(AD36="0","0",COUNTIF(AD12:AD35,AD36))) | AL36: BYE | AM36: =COUNTIF(AS12:AS36,"W") -> 0 | AN36: =IF(AR36="","",COUNTIF(AR12:AR36,"-")) | AQ36: BYE
A37: 26 | R37: =IF(AND(ISBLANK(D37),ISBLANK(K37)),"",IF(AND(H37="-",O37="-"),"-",IF(AND(H37="-",ISBLANK(K37)),"-",MIN(H37,O37)))) | W37: =IF(R37="","",COUNTIF(R12:R37,"-")) | AE37: =IF(R37="","",IF(AD37="0","0",COUNTIF(AD12:AD36,AD37))) | AL37: BYE | AM37: =COUNTIF(AS12:AS37,"W") -> 0 | AN37: =IF(AR37="","",COUNTIF(AR12:AR37,"-")) | AQ37: BYE
A38: 27 | R38: =IF(AND(ISBLANK(D38),ISBLANK(K38)),"",IF(AND(H38="-",O38="-"),"-",IF(AND(H38="-",ISBLANK(K38)),"-",MIN(H38,O38)))) | W38: =IF(R38="","",COUNTIF(R12:R38,"-")) | AE38: =IF(R38="","",IF(AD38="0","0",COUNTIF(AD12:AD37,AD38))) | AL38: BYE | AM38: =COUNTIF(AS12:AS38,"W") -> 0 | AN38: =IF(AR38="","",COUNTIF(AR12:AR38,"-")) | AQ38: BYE
A39: 28 | R39: =IF(AND(ISBLANK(D39),ISBLANK(K39)),"",IF(AND(H39="-",O39="-"),"-",IF(AND(H39="-",ISBLANK(K39)),"-",MIN(H39,O39)))) | W39: =IF(R39="","",COUNTIF(R12:R39,"-")) | AE39: =IF(R39="","",IF(AD39="0","0",COUNTIF(AD12:AD38,AD39))) | AL39: BYE | AM39: =COUNTIF(AS12:AS39,"W") -> 0 | AN39: =IF(AR39="","",COUNTIF(AR12:AR39,"-")) | AQ39: BYE
A40: 29 | R40: =IF(AND(ISBLANK(D40),ISBLANK(K40)),"",IF(AND(H40="-",O40="-"),"-",IF(AND(H40="-",ISBLANK(K40)),"-",MIN(H40,O40)))) | W40: =IF(R40="","",COUNTIF(R12:R40,"-")) | AE40: =IF(R40="","",IF(AD40="0","0",COUNTIF(AD12:AD39,AD40))) | AL40: BYE | AM40: =COUNTIF(AS12:AS40,"W") -> 0 | AN40: =IF(AR40="","",COUNTIF(AR12:AR40,"-")) | AQ40: BYE
A41: 30 | R41: =IF(AND(ISBLANK(D41),ISBLANK(K41)),"",IF(AND(H41="-",O41="-"),"-",IF(AND(H41="-",ISBLANK(K41)),"-",MIN(H41,O41)))) | W41: =IF(R41="","",COUNTIF(R12:R41,"-")) | AE41: =IF(R41="","",IF(AD41="0","0",COUNTIF(AD12:AD40,AD41))) | AL41: BYE | AM41: =COUNTIF(AS12:AS41,"W") -> 0 | AN41: =IF(AR41="","",COUNTIF(AR12:AR41,"-")) | AQ41: BYE
...

Sheet Am Elims
C1: Moscow City Race: Afterparty | Q1: Database development by
C2: 23 May 2015 • Moscow, Krasnaya presnya park | Q2: Dan Gesmer, SeismicSK8@aol.com
A3: 32 | B3: Top Bracket (32-16-8-4-2) | C3: Tight / Open Eliminations
A5: Qualifying Position | B5: Racer No. & Name | C5: Run 1 | J5: R1 Margin | K5: Run 2 | R5: R2 Margin | S5: Round Winner & Combined Margin | T5: Loser’s Final Placement | U5: Round Loser | V5: Qualifying Time | W5: Qualifying Position
C6: Raw Time | D6: Cones | E6: Reaction Time | F6: False Start | G6: Final Time | H6: Run Rank | I6: Winner & Margin | K6: Raw Time | L6: Cones | M6: Reaction Time | N6: False Start | O6: Final Time | P6: Run Rank | Q6: Winner & Margin
B7: Round of 32
A8: 1 | B8: =IF(A3<A8,"BYE",IF(ISERROR(VLOOKUP(A8,'Am Quals'!AO12:'Am Quals'!AQ111,3,FALSE))=TRUE,"BYE",VLOOKUP(A8,'Am Quals'!AO12:'Am Quals'!AQ111,3,FALSE))) -> Kolesov Anton | G8: {=IF(LEFT(C8:C39,1)="D","-",IF(D8:D39>'Am Quals'!A6,"-",IF(C8:C39>0,C8:C39+D8:D39*'Am Quals'!A5+F8:F39*'Am Quals'!A7,"")))} | H8: {=IF(G8:G39="","", IF(G8:G39="-","", RANK(G8:G39,G8:G39,1)))} | I8: =IF(AND(LEFT(C8,1)="D",LEFT(C9,1)="D"),"",IF(OR(C8="DNR",C9="DNR"),IF(C8="DNR",B9,B8),IF(OR(ISBLANK(C8),ISBLANK(C9)),"",IF(G8=G9,"TIE",IF(G8>G9,B9,B8))))) | O8: {=IF(LEFT(K8:K39,1)="D","-",IF(L8:L39>'Am Quals'!A6,"-",IF(K8:K39>0,K8:K39+L8:L39*'Am Quals'!A5+N8:N39*'Am Quals'!A7,"")))} | P8: {=IF(O8:O39="","",IF(O8:O39="-","", RANK(O8:O39,O8:O39,1)))} | Q8: =IF(AND(LEFT(K8,1)="D",LEFT(K9,1)="D"),"",IF(OR(K8="DNR",K9="DNR"),IF(K8="DNR",B9,B8),IF(OR(ISBLANK(K8),ISBLANK(K9)),"",IF(O8=O9,"TIE",IF(O8>O9,B9,B8))))) | S8: =IF(B9="BYE", B8, IF(ISERROR(J9+R9)=TRUE,"",IF(J9+R9=0,"TIE - HOLD RUNOFF",IF(J9+R9>0,B9,B8)))) -> Kolesov Anton
A9: 32 | B9: =IF(A3<A9,"BYE",IF(ISERROR(VLOOKUP(A9,'Am Quals'!AO12:'Am Quals'!AQ111,3,FALSE))=TRUE,"BYE",VLOOKUP(A9,'Am Quals'!AO12:'Am Quals'!AQ111,3,FALSE))) -> BYE | I9: =IF(AND(LEFT(C8,1)="D",LEFT(C9,1)="D"),"",IF(OR(C8="DNR",C9="DNR"),"by "&ABS(J9)&" seconds",IF(OR(ISBLANK(C8),ISBLANK(C9),G8=G9),"","by "&ABS(J9)&" seconds"))) | J9: =IF(AND(LEFT(C8,1)="D",LEFT(C9,1)="D"),"0",IF(OR(C8="DNR",C9="DNR"),IF(C8="DNR",1,-1)*'Am Quals'!A8,IF(OR(ISBLANK(C8),ISBLANK(C9)),"",IF(OR(G8="-",G9="-"),IF(G8="-",1,-1)*'Am Quals'!A8,IF(ABS(G8-G9)>'Am Quals'!A9,IF(G8-G9>'Am Quals'!A9,1,-1)*'Am Quals'!A9,ROUND(G8-G9,3)))))) | Q9: =IF(AND(LEFT(K8,1)="D",LEFT(K9,1)="D"),"",IF(OR(K8="DNR",K9="DNR"),"by "&ABS(R9)&" seconds",IF(OR(ISBLANK(K8),ISBLANK(K9),O8=O9),"","by "&ABS(R9)&" seconds"))) | R9: =IF(AND(LEFT(K8,1)="D",LEFT(K9,1)="D"),"0",IF(OR(K8="DNR",K9="DNR"),IF(K8="DNR",1,-1)*'Am Quals'!A8,IF(OR(ISBLANK(K8),ISBLANK(K9)),"",IF(OR(O8="-",O9="-"),IF(O8="-",1,-1)*'Am Quals'!A8,IF(ABS(O8-O9)>'Am Quals'!A9,IF(O8-O9>'Am Quals'!A9,1,-1)*'Am Quals'!A9,ROUND(O8-O9,3)))))) | S9: =IF(B9="BYE","(BYE)",IF(ISERROR(J9+R9)=TRUE,"",IF(J9+R9=0,"","by "&ABS(J9+R9)&" seconds"))) -> (BYE) | T9: {=IF(W9:W39="","",IF(ISERROR(W9:W39)=TRUE,"",16+RANK(W9:W39,W9:W39,1)))} | U9: =IF(B9="BYE", B9, IF(ISERROR(J9+R9)=TRUE,"",IF(J9+R9>0,B8,B9))) -> BYE | V9: =IF(ISERROR(VLOOKUP(U9,'Am Quals'!U12:V111,2,FALSE))=TRUE,"",VLOOKUP(U9,'Am Quals'!U12:V111,2,FALSE)) | W9: =IF(ISERROR(VLOOKUP(U9,'Am Quals'!AL12:AO111,4,FALSE))=TRUE,"",VLOOKUP(U9,'Am Quals'!AL12:AO111,4,FALSE))
A10: 16 | B10: =IF(A3<A10,"BYE",IF(ISERROR(VLOOKUP(A10,'Am Quals'!AO12:'Am Quals'!AQ111,3,FALSE))=TRUE,"BYE",VLOOKUP(A10,'Am Quals'!AO12:'Am Quals'!AQ111,3,FALSE))) -> BYE | I10: =IF(AND(LEFT(C10,1)="D",LEFT(C11,1)="D"),"",IF(OR(C10="DNR",C11="DNR"),IF(C10="DNR",B11,B10),IF(OR(ISBLANK(C10),ISBLANK(C11)),"",IF(G10=G11,"TIE",IF(G10>G11,B11,B10))))) | Q10: =IF(AND(LEFT(K10,1)="D",LEFT(K11,1)="D"),"",IF(OR(K10="DNR",K11="DNR"),IF(K10="DNR",B11,B10),IF(OR(ISBLANK(K10),ISBLANK(K11)),"",IF(O10=O11,"TIE",IF(O10>O11,B11,B10))))) | S10: =IF(B11="BYE", B10, IF(ISERROR(J11+R11)=TRUE,"",IF(J11+R11=0,"TIE - HOLD RUNOFF",IF(J11+R11>0,B11,B10)))) -> BYE
A11: 17 | B11: =IF(A3<A11,"BYE",IF(ISERROR(VLOOKUP(A11,'Am Quals'!AO12:'Am Quals'!AQ111,3,FALSE))=TRUE,"BYE",VLOOKUP(A11,'Am Quals'!AO12:'Am Quals'!AQ111,3,FALSE))) -> BYE | I11: =IF(AND(LEFT(C10,1)="D",LEFT(C11,1)="D"),"",IF(OR(C10="DNR",C11="DNR"),"by "&ABS(J11)&" seconds",IF(OR(ISBLANK(C10),ISBLANK(C11),G10=G11),"","by "&ABS(J11)&" seconds"))) | J11: =IF(AND(LEFT(C10,1)="D",LEFT(C11,1)="D"),"0",IF(OR(C10="DNR",C11="DNR"),IF(C10="DNR",1,-1)*'Am Quals'!A8,IF(OR(ISBLANK(C10),ISBLANK(C11)),"",IF(OR(G10="-",G11="-"),IF(G10="-",1,-1)*'Am Quals'!A8,IF(ABS(G10-G11)>'Am Quals'!A9,IF(G10-G11>'Am Quals'!A9,1,-1)*'Am Quals'!A9,ROUND(G10-G11,3)))))) | Q11: =IF(AND(LEFT(K10,1)="D",LEFT(K11,1)="D"),"",IF(OR(K10="DNR",K11="DNR"),"by "&ABS(R11)&" seconds",IF(OR(ISBLANK(K10),ISBLANK(K11),O10=O11),"","by "&ABS(R11)&" seconds"))) | R11: =IF(AND(LEFT(K10,1)="D",LEFT(K11,1)="D"),"0",IF(OR(K10="DNR",K11="DNR"),IF(K10="DNR",1,-1)*'Am Quals'!A8,IF(OR(ISBLANK(K10),ISBLANK(K11)),"",IF(OR(O10="-",O11="-"),IF(O10="-",1,-1)*'Am Quals'!A8,IF(ABS(O10-O11)>'Am Quals'!A9,IF(O10-O11>'Am Quals'!A9,1,-1)*'Am Quals'!A9,ROUND(O10-O11,3)))))) | S11: =IF(B11="BYE","(BYE)",IF(ISERROR(J11+R11)=TRUE,"",IF(J11+R11=0,"","by "&ABS(J11+R11)&" seconds"))) -> (BYE) | U11: =IF(B11="BYE", B11, IF(ISERROR(J11+R11)=TRUE,"",IF(J11+R11>0,B10,B11))) -> BYE | V11: =IF(ISERROR(VLOOKUP(U11,'Am Quals'!U12:V111,2,FALSE))=TRUE,"",VLOOKUP(U11,'Am Quals'!U12:V111,2,FALSE)) | W11: =IF(ISERROR(VLOOKUP(U11,'Am Quals'!AL12:AO111,4,FALSE))=TRUE,"",VLOOKUP(U11,'Am Quals'!AL12:AO111,4,FALSE))
A12: 8 | B12: =IF(A3<A12,"BYE",IF(ISERROR(VLOOKUP(A12,'Am Quals'!AO12:'Am Quals'!AQ111,3,FALSE))=TRUE,"BYE",VLOOKUP(A12,'Am Quals'!AO12:'Am Quals'!AQ111,3,FALSE))) -> Popov Igor | I12: =IF(AND(LEFT(C12,1)="D",LEFT(C13,1)="D"),"",IF(OR(C12="DNR",C13="DNR"),IF(C12="DNR",B13,B12),IF(OR(ISBLANK(C12),ISBLANK(C13)),"",IF(G12=G13,"TIE",IF(G12>G13,B13,B12))))) | Q12: =IF(AND(LEFT(K12,1)="D",LEFT(K13,1)="D"),"",IF(OR(K12="DNR",K13="DNR"),IF(K12="DNR",B13,B12),IF(OR(ISBLANK(K12),ISBLANK(K13)),"",IF(O12=O13,"TIE",IF(O12>O13,B13,B12))))) | S12: =IF(B13="BYE", B12, IF(ISERROR(J13+R13)=TRUE,"",IF(J13+R13=0,"TIE - HOLD RUNOFF",IF(J13+R13>0,B13,B12)))) -> Popov Igor
A13: 25 | B13: =IF(A3<A13,"BYE",IF(ISERROR(VLOOKUP(A13,'Am Quals'!AO12:'Am Quals'!AQ111,3,FALSE))=TRUE,"BYE",VLOOKUP(A13,'Am Quals'!AO12:'Am Quals'!AQ111,3,FALSE))) -> BYE | I13: =IF(AND(LEFT(C12,1)="D",LEFT(C13,1)="D"),"",IF(OR(C12="DNR",C13="DNR"),"by "&ABS(J13)&" seconds",IF(OR(ISBLANK(C12),ISBLANK(C13),G12=G13),"","by "&ABS(J13)&" seconds"))) | J13: =IF(AND(LEFT(C12,1)="D",LEFT(C13,1)="D"),"0",IF(OR(C12="DNR",C13="DNR"),IF(C12="DNR",1,-1)*'Am Quals'!A8,IF(OR(ISBLANK(C12),ISBLANK(C13)),"",IF(OR(G12="-",G13="-"),IF(G12="-",1,-1)*'Am Quals'!A8,IF(ABS(G12-G13)>'Am Quals'!A9,IF(G12-G13>'Am Quals'!A9,1,-1)*'Am Quals'!A9,ROUND(G12-G13,3)))))) | Q13: =IF(AND(LEFT(K12,1)="D",LEFT(K13,1)="D"),"",IF(OR(K12="DNR",K13="DNR"),"by "&ABS(R13)&" seconds",IF(OR(ISBLANK(K12),ISBLANK(K13),O12=O13),"","by "&ABS(R13)&" seconds"))) | R13: =IF(AND(LEFT(K12,1)="D",LEFT(K13,1)="D"),"0",IF(OR(K12="DNR",K13="DNR"),IF(K12="DNR",1,-1)*'Am Quals'!A8,IF(OR(ISBLANK(K12),ISBLANK(K13)),"",IF(OR(O12="-",O13="-"),IF(O12="-",1,-1)*'Am Quals'!A8,IF(ABS(O12-O13)>'Am Quals'!A9,IF(O12-O13>'Am Quals'!A9,1,-1)*'Am Quals'!A9,ROUND(O12-O13,3)))))) | S13: =IF(B13="BYE","(BYE)",IF(ISERROR(J13+R13)=TRUE,"",IF(J13+R13=0,"","by "&ABS(J13+R13)&" seconds"))) -> (BYE) | U13: =IF(B13="BYE", B13, IF(ISERROR(J13+R13)=TRUE,"",IF(J13+R13>0,B12,B13))) -> BYE | V13: =IF(ISERROR(VLOOKUP(U13,'Am Quals'!U12:V111,2,FALSE))=TRUE,"",VLOOKUP(U13,'Am Quals'!U12:V111,2,FALSE)) | W13: =IF(ISERROR(VLOOKUP(U13,'Am Quals'!AL12:AO111,4,FALSE))=TRUE,"",VLOOKUP(U13,'Am Quals'!AL12:AO111,4,FALSE))
A14: 9 | B14: =IF(A3<A14,"BYE",IF(ISERROR(VLOOKUP(A14,'Am Quals'!AO12:'Am Quals'!AQ111,3,FALSE))=TRUE,"BYE",VLOOKUP(A14,'Am Quals'!AO12:'Am Quals'!AQ111,3,FALSE))) -> BYE | I14: =IF(AND(LEFT(C14,1)="D",LEFT(C15,1)="D"),"",IF(OR(C14="DNR",C15="DNR"),IF(C14="DNR",B15,B14),IF(OR(ISBLANK(C14),ISBLANK(C15)),"",IF(G14=G15,"TIE",IF(G14>G15,B15,B14))))) | Q14: =IF(AND(LEFT(K14,1)="D",LEFT(K15,1)="D"),"",IF(OR(K14="DNR",K15="DNR"),IF(K14="DNR",B15,B14),IF(OR(ISBLANK(K14),ISBLANK(K15)),"",IF(O14=O15,"TIE",IF(O14>O15,B15,B14))))) | S14: =IF(B15="BYE", B14, IF(ISERROR(J15+R15)=TRUE,"",IF(J15+R15=0,"TIE - HOLD RUNOFF",IF(J15+R15>0,B15,B14)))) -> BYE
A15: 24 | B15: =IF(A3<A15,"BYE",IF(ISERROR(VLOOKUP(A15,'Am Quals'!AO12:'Am Quals'!AQ111,3,FALSE))=TRUE,"BYE",VLOOKUP(A15,'Am Quals'!AO12:'Am Quals'!AQ111,3,FALSE))) -> BYE | I15: =IF(AND(LEFT(C14,1)="D",LEFT(C15,1)="D"),"",IF(OR(C14="DNR",C15="DNR"),"by "&ABS(J15)&" seconds",IF(OR(ISBLANK(C14),ISBLANK(C15),G14=G15),"","by "&ABS(J15)&" seconds"))) | J15: =IF(AND(LEFT(C14,1)="D",LEFT(C15,1)="D"),"0",IF(OR(C14="DNR",C15="DNR"),IF(C14="DNR",1,-1)*'Am Quals'!A8,IF(OR(ISBLANK(C14),ISBLANK(C15)),"",IF(OR(G14="-",G15="-",),IF(G14="-",1,-1)*'Am Quals'!A8,IF(ABS(G14-G15)>'Am Quals'!A9,IF(G14-G15>'Am Quals'!A9,1,-1)*'Am Quals'!A9,ROUND(G14-G15,3)))))) | Q15: =IF(AND(LEFT(K14,1)="D",LEFT(K15,1)="D"),"",IF(OR(K14="DNR",K15="DNR"),"by "&ABS(R15)&" seconds",IF(OR(ISBLANK(K14),ISBLANK(K15),O14=O15),"","by "&ABS(R15)&" seconds"))) | R15: =IF(AND(LEFT(K14,1)="D",LEFT(K15,1)="D"),"0",IF(OR(K14="DNR",K15="DNR"),IF(K14="DNR",1,-1)*'Am Quals'!A8,IF(OR(ISBLANK(K14),ISBLANK(K15)),"",IF(OR(O14="-",O15="-"),IF(O14="-",1,-1)*'Am Quals'!A8,IF(ABS(O14-O15)>'Am Quals'!A9,IF(O14-O15>'Am Quals'!A9,1,-1)*'Am Quals'!A9,ROUND(O14-O15,3)))))) | S15: =IF(B15="BYE","(BYE)",IF(ISERROR(J15+R15)=TRUE,"",IF(J15+R15=0,"","by "&ABS(J15+R15)&" seconds"))) -> (BYE) | U15: =IF(B15="BYE", B15, IF(ISERROR(J15+R15)=TRUE,"",IF(J15+R15>0,B14,B15))) -> BYE | V15: =IF(ISERROR(VLOOKUP(U15,'Am Quals'!U12:V111,2,FALSE))=TRUE,"",VLOOKUP(U15,'Am Quals'!U12:V111,2,FALSE)) | W15: =IF(ISERROR(VLOOKUP(U15,'Am Quals'!AL12:AO111,4,FALSE))=TRUE,"",VLOOKUP(U15,'Am Quals'!AL12:AO111,4,FALSE))
A16: 4 | B16: =IF(A3<A16,"BYE",IF(ISERROR(VLOOKUP(A16,'Am Quals'!AO12:'Am Quals'!AQ111,3,FALSE))=TRUE,"BYE",VLOOKUP(A16,'Am Quals'!AO12:'Am Quals'!AQ111,3,FALSE))) -> Artemov Georgy | I16: =IF(AND(LEFT(C16,1)="D",LEFT(C17,1)="D"),"",IF(OR(C16="DNR",C17="DNR"),IF(C16="DNR",B17,B16),IF(OR(ISBLANK(C16),ISBLANK(C17)),"",IF(G16=G17,"TIE",IF(G16>G17,B17,B16))))) | Q16: =IF(AND(LEFT(K16,1)="D",LEFT(K17,1)="D"),"",IF(OR(K16="DNR",K17="DNR"),IF(K16="DNR",B17,B16),IF(OR(ISBLANK(K16),ISBLANK(K17)),"",IF(O16=O17,"TIE",IF(O16>O17,B17,B16))))) | S16: =IF(B17="BYE", B16, IF(ISERROR(J17+R17)=TRUE,"",IF(J17+R17=0,"TIE - HOLD RUNOFF",IF(J17+R17>0,B17,B16)))) -> Artemov Georgy
A17: 29 | B17: =IF(A3<A17,"BYE",IF(ISERROR(VLOOKUP(A17,'Am Quals'!AO12:'Am Quals'!AQ111,3,FALSE))=TRUE,"BYE",VLOOKUP(A17,'Am Quals'!AO12:'Am Quals'!AQ111,3,FALSE))) -> BYE | I17: =IF(AND(LEFT(C16,1)="D",LEFT(C17,1)="D"),"",IF(OR(C16="DNR",C17="DNR"),"by "&ABS(J17)&" seconds",IF(OR(ISBLANK(C16),ISBLANK(C17),G16=G17),"","by "&ABS(J17)&" seconds"))) | J17: =IF(AND(LEFT(C16,1)="D",LEFT(C17,1)="D"),"0",IF(OR(C16="DNR",C17="DNR"),IF(C16="DNR",1,-1)*'Am Quals'!A8,IF(OR(ISBLANK(C16),ISBLANK(C17)),"",IF(OR(G16="-",G17="-"),IF(G16="-",1,-1)*'Am Quals'!A8,IF(ABS(G16-G17)>'Am Quals'!A9,IF(G16-G17>'Am Quals'!A9,1,-1)*'Am Quals'!A9,ROUND(G16-G17,3)))))) | Q17: =IF(AND(LEFT(K16,1)="D",LEFT(K17,1)="D"),"",IF(OR(K16="DNR",K17="DNR"),"by "&ABS(R17)&" seconds",IF(OR(ISBLANK(K16),ISBLANK(K17),O16=O17),"","by "&ABS(R17)&" seconds"))) | R17: =IF(AND(LEFT(K16,1)="D",LEFT(K17,1)="D"),"0",IF(OR(K16="DNR",K17="DNR"),IF(K16="DNR",1,-1)*'Am Quals'!A8,IF(OR(ISBLANK(K16),ISBLANK(K17)),"",IF(OR(O16="-",O17="-"),IF(O16="-",1,-1)*'Am Quals'!A8,IF(ABS(O16-O17)>'Am Quals'!A9,IF(O16-O17>'Am Quals'!A9,1,-1)*'Am Quals'!A9,ROUND(O16-O17,3)))))) | S17: =IF(B17="BYE","(BYE)",IF(ISERROR(J17+R17)=TRUE,"",IF(J17+R17=0,"","by "&ABS(J17+R17)&" seconds"))) -> (BYE) | U17: =IF(B17="BYE", B17, IF(ISERROR(J17+R17)=TRUE,"",IF(J17+R17>0,B16,B17))) -> BYE | V17: =IF(ISERROR(VLOOKUP(U17,'Am Quals'!U12:V111,2,FALSE))=TRUE,"",VLOOKUP(U17,'Am Quals'!U12:V111,2,FALSE)) | W17: =IF(ISERROR(VLOOKUP(U17,'Am Quals'!AL12:AO111,4,FALSE))=TRUE,"",VLOOKUP(U17,'Am Quals'!AL12:AO111,4,FALSE))
A18: 13 | B18: =IF(A3<A18,"BYE",IF(ISERROR(VLOOKUP(A18,'Am Quals'!AO12:'Am Quals'!AQ111,3,FALSE))=TRUE,"BYE",VLOOKUP(A18,'Am Quals'!AO12:'Am Quals'!AQ111,3,FALSE))) -> BYE | I18: =IF(AND(LEFT(C18,1)="D",LEFT(C19,1)="D"),"",IF(OR(C18="DNR",C19="DNR"),IF(C18="DNR",B19,B18),IF(OR(ISBLANK(C18),ISBLANK(C19)),"",IF(G18=G19,"TIE",IF(G18>G19,B19,B18))))) | Q18: =IF(AND(LEFT(K18,1)="D",LEFT(K19,1)="D"),"",IF(OR(K18="DNR",K19="DNR"),IF(K18="DNR",B19,B18),IF(OR(ISBLANK(K18),ISBLANK(K19)),"",IF(O18=O19,"TIE",IF(O18>O19,B19,B18))))) | S18: =IF(B19="BYE", B18, IF(ISERROR(J19+R19)=TRUE,"",IF(J19+R19=0,"TIE - HOLD RUNOFF",IF(J19+R19>0,B19,B18)))) -> BYE
A19: 20 | B19: =IF(A3<A19,"BYE",IF(ISERROR(VLOOKUP(A19,'Am Quals'!AO12:'Am Quals'!AQ111,3,FALSE))=TRUE,"BYE",VLOOKUP(A19,'Am Quals'!AO12:'Am Quals'!AQ111,3,FALSE))) -> BYE | I19: =IF(AND(LEFT(C18,1)="D",LEFT(C19,1)="D"),"",IF(OR(C18="DNR",C19="DNR"),"by "&ABS(J19)&" seconds",IF(OR(ISBLANK(C18),ISBLANK(C19),G18=G19),"","by "&ABS(J19)&" seconds"))) | J19: =IF(AND(LEFT(C18,1)="D",LEFT(C19,1)="D"),"0",IF(OR(C18="DNR",C19="DNR"),IF(C18="DNR",1,-1)*'Am Quals'!A8,IF(OR(ISBLANK(C18),ISBLANK(C19)),"",IF(OR(G18="-",G19="-"),IF(G18="-",1,-1)*'Am Quals'!A8,IF(ABS(G18-G19)>'Am Quals'!A9,IF(G18-G19>'Am Quals'!A9,1,-1)*'Am Quals'!A9,ROUND(G18-G19,3)))))) | Q19: =IF(AND(LEFT(K18,1)="D",LEFT(K19,1)="D"),"",IF(OR(K18="DNR",K19="DNR"),"by "&ABS(R19)&" seconds",IF(OR(ISBLANK(K18),ISBLANK(K19),O18=O19),"","by "&ABS(R19)&" seconds"))) | R19: =IF(AND(LEFT(K18,1)="D",LEFT(K19,1)="D"),"0",IF(OR(K18="DNR",K19="DNR"),IF(K18="DNR",1,-1)*'Am Quals'!A8,IF(OR(ISBLANK(K18),ISBLANK(K19)),"",IF(OR(O18="-",O19="-"),IF(O18="-",1,-1)*'Am Quals'!A8,IF(ABS(O18-O19)>'Am Quals'!A9,IF(O18-O19>'Am Quals'!A9,1,-1)*'Am Quals'!A9,ROUND(O18-O19,3)))))) | S19: =IF(B19="BYE","(BYE)",IF(ISERROR(J19+R19)=TRUE,"",IF(J19+R19=0,"","by "&ABS(J19+R19)&" seconds"))) -> (BYE) | U19: =IF(B19="BYE", B19, IF(ISERROR(J19+R19)=TRUE,"",IF(J19+R19>0,B18,B19))) -> BYE | V19: =IF(ISERROR(VLOOKUP(U19,'Am Quals'!U12:V111,2,FALSE))=TRUE,"",VLOOKUP(U19,'Am Quals'!U12:V111,2,FALSE)) | W19: =IF(ISERROR(VLOOKUP(U19,'Am Quals'!AL12:AO111,4,FALSE))=TRUE,"",VLOOKUP(U19,'Am Quals'!AL12:AO111,4,FALSE))
A20: 5 | B20: =IF(A3<A20,"BYE",IF(ISERROR(VLOOKUP(A20,'Am Quals'!AO12:'Am Quals'!AQ111,3,FALSE))=TRUE,"BYE",VLOOKUP(A20,'Am Quals'!AO12:'Am Quals'!AQ111,3,FALSE))) -> Savin Aleksandr | I20: =IF(AND(LEFT(C20,1)="D",LEFT(C21,1)="D"),"",IF(OR(C20="DNR",C21="DNR"),IF(C20="DNR",B21,B20),IF(OR(ISBLANK(C20),ISBLANK(C21)),"",IF(G20=G21,"TIE",IF(G20>G21,B21,B20))))) | Q20: =IF(AND(LEFT(K20,1)="D",LEFT(K21,1)="D"),"",IF(OR(K20="DNR",K21="DNR"),IF(K20="DNR",B21,B20),IF(OR(ISBLANK(K20),ISBLANK(K21)),"",IF(O20=O21,"TIE",IF(O20>O21,B21,B20))))) | S20: =IF(B21="BYE", B20, IF(ISERROR(J21+R21)=TRUE,"",IF(J21+R21=0,"TIE - HOLD RUNOFF",IF(J21+R21>0,B21,B20)))) -> Savin Aleksandr
A21: 28 | B21: =IF(A3<A21,"BYE",IF(ISERROR(VLOOKUP(A21,'Am Quals'!AO12:'Am Quals'!AQ111,3,FALSE))=TRUE,"BYE",VLOOKUP(A21,'Am Quals'!AO12:'Am Quals'!AQ111,3,FALSE))) -> BYE | I21: =IF(AND(LEFT(C20,1)="D",LEFT(C21,1)="D"),"",IF(OR(C20="DNR",C21="DNR"),"by "&ABS(J21)&" seconds",IF(OR(ISBLANK(C20),ISBLANK(C21),G20=G21),"","by "&ABS(J21)&" seconds"))) | J21: =IF(AND(LEFT(C20,1)="D",LEFT(C21,1)="D"),"0",IF(OR(C20="DNR",C21="DNR"),IF(C20="DNR",1,-1)*'Am Quals'!A8,IF(OR(ISBLANK(C20),ISBLANK(C21)),"",IF(OR(G20="-",G21="-"),IF(G20="-",1,-1)*'Am Quals'!A8,IF(ABS(G20-G21)>'Am Quals'!A9,IF(G20-G21>'Am Quals'!A9,1,-1)*'Am Quals'!A9,ROUND(G20-G21,3)))))) | Q21: =IF(AND(LEFT(K20,1)="D",LEFT(K21,1)="D"),"",IF(OR(K20="DNR",K21="DNR"),"by "&ABS(R21)&" seconds",IF(OR(ISBLANK(K20),ISBLANK(K21),O20=O21),"","by "&ABS(R21)&" seconds"))) | R21: =IF(AND(LEFT(K20,1)="D",LEFT(K21,1)="D"),"0",IF(OR(K20="DNR",K21="DNR"),IF(K20="DNR",1,-1)*'Am Quals'!A8,IF(OR(ISBLANK(K20),ISBLANK(K21)),"",IF(OR(O20="-",O21="-"),IF(O20="-",1,-1)*'Am Quals'!A8,IF(ABS(O20-O21)>'Am Quals'!A9,IF(O20-O21>'Am Quals'!A9,1,-1)*'Am Quals'!A9,ROUND(O20-O21,3)))))) | S21: =IF(B21="BYE","(BYE)",IF(ISERROR(J21+R21)=TRUE,"",IF(J21+R21=0,"","by "&ABS(J21+R21)&" seconds"))) -> (BYE) | U21: =IF(B21="BYE", B21, IF(ISERROR(J21+R21)=TRUE,"",IF(J21+R21>0,B20,B21))) -> BYE | V21: =IF(ISERROR(VLOOKUP(U21,'Am Quals'!U12:V111,2,FALSE))=TRUE,"",VLOOKUP(U21,'Am Quals'!U12:V111,2,FALSE)) | W21: =IF(ISERROR(VLOOKUP(U21,'Am Quals'!AL12:AO111,4,FALSE))=TRUE,"",VLOOKUP(U21,'Am Quals'!AL12:AO111,4,FALSE))
A22: 12 | B22: =IF(A3<A22,"BYE",IF(ISERROR(VLOOKUP(A22,'Am Quals'!AO12:'Am Quals'!AQ111,3,FALSE))=TRUE,"BYE",VLOOKUP(A22,'Am Quals'!AO12:'Am Quals'!AQ111,3,FALSE))) -> BYE | I22: =IF(AND(LEFT(C22,1)="D",LEFT(C23,1)="D"),"",IF(OR(C22="DNR",C23="DNR"),IF(C22="DNR",B23,B22),IF(OR(ISBLANK(C22),ISBLANK(C23)),"",IF(G22=G23,"TIE",IF(G22>G23,B23,B22))))) | Q22: =IF(AND(LEFT(K22,1)="D",LEFT(K23,1)="D"),"",IF(OR(K22="DNR",K23="DNR"),IF(K22="DNR",B23,B22),IF(OR(ISBLANK(K22),ISBLANK(K23)),"",IF(O22=O23,"TIE",IF(O22>O23,B23,B22))))) | S22: =IF(B23="BYE", B22, IF(ISERROR(J23+R23)=TRUE,"",IF(J23+R23=0,"TIE - HOLD RUNOFF",IF(J23+R23>0,B23,B22)))) -> BYE
A23: 21 | B23: =IF(A3<A23,"BYE",IF(ISERROR(VLOOKUP(A23,'Am Quals'!AO12:'Am Quals'!AQ111,3,FALSE))=TRUE,"BYE",VLOOKUP(A23,'Am Quals'!AO12:'Am Quals'!AQ111,3,FALSE))) -> BYE | I23: =IF(AND(LEFT(C22,1)="D",LEFT(C23,1)="D"),"",IF(OR(C22="DNR",C23="DNR"),"by "&ABS(J23)&" seconds",IF(OR(ISBLANK(C22),ISBLANK(C23),G22=G23),"","by "&ABS(J23)&" seconds"))) | J23: =IF(AND(LEFT(C22,1)="D",LEFT(C23,1)="D"),"0",IF(OR(C22="DNR",C23="DNR"),IF(C22="DNR",1,-1)*'Am Quals'!A8,IF(OR(ISBLANK(C22),ISBLANK(C23)),"",IF(OR(G22="-",G23="-"),IF(G22="-",1,-1)*'Am Quals'!A8,IF(ABS(G22-G23)>'Am Quals'!A9,IF(G22-G23>'Am Quals'!A9,1,-1)*'Am Quals'!A9,ROUND(G22-G23,3)))))) | Q23: =IF(AND(LEFT(K22,1)="D",LEFT(K23,1)="D"),"",IF(OR(K22="DNR",K23="DNR"),"by "&ABS(R23)&" seconds",IF(OR(ISBLANK(K22),ISBLANK(K23),O22=O23),"","by "&ABS(R23)&" seconds"))) | R23: =IF(AND(LEFT(K22,1)="D",LEFT(K23,1)="D"),"0",IF(OR(K22="DNR",K23="DNR"),IF(K22="DNR",1,-1)*'Am Quals'!A8,IF(OR(ISBLANK(K22),ISBLANK(K23)),"",IF(OR(O22="-",O23="-"),IF(O22="-",1,-1)*'Am Quals'!A8,IF(ABS(O22-O23)>'Am Quals'!A9,IF(O22-O23>'Am Quals'!A9,1,-1)*'Am Quals'!A9,ROUND(O22-O23,3)))))) | S23: =IF(B23="BYE","(BYE)",IF(ISERROR(J23+R23)=TRUE,"",IF(J23+R23=0,"","by "&ABS(J23+R23)&" seconds"))) -> (BYE) | U23: =IF(B23="BYE", B23, IF(ISERROR(J23+R23)=TRUE,"",IF(J23+R23>0,B22,B23))) -> BYE | V23: =IF(ISERROR(VLOOKUP(U23,'Am Quals'!U12:V111,2,FALSE))=TRUE,"",VLOOKUP(U23,'Am Quals'!U12:V111,2,FALSE)) | W23: =IF(ISERROR(VLOOKUP(U23,'Am Quals'!AL12:AO111,4,FALSE))=TRUE,"",VLOOKUP(U23,'Am Quals'!AL12:AO111,4,FALSE))
A24: 2 | B24: =IF(A3<A24,"BYE",IF(ISERROR(VLOOKUP(A24,'Am Quals'!AO12:'Am Quals'!AQ111,3,FALSE))=TRUE,"BYE",VLOOKUP(A24,'Am Quals'!AO12:'Am Quals'!AQ111,3,FALSE))) -> Nikulin Anton | I24: =IF(AND(LEFT(C24,1)="D",LEFT(C25,1)="D"),"",IF(OR(C24="DNR",C25="DNR"),IF(C24="DNR",B25,B24),IF(OR(ISBLANK(C24),ISBLANK(C25)),"",IF(G24=G25,"TIE",IF(G24>G25,B25,B24))))) | Q24: =IF(AND(LEFT(K24,1)="D",LEFT(K25,1)="D"),"",IF(OR(K24="DNR",K25="DNR"),IF(K24="DNR",B25,B24),IF(OR(ISBLANK(K24),ISBLANK(K25)),"",IF(O24=O25,"TIE",IF(O24>O25,B25,B24))))) | S24: =IF(B25="BYE", B24, IF(ISERROR(J25+R25)=TRUE,"",IF(J25+R25=0,"TIE - HOLD RUNOFF",IF(J25+R25>0,B25,B24)))) -> Nikulin Anton
A25: 31 | B25: =IF(A3<A25,"BYE",IF(ISERROR(VLOOKUP(A25,'Am Quals'!AO12:'Am Quals'!AQ111,3,FALSE))=TRUE,"BYE",VLOOKUP(A25,'Am Quals'!AO12:'Am Quals'!AQ111,3,FALSE))) -> BYE | I25: =IF(AND(LEFT(C24,1)="D",LEFT(C25,1)="D"),"",IF(OR(C24="DNR",C25="DNR"),"by "&ABS(J25)&" seconds",IF(OR(ISBLANK(C24),ISBLANK(C25),G24=G25),"","by "&ABS(J25)&" seconds"))) | J25: =IF(AND(LEFT(C24,1)="D",LEFT(C25,1)="D"),"0",IF(OR(C24="DNR",C25="DNR"),IF(C24="DNR",1,-1)*'Am Quals'!A8,IF(OR(ISBLANK(C24),ISBLANK(C25)),"",IF(OR(G24="-",G25="-"),IF(G24="-",1,-1)*'Am Quals'!A8,IF(ABS(G24-G25)>'Am Quals'!A9,IF(G24-G25>'Am Quals'!A9,1,-1)*'Am Quals'!A9,ROUND(G24-G25,3)))))) | Q25: =IF(AND(LEFT(K24,1)="D",LEFT(K25,1)="D"),"",IF(OR(K24="DNR",K25="DNR"),"by "&ABS(R25)&" seconds",IF(OR(ISBLANK(K24),ISBLANK(K25),O24=O25),"","by "&ABS(R25)&" seconds"))) | R25: =IF(AND(LEFT(K24,1)="D",LEFT(K25,1)="D"),"0",IF(OR(K24="DNR",K25="DNR"),IF(K24="DNR",1,-1)*'Am Quals'!A8,IF(OR(ISBLANK(K24),ISBLANK(K25)),"",IF(OR(O24="-",O25="-"),IF(O24="-",1,-1)*'Am Quals'!A8,IF(ABS(O24-O25)>'Am Quals'!A9,IF(O24-O25>'Am Quals'!A9,1,-1)*'Am Quals'!A9,ROUND(O24-O25,3)))))) | S25: =IF(B25="BYE","(BYE)",IF(ISERROR(J25+R25)=TRUE,"",IF(J25+R25=0,"","by "&ABS(J25+R25)&" seconds"))) -> (BYE) | U25: =IF(B25="BYE", B25, IF(ISERROR(J25+R25)=TRUE,"",IF(J25+R25>0,B24,B25))) -> BYE | V25: =IF(ISERROR(VLOOKUP(U25,'Am Quals'!U12:V111,2,FALSE))=TRUE,"",VLOOKUP(U25,'Am Quals'!U12:V111,2,FALSE)) | W25: =IF(ISERROR(VLOOKUP(U25,'Am Quals'!AL12:AO111,4,FALSE))=TRUE,"",VLOOKUP(U25,'Am Quals'!AL12:AO111,4,FALSE))
A26: 15 | B26: =IF(A3<A26,"BYE",IF(ISERROR(VLOOKUP(A26,'Am Quals'!AO12:'Am Quals'!AQ111,3,FALSE))=TRUE,"BYE",VLOOKUP(A26,'Am Quals'!AO12:'Am Quals'!AQ111,3,FALSE))) -> BYE | I26: =IF(AND(LEFT(C26,1)="D",LEFT(C27,1)="D"),"",IF(OR(C26="DNR",C27="DNR"),IF(C26="DNR",B27,B26),IF(OR(ISBLANK(C26),ISBLANK(C27)),"",IF(G26=G27,"TIE",IF(G26>G27,B27,B26))))) | Q26: =IF(AND(LEFT(K26,1)="D",LEFT(K27,1)="D"),"",IF(OR(K26="DNR",K27="DNR"),IF(K26="DNR",B27,B26),IF(OR(ISBLANK(K26),ISBLANK(K27)),"",IF(O26=O27,"TIE",IF(O26>O27,B27,B26))))) | S26: =IF(B27="BYE", B26, IF(ISERROR(J27+R27)=TRUE,"",IF(J27+R27=0,"TIE - HOLD RUNOFF",IF(J27+R27>0,B27,B26)))) -> BYE
A27: 18 | B27: =IF(A3<A27,"BYE",IF(ISERROR(VLOOKUP(A27,'Am Quals'!AO12:'Am Quals'!AQ111,3,FALSE))=TRUE,"BYE",VLOOKUP(A27,'Am Quals'!AO12:'Am Quals'!AQ111,3,FALSE))) -> BYE | I27: =IF(AND(LEFT(C26,1)="D",LEFT(C27,1)="D"),"",IF(OR(C26="DNR",C27="DNR"),"by "&ABS(J27)&" seconds",IF(OR(ISBLANK(C26),ISBLANK(C27),G26=G27),"","by "&ABS(J27)&" seconds"))) | J27: =IF(AND(LEFT(C26,1)="D",LEFT(C27,1)="D"),"0",IF(OR(C26="DNR",C27="DNR"),IF(C26="DNR",1,-1)*'Am Quals'!A8,IF(OR(ISBLANK(C26),ISBLANK(C27)),"",IF(OR(G26="-",G27="-"),IF(G26="-",1,-1)*'Am Quals'!A8,IF(ABS(G26-G27)>'Am Quals'!A9,IF(G26-G27>'Am Quals'!A9,1,-1)*'Am Quals'!A9,ROUND(G26-G27,3)))))) | Q27: =IF(AND(LEFT(K26,1)="D",LEFT(K27,1)="D"),"",IF(OR(K26="DNR",K27="DNR"),"by "&ABS(R27)&" seconds",IF(OR(ISBLANK(K26),ISBLANK(K27),O26=O27),"","by "&ABS(R27)&" seconds"))) | R27: =IF(AND(LEFT(K26,1)="D",LEFT(K27,1)="D"),"0",IF(OR(K26="DNR",K27="DNR"),IF(K26="DNR",1,-1)*'Am Quals'!A8,IF(OR(ISBLANK(K26),ISBLANK(K27)),"",IF(OR(O26="-",O27="-"),IF(O26="-",1,-1)*'Am Quals'!A8,IF(ABS(O26-O27)>'Am Quals'!A9,IF(O26-O27>'Am Quals'!A9,1,-1)*'Am Quals'!A9,ROUND(O26-O27,3)))))) | S27: =IF(B27="BYE","(BYE)",IF(ISERROR(J27+R27)=TRUE,"",IF(J27+R27=0,"","by "&ABS(J27+R27)&" seconds"))) -> (BYE) | U27: =IF(B27="BYE", B27, IF(ISERROR(J27+R27)=TRUE,"",IF(J27+R27>0,B26,B27))) -> BYE | V27: =IF(ISERROR(VLOOKUP(U27,'Am Quals'!U12:V111,2,FALSE))=TRUE,"",VLOOKUP(U27,'Am Quals'!U12:V111,2,FALSE)) | W27: =IF(ISERROR(VLOOKUP(U27,'Am Quals'!AL12:AO111,4,FALSE))=TRUE,"",VLOOKUP(U27,'Am Quals'!AL12:AO111,4,FALSE))
A28: 7 | B28: =IF(A3<A28,"BYE",IF(ISERROR(VLOOKUP(A28,'Am Quals'!AO12:'Am Quals'!AQ111,3,FALSE))=TRUE,"BYE",VLOOKUP(A28,'Am Quals'!AO12:'Am Quals'!AQ111,3,FALSE))) -> Rogachev Vladimir | I28: =IF(AND(LEFT(C28,1)="D",LEFT(C29,1)="D"),"",IF(OR(C28="DNR",C29="DNR"),IF(C28="DNR",B29,B28),IF(OR(ISBLANK(C28),ISBLANK(C29)),"",IF(G28=G29,"TIE",IF(G28>G29,B29,B28))))) | Q28: =IF(AND(LEFT(K28,1)="D",LEFT(K29,1)="D"),"",IF(OR(K28="DNR",K29="DNR"),IF(K28="DNR",B29,B28),IF(OR(ISBLANK(K28),ISBLANK(K29)),"",IF(O28=O29,"TIE",IF(O28>O29,B29,B28))))) | S28: =IF(B29="BYE", B28, IF(ISERROR(J29+R29)=TRUE,"",IF(J29+R29=0,"TIE - HOLD RUNOFF",IF(J29+R29>0,B29,B28)))) -> Rogachev Vladimir
A29: 26 | B29: =IF(A3<A29,"BYE",IF(ISERROR(VLOOKUP(A29,'Am Quals'!AO12:'Am Quals'!AQ111,3,FALSE))=TRUE,"BYE",VLOOKUP(A29,'Am Quals'!AO12:'Am Quals'!AQ111,3,FALSE))) -> BYE | I29: =IF(AND(LEFT(C28,1)="D",LEFT(C29,1)="D"),"",IF(OR(C28="DNR",C29="DNR"),"by "&ABS(J29)&" seconds",IF(OR(ISBLANK(C28),ISBLANK(C29),G28=G29),"","by "&ABS(J29)&" seconds"))) | J29: =IF(AND(LEFT(C28,1)="D",LEFT(C29,1)="D"),"0",IF(OR(C28="DNR",C29="DNR"),IF(C28="DNR",1,-1)*'Am Quals'!A8,IF(OR(ISBLANK(C28),ISBLANK(C29)),"",IF(OR(G28="-",G29="-"),IF(G28="-",1,-1)*'Am Quals'!A8,IF(ABS(G28-G29)>'Am Quals'!A9,IF(G28-G29>'Am Quals'!A9,1,-1)*'Am Quals'!A9,ROUND(G28-G29,3)))))) | Q29: =IF(AND(LEFT(K28,1)="D",LEFT(K29,1)="D"),"",IF(OR(K28="DNR",K29="DNR"),"by "&ABS(R29)&" seconds",IF(OR(ISBLANK(K28),ISBLANK(K29),O28=O29),"","by "&ABS(R29)&" seconds"))) | R29: =IF(AND(LEFT(K28,1)="D",LEFT(K29,1)="D"),"0",IF(OR(K28="DNR",K29="DNR"),IF(K28="DNR",1,-1)*'Am Quals'!A8,IF(OR(ISBLANK(K28),ISBLANK(K29)),"",IF(OR(O28="-",O29="-"),IF(O28="-",1,-1)*'Am Quals'!A8,IF(ABS(O28-O29)>'Am Quals'!A9,IF(O28-O29>'Am Quals'!A9,1,-1)*'Am Quals'!A9,ROUND(O28-O29,3)))))) | S29: =IF(B29="BYE","(BYE)",IF(ISERROR(J29+R29)=TRUE,"",IF(J29+R29=0,"","by "&ABS(J29+R29)&" seconds"))) -> (BYE) | U29: =IF(B29="BYE", B29, IF(ISERROR(J29+R29)=TRUE,"",IF(J29+R29>0,B28,B29))) -> BYE | V29: =IF(ISERROR(VLOOKUP(U29,'Am Quals'!U12:V111,2,FALSE))=TRUE,"",VLOOKUP(U29,'Am Quals'!U12:V111,2,FALSE)) | W29: =IF(ISERROR(VLOOKUP(U29,'Am Quals'!AL12:AO111,4,FALSE))=TRUE,"",VLOOKUP(U29,'Am Quals'!AL12:AO111,4,FALSE))
A30: 10 | B30: =IF(A3<A30,"BYE",IF(ISERROR(VLOOKUP(A30,'Am Quals'!AO12:'Am Quals'!AQ111,3,FALSE))=TRUE,"BYE",VLOOKUP(A30,'Am Quals'!AO12:'Am Quals'!AQ111,3,FALSE))) -> BYE | I30: =IF(AND(LEFT(C30,1)="D",LEFT(C31,1)="D"),"",IF(OR(C30="DNR",C31="DNR"),IF(C30="DNR",B31,B30),IF(OR(ISBLANK(C30),ISBLANK(C31)),"",IF(G30=G31,"TIE",IF(G30>G31,B31,B30))))) | Q30: =IF(AND(LEFT(K30,1)="D",LEFT(K31,1)="D"),"",IF(OR(K30="DNR",K31="DNR"),IF(K30="DNR",B31,B30),IF(OR(ISBLANK(K30),ISBLANK(K31)),"",IF(O30=O31,"TIE",IF(O30>O31,B31,B30))))) | S30: =IF(B31="BYE", B30, IF(ISERROR(J31+R31)=TRUE,"",IF(J31+R31=0,"TIE - HOLD RUNOFF",IF(J31+R31>0,B31,B30)))) -> BYE
A31: 23 | B31: =IF(A3<A31,"BYE",IF(ISERROR(VLOOKUP(A31,'Am Quals'!AO12:'Am Quals'!AQ111,3,FALSE))=TRUE,"BYE",VLOOKUP(A31,'Am Quals'!AO12:'Am Quals'!AQ111,3,FALSE))) -> BYE | I31: =IF(AND(LEFT(C30,1)="D",LEFT(C31,1)="D"),"",IF(OR(C30="DNR",C31="DNR"),"by "&ABS(J31)&" seconds",IF(OR(ISBLANK(C30),ISBLANK(C31),G30=G31),"","by "&ABS(J31)&" seconds"))) | J31: =IF(AND(LEFT(C30,1)="D",LEFT(C31,1)="D"),"0",IF(OR(C30="DNR",C31="DNR"),IF(C30="DNR",1,-1)*'Am Quals'!A8,IF(OR(ISBLANK(C30),ISBLANK(C31)),"",IF(OR(G30="-",G31="-"),IF(G30="-",1,-1)*'Am Quals'!A8,IF(ABS(G30-G31)>'Am Quals'!A9,IF(G30-G31>'Am Quals'!A9,1,-1)*'Am Quals'!A9,ROUND(G30-G31,3)))))) | Q31: =IF(AND(LEFT(K30,1)="D",LEFT(K31,1)="D"),"",IF(OR(K30="DNR",K31="DNR"),"by "&ABS(R31)&" seconds",IF(OR(ISBLANK(K30),ISBLANK(K31),O30=O31),"","by "&ABS(R31)&" seconds"))) | R31: =IF(AND(LEFT(K30,1)="D",LEFT(K31,1)="D"),"0",IF(OR(K30="DNR",K31="DNR"),IF(K30="DNR",1,-1)*'Am Quals'!A8,IF(OR(ISBLANK(K30),ISBLANK(K31)),"",IF(OR(O30="-",O31="-"),IF(O30="-",1,-1)*'Am Quals'!A8,IF(ABS(O30-O31)>'Am Quals'!A9,IF(O30-O31>'Am Quals'!A9,1,-1)*'Am Quals'!A9,ROUND(O30-O31,3)))))) | S31: =IF(B31="BYE","(BYE)",IF(ISERROR(J31+R31)=TRUE,"",IF(J31+R31=0,"","by "&ABS(J31+R31)&" seconds"))) -> (BYE) | U31: =IF(B31="BYE", B31, IF(ISERROR(J31+R31)=TRUE,"",IF(J31+R31>0,B30,B31))) -> BYE | V31: =IF(ISERROR(VLOOKUP(U31,'Am Quals'!U12:V111,2,FALSE))=TRUE,"",VLOOKUP(U31,'Am Quals'!U12:V111,2,FALSE)) | W31: =IF(ISERROR(VLOOKUP(U31,'Am Quals'!AL12:AO111,4,FALSE))=TRUE,"",VLOOKUP(U31,'Am Quals'!AL12:AO111,4,FALSE))
A32: 3 | B32: =IF(A3<A32,"BYE",IF(ISERROR(VLOOKUP(A32,'Am Quals'!AO12:'Am Quals'!AQ111,3,FALSE))=TRUE,"BYE",VLOOKUP(A32,'Am Quals'!AO12:'Am Quals'!AQ111,3,FALSE))) -> Glushko Oleg | I32: =IF(AND(LEFT(C32,1)="D",LEFT(C33,1)="D"),"",IF(OR(C32="DNR",C33="DNR"),IF(C32="DNR",B33,B32),IF(OR(ISBLANK(C32),ISBLANK(C33)),"",IF(G32=G33,"TIE",IF(G32>G33,B33,B32))))) | Q32: =IF(AND(LEFT(K32,1)="D",LEFT(K33,1)="D"),"",IF(OR(K32="DNR",K33="DNR"),IF(K32="DNR",B33,B32),IF(OR(ISBLANK(K32),ISBLANK(K33)),"",IF(O32=O33,"TIE",IF(O32>O33,B33,B32))))) | S32: =IF(B33="BYE", B32, IF(ISERROR(J33+R33)=TRUE,"",IF(J33+R33=0,"TIE - HOLD RUNOFF",IF(J33+R33>0,B33,B32)))) -> Glushko Oleg
A33: 30 | B33: =IF(A3<A33,"BYE",IF(ISERROR(VLOOKUP(A33,'Am Quals'!AO12:'Am Quals'!AQ111,3,FALSE))=TRUE,"BYE",VLOOKUP(A33,'Am Quals'!AO12:'Am Quals'!AQ111,3,FALSE))) -> BYE | I33: =IF(AND(LEFT(C32,1)="D",LEFT(C33,1)="D"),"",IF(OR(C32="DNR",C33="DNR"),"by "&ABS(J33)&" seconds",IF(OR(ISBLANK(C32),ISBLANK(C33),G32=G33),"","by "&ABS(J33)&" seconds"))) | J33: =IF(AND(LEFT(C32,1)="D",LEFT(C33,1)="D"),"0",IF(OR(C32="DNR",C33="DNR"),IF(C32="DNR",1,-1)*'Am Quals'!A8,IF(OR(ISBLANK(C32),ISBLANK(C33)),"",IF(OR(G32="-",G33="-"),IF(G32="-",1,-1)*'Am Quals'!A8,IF(ABS(G32-G33)>'Am Quals'!A9,IF(G32-G33>'Am Quals'!A9,1,-1)*'Am Quals'!A9,ROUND(G32-G33,3)))))) | Q33: =IF(AND(LEFT(K32,1)="D",LEFT(K33,1)="D"),"",IF(OR(K32="DNR",K33="DNR"),"by "&ABS(R33)&" seconds",IF(OR(ISBLANK(K32),ISBLANK(K33),O32=O33),"","by "&ABS(R33)&" seconds"))) | R33: =IF(AND(LEFT(K32,1)="D",LEFT(K33,1)="D"),"0",IF(OR(K32="DNR",K33="DNR"),IF(K32="DNR",1,-1)*'Am Quals'!A8,IF(OR(ISBLANK(K32),ISBLANK(K33)),"",IF(OR(O32="-",O33="-"),IF(O32="-",1,-1)*'Am Quals'!A8,IF(ABS(O32-O33)>'Am Quals'!A9,IF(O32-O33>'Am Quals'!A9,1,-1)*'Am Quals'!A9,ROUND(O32-O33,3)))))) | S33: =IF(B33="BYE","(BYE)",IF(ISERROR(J33+R33)=TRUE,"",IF(J33+R33=0,"","by "&ABS(J33+R33)&" seconds"))) -> (BYE) | U33: =IF(B33="BYE", B33, IF(ISERROR(J33+R33)=TRUE,"",IF(J33+R33>0,B32,B33))) -> BYE | V33: =IF(ISERROR(VLOOKUP(U33,'Am Quals'!U12:V111,2,FALSE))=TRUE,"",VLOOKUP(U33,'Am Quals'!U12:V111,2,FALSE)) | W33: =IF(ISERROR(VLOOKUP(U33,'Am Quals'!AL12:AO111,4,FALSE))=TRUE,"",VLOOKUP(U33,'Am Quals'!AL12:AO111,4,FALSE))
A34: 14 | B34: =IF(A3<A34,"BYE",IF(ISERROR(VLOOKUP(A34,'Am Quals'!AO12:'Am Quals'!AQ111,3,FALSE))=TRUE,"BYE",VLOOKUP(A34,'Am Quals'!AO12:'Am Quals'!AQ111,3,FALSE))) -> BYE | I34: =IF(AND(LEFT(C34,1)="D",LEFT(C35,1)="D"),"",IF(OR(C34="DNR",C35="DNR"),IF(C34="DNR",B35,B34),IF(OR(ISBLANK(C34),ISBLANK(C35)),"",IF(G34=G35,"TIE",IF(G34>G35,B35,B34))))) | Q34: =IF(AND(LEFT(K34,1)="D",LEFT(K35,1)="D"),"",IF(OR(K34="DNR",K35="DNR"),IF(K34="DNR",B35,B34),IF(OR(ISBLANK(K34),ISBLANK(K35)),"",IF(O34=O35,"TIE",IF(O34>O35,B35,B34))))) | S34: =IF(B35="BYE", B34, IF(ISERROR(J35+R35)=TRUE,"",IF(J35+R35=0,"TIE - HOLD RUNOFF",IF(J35+R35>0,B35,B34)))) -> BYE
A35: 19 | B35: =IF(A3<A35,"BYE",IF(ISERROR(VLOOKUP(A35,'Am Quals'!AO12:'Am Quals'!AQ111,3,FALSE))=TRUE,"BYE",VLOOKUP(A35,'Am Quals'!AO12:'Am Quals'!AQ111,3,FALSE))) -> BYE | I35: =IF(AND(LEFT(C34,1)="D",LEFT(C35,1)="D"),"",IF(OR(C34="DNR",C35="DNR"),"by "&ABS(J35)&" seconds",IF(OR(ISBLANK(C34),ISBLANK(C35),G34=G35),"","by "&ABS(J35)&" seconds"))) | J35: =IF(AND(LEFT(C34,1)="D",LEFT(C35,1)="D"),"0",IF(OR(C34="DNR",C35="DNR"),IF(C34="DNR",1,-1)*'Am Quals'!A8,IF(OR(ISBLANK(C34),ISBLANK(C35)),"",IF(OR(G34="-",G35="-"),IF(G34="-",1,-1)*'Am Quals'!A8,IF(ABS(G34-G35)>'Am Quals'!A9,IF(G34-G35>'Am Quals'!A9,1,-1)*'Am Quals'!A9,ROUND(G34-G35,3)))))) | Q35: =IF(AND(LEFT(K34,1)="D",LEFT(K35,1)="D"),"",IF(OR(K34="DNR",K35="DNR"),"by "&ABS(R35)&" seconds",IF(OR(ISBLANK(K34),ISBLANK(K35),O34=O35),"","by "&ABS(R35)&" seconds"))) | R35: =IF(AND(LEFT(K34,1)="D",LEFT(K35,1)="D"),"0",IF(OR(K34="DNR",K35="DNR"),IF(K34="DNR",1,-1)*'Am Quals'!A8,IF(OR(ISBLANK(K34),ISBLANK(K35)),"",IF(OR(O34="-",O35="-"),IF(O34="-",1,-1)*'Am Quals'!A8,IF(ABS(O34-O35)>'Am Quals'!A9,IF(O34-O35>'Am Quals'!A9,1,-1)*'Am Quals'!A9,ROUND(O34-O35,3)))))) | S35: =IF(B35="BYE","(BYE)",IF(ISERROR(J35+R35)=TRUE,"",IF(J35+R35=0,"","by "&ABS(J35+R35)&" seconds"))) -> (BYE) | U35: =IF(B35="BYE", B35, IF(ISERROR(J35+R35)=TRUE,"",IF(J35+R35>0,B34,B35))) -> BYE | V35: =IF(ISERROR(VLOOKUP(U35,'Am Quals'!U12:V111,2,FALSE))=TRUE,"",VLOOKUP(U35,'Am Quals'!U12:V111,2,FALSE)) | W35: =IF(ISERROR(VLOOKUP(U35,'Am Quals'!AL12:AO111,4,FALSE))=TRUE,"",VLOOKUP(U35,'Am Quals'!AL12:AO111,4,FALSE))
A36: 6 | B36: =IF(A3<A36,"BYE",IF(ISERROR(VLOOKUP(A36,'Am Quals'!AO12:'Am Quals'!AQ111,3,FALSE))=TRUE,"BYE",VLOOKUP(A36,'Am Quals'!AO12:'Am Quals'!AQ111,3,FALSE))) -> Rychkov Svyatoslav | I36: =IF(AND(LEFT(C36,1)="D",LEFT(C37,1)="D"),"",IF(OR(C36="DNR",C37="DNR"),IF(C36="DNR",B37,B36),IF(OR(ISBLANK(C36),ISBLANK(C37)),"",IF(G36=G37,"TIE",IF(G36>G37,B37,B36))))) | Q36: =IF(AND(LEFT(K36,1)="D",LEFT(K37,1)="D"),"",IF(OR(K36="DNR",K37="DNR"),IF(K36="DNR",B37,B36),IF(OR(ISBLANK(K36),ISBLANK(K37)),"",IF(O36=O37,"TIE",IF(O36>O37,B37,B36))))) | S36: =IF(B37="BYE", B36, IF(ISERROR(J37+R37)=TRUE,"",IF(J37+R37=0,"TIE - HOLD RUNOFF",IF(J37+R37>0,B37,B36)))) -> Rychkov Svyatoslav
A37: 27 | B37: =IF(A3<A37,"BYE",IF(ISERROR(VLOOKUP(A37,'Am Quals'!AO12:'Am Quals'!AQ111,3,FALSE))=TRUE,"BYE",VLOOKUP(A37,'Am Quals'!AO12:'Am Quals'!AQ111,3,FALSE))) -> BYE | I37: =IF(AND(LEFT(C36,1)="D",LEFT(C37,1)="D"),"",IF(OR(C36="DNR",C37="DNR"),"by "&ABS(J37)&" seconds",IF(OR(ISBLANK(C36),ISBLANK(C37),G36=G37),"","by "&ABS(J37)&" seconds"))) | J37: =IF(AND(LEFT(C36,1)="D",LEFT(C37,1)="D"),"0",IF(OR(C36="DNR",C37="DNR"),IF(C36="DNR",1,-1)*'Am Quals'!A8,IF(OR(ISBLANK(C36),ISBLANK(C37)),"",IF(OR(G36="-",G37="-"),IF(G36="-",1,-1)*'Am Quals'!A8,IF(ABS(G36-G37)>'Am Quals'!A9,IF(G36-G37>'Am Quals'!A9,1,-1)*'Am Quals'!A9,ROUND(G36-G37,3)))))) | Q37: =IF(AND(LEFT(K36,1)="D",LEFT(K37,1)="D"),"",IF(OR(K36="DNR",K37="DNR"),"by "&ABS(R37)&" seconds",IF(OR(ISBLANK(K36),ISBLANK(K37),O36=O37),"","by "&ABS(R37)&" seconds"))) | R37: =IF(AND(LEFT(K36,1)="D",LEFT(K37,1)="D"),"0",IF(OR(K36="DNR",K37="DNR"),IF(K36="DNR",1,-1)*'Am Quals'!A8,IF(OR(ISBLANK(K36),ISBLANK(K37)),"",IF(OR(O36="-",O37="-"),IF(O36="-",1,-1)*'Am Quals'!A8,IF(ABS(O36-O37)>'Am Quals'!A9,IF(O36-O37>'Am Quals'!A9,1,-1)*'Am Quals'!A9,ROUND(O36-O37,3)))))) | S37: =IF(B37="BYE","(BYE)",IF(ISERROR(J37+R37)=TRUE,"",IF(J37+R37=0,"","by "&ABS(J37+R37)&" seconds"))) -> (BYE) | U37: =IF(B37="BYE", B37, IF(ISERROR(J37+R37)=TRUE,"",IF(J37+R37>0,B36,B37))) -> BYE | V37: =IF(ISERROR(VLOOKUP(U37,'Am Quals'!U12:V111,2,FALSE))=TRUE,"",VLOOKUP(U37,'Am Quals'!U12:V111,2,FALSE)) | W37: =IF(ISERROR(VLOOKUP(U37,'Am Quals'!AL12:AO111,4,FALSE))=TRUE,"",VLOOKUP(U37,'Am Quals'!AL12:AO111,4,FALSE))
A38: 11 | B38: =IF(A3<A38,"BYE",IF(ISERROR(VLOOKUP(A38,'Am Quals'!AO12:'Am Quals'!AQ111,3,FALSE))=TRUE,"BYE",VLOOKUP(A38,'Am Quals'!AO12:'Am Quals'!AQ111,3,FALSE))) -> BYE | I38: =IF(AND(LEFT(C38,1)="D",LEFT(C39,1)="D"),"",IF(OR(C38="DNR",C39="DNR"),IF(C38="DNR",B39,B38),IF(OR(ISBLANK(C38),ISBLANK(C39)),"",IF(G38=G39,"TIE",IF(G38>G39,B39,B38))))) | Q38: =IF(AND(LEFT(K38,1)="D",LEFT(K39,1)="D"),"",IF(OR(K38="DNR",K39="DNR"),IF(K38="DNR",B39,B38),IF(OR(ISBLANK(K38),ISBLANK(K39)),"",IF(O38=O39,"TIE",IF(O38>O39,B39,B38))))) | S38: =IF(B39="BYE", B38, IF(ISERROR(J39+R39)=TRUE,"",IF(J39+R39=0,"TIE - HOLD RUNOFF",IF(J39+R39>0,B39,B38)))) -> BYE
A39: 22 | B39: =IF(A3<A39,"BYE",IF(ISERROR(VLOOKUP(A39,'Am Quals'!AO12:'Am Quals'!AQ111,3,FALSE))=TRUE,"BYE",VLOOKUP(A39,'Am Quals'!AO12:'Am Quals'!AQ111,3,FALSE))) -> BYE | I39: =IF(AND(LEFT(C38,1)="D",LEFT(C39,1)="D"),"",IF(OR(C38="DNR",C39="DNR"),"by "&ABS(J39)&" seconds",IF(OR(ISBLANK(C38),ISBLANK(C39),G38=G39),"","by "&ABS(J39)&" seconds"))) | J39: =IF(AND(LEFT(C38,1)="D",LEFT(C39,1)="D"),"0",IF(OR(C38="DNR",C39="DNR"),IF(C38="DNR",1,-1)*'Am Quals'!A8,IF(OR(ISBLANK(C38),ISBLANK(C39)),"",IF(OR(G38="-",G39="-"),IF(G38="-",1,-1)*'Am Quals'!A8,IF(ABS(G38-G39)>'Am Quals'!A9,IF(G38-G39>'Am Quals'!A9,1,-1)*'Am Quals'!A9,ROUND(G38-G39,3)))))) | Q39: =IF(AND(LEFT(K38,1)="D",LEFT(K39,1)="D"),"",IF(OR(K38="DNR",K39="DNR"),"by "&ABS(R39)&" seconds",IF(OR(ISBLANK(K38),ISBLANK(K39),O38=O39),"","by "&ABS(R39)&" seconds"))) | R39: =IF(AND(LEFT(K38,1)="D",LEFT(K39,1)="D"),"0",IF(OR(K38="DNR",K39="DNR"),IF(K38="DNR",1,-1)*'Am Quals'!A8,IF(OR(ISBLANK(K38),ISBLANK(K39)),"",IF(OR(O38="-",O39="-"),IF(O38="-",1,-1)*'Am Quals'!A8,IF(ABS(O38-O39)>'Am Quals'!A9,IF(O38-O39>'Am Quals'!A9,1,-1)*'Am Quals'!A9,ROUND(O38-O39,3)))))) | S39: =IF(B39="BYE","(BYE)",IF(ISERROR(J39+R39)=TRUE,"",IF(J39+R39=0,"","by "&ABS(J39+R39)&" seconds"))) -> (BYE) | U39: =IF(B39="BYE", B39, IF(ISERROR(J39+R39)=TRUE,"",IF(J39+R39>0,B38,B39))) -> BYE | V39: =IF(ISERROR(VLOOKUP(U39,'Am Quals'!U12:V111,2,FALSE))=TRUE,"",VLOOKUP(U39,'Am Quals'!U12:V111,2,FALSE)) | W39: =IF(ISERROR(VLOOKUP(U39,'Am Quals'!AL12:AO111,4,FALSE))=TRUE,"",VLOOKUP(U39,'Am Quals'!AL12:AO111,4,FALSE))
B42: Round of 16
A43: =IF(S8=B8, A8, A9) -> 1 | B43: =IF(A3>16,IF(S8="TIE - HOLD RUNOFF","",S8),IF(A3<16,"BYE",IF(ISERROR(VLOOKUP(A43,'Am Quals'!AO12:'Am Quals'!AQ111,3,FALSE))=TRUE,"BYE",VLOOKUP(A43,'Am Quals'!AO12:'Am Quals'!AQ111,3,FALSE)))) -> Kolesov Anton | G43: {=IF(LEFT(C43:C58,1)="D","-",IF(D43:D58>'Am Quals'!A6,"-",IF(C43:C58>0,C43:C58+D43:D58*'Am Quals'!A5+F43:F58*'Am Quals'!A7,"")))} | H43: {=IF(G43:G58="","",IF(G43:G58="-","",RANK(G43:G58,G43:G58,1)))} | I43: =IF(AND(LEFT(C43,1)="D",LEFT(C44,1)="D"),"",IF(OR(C43="DNR",C44="DNR"),IF(C43="DNR",B44,B43),IF(OR(ISBLANK(C43),ISBLANK(C44)),"",IF(G43=G44,"TIE",IF(G43>G44,B44,B43))))) | O43: {=IF(LEFT(K43:K58,1)="D","-",IF(L43:L58>'Am Quals'!A6,"-",IF(K43:K58>0,K43:K58+L43:L58*'Am Quals'!A5+N43:N58*'Am Quals'!A7,"")))} | P43: {=IF(O43:O58="","",IF(O43:O58="-","",RANK(O43:O58,O43:O58,1)))} | Q43: =IF(AND(LEFT(K43,1)="D",LEFT(K44,1)="D"),"",IF(OR(K43="DNR",K44="DNR"),IF(K43="DNR",B44,B43),IF(OR(ISBLANK(K43),ISBLANK(K44)),"",IF(O43=O44,"TIE",IF(O43>O44,B44,B43))))) | S43: =IF(B44="BYE", B43, IF(ISERROR(J44+R44)=TRUE,"",IF(J44+R44=0,"TIE - HOLD RUNOFF",IF(J44+R44>0,B44,B43)))) -> Kolesov Anton
...

Sheet Junior-Women Quals
D1: Moscow City Race: Afterparty | AP1: Database development by
D2: 23 May 2015 • Moscow, Krasnaya presnya park | AP2: Dan Gesmer, SeismicSK8@aol.com
D3: Tight / Junior-Women Qualifications
A5: 0.1 | B5: secs penalty per hit cone
A6: 20 | B6: maximum hit cones before DQ
A7: 2 | B7: false start multiplication factor | D7: Under "Raw Time," enter "DQ" or"DNF" for | AP7: Advance Racers who DQ | AS7: Y
A8: =IF(ISERROR(0.1*AR12)=TRUE,"",ROUND(0.1*AR12,2)) -> 2.16 | B8: secs head-to-head DQ/DNR penalty | D8: "Disqualified" and "DNR" for "Did Not Race." | AP8: all Qualifying Runs? (Y/N)
A9: =IF(ISERROR(0.1*AR12)=TRUE,"",ROUND(0.1*AR12,2)) -> 2.16 | B9: secs max head-to-head victory margin
B10: Bib Number | C10: Racer Name | D10: Run 1 | K10: Run 2 | Q10: Qual Rank (w/out DQs) | R10: Best Time | S10: Qualifying Position | T10: Qual Rank (w/DQs sequenced) | U10: Racer No. & Name | V10: Best Time | W10: Double DQ Place Factor | X10: No. of Ties per Best Time | Y10: Tied-at Time | Z10: Tied-at Time Rank | AA10: Run 1 Time w/DQ Adjust | AB10: Run 2 Time w/DQ Adjust | AC10: Total Time w/DQ Adjust | AD10: Total Time Rank | AE10: Total Tie Place Factor | AF10: Tie 1 Total Time Rank | AG10: Tie 1 Place Factor | AH10: Tie 2 Total Time Rank | AI10: Tie 2 Place Factor | AJ10: Tie 3 Total Time Rank | AK10: Tie 3 Place Factor | AL10: Placed Racer No. & Name | AM10: Withdrawal Place Factor | AN10: Double DQ Place Factor 2 | AO10: Final Spot - Withdrawals | AP10: Qualifying Position | AQ10: Racer No. & Name | AR10: Best Time | AS10: Withdraw (W)
D11: Raw Time | E11: Cones | F11: Reaction Time | G11: False Start | H11: Final Time | I11: Run Rank | K11: Raw Time | L11: Cones | M11: Reaction Time | N11: False Start | O11: Final Time | P11: Run Rank
A12: 1 | C12: Nazarkin Boris | D12: 21.579 | E12: 0 | F12: 0.686 | H12: {=IF(LEFT(D12:D111,1)="D","-",IF(E12:E111>A6,"-",IF(D12:D111>0,D12:D111+E12:E111*A5+G12:G111*A7,"")))} -> 21.579 | I12: {=IF(H12:H111="","",IF(H12:H111="-","",RANK(H12:H111,H12:H111,1)))} -> 1 | K12: 22.035 | L12: 0 | M12: 0.964 | O12: {=IF(LEFT(K12:K111,1)="D","-",IF(L12:L111>A6,"-",IF(K12:K111>0,K12:K111+L12:L111*A5+N12:N111*A7,"")))} -> 22.035 | P12: {=IF(O12:O111="","",IF(O12:O111="-","",RANK(O12:O111,O12:O111,1)))} -> 2 | Q12: {=IF(R12:R111="","",IF(R12:R111="-","",RANK(R12:R111,R12:R111,1)))} -> 1 | R12: =IF(AND(ISBLANK(D12),ISBLANK(K12)),"",IF(AND(H12="-",O12="-"),"-",IF(AND(H12="-",ISBLANK(K12)),"-",MIN(H12,O12)))) -> 21.579 | S12: {=IF(R12:R111="","",VLOOKUP(U12:U111,AL12:AP111,5,FALSE))} -> 1 | T12: {=IF(R12:R111="","",IF(R12:R111="-",COUNT(Q12:Q111)+W12:W111,Q12:Q111+AE12:AE111+AG12:AG111+AI12:AI111+AK12:AK111))} -> 1 | U12: {=IF(B12:B111 ="","",B12:B111 & " ")&C12:C111} -> Nazarkin Boris | V12: {=R12:R111} -> 21.579 | W12: =IF(R12="","",COUNTIF(R12:R12,"-")) -> 0 | X12: {=IF(Q12:Q111="","",COUNTIF(Q12:Q111,Q12:Q111)-1)} -> 0 | Y12: {=IF(R12:R111="-","",IF(X12:X111=0,"",R12:R111))} | Z12: {=IF(Y12:Y111="","",RANK(Y12:Y111,Y12:Y111,1))} | AA12: {=IF(X12:X111="","",IF(X12:X111=0,"",IF(LEFT(H12:H111,1)="-","199",H12:H111)))} | AB12: {=IF(X12:X111="","",IF(X12:X111=0,"",IF(LEFT(O12:O111,1)="-","199",O12:O111)))} | AC12: {=IF(ISERROR(AA12:AA111+AB12:AB111)=TRUE,AA12:AA111,AA12:AA111+AB12:AB111)} | AD12: {=IF(R12:R111="","",IF(X12:X111=0,"0",IF(ISERROR(RANK(AC12:AC111,AC12:AC111,1))=TRUE,"0",RANK(AC12:AC111,AC12:AC111,1))))} -> 0 | AE12: 0 | AF12: {=IF(ISERROR(X12:X111)=TRUE,"",IF(Z12:Z111=1,AD12:AD111,""))} | AG12: {=IF(R12:R111="","",IF(AF12:AF111="","0",RANK(AF12:AF111,AF12:AF111,1)-1))} -> 0 | AH12: {=IF(ISERROR(X12:X111)=TRUE,"",IF(Z12:Z111=COUNT(AF12:AF111)+1,AD12:AD111,""))} | AI12: {=IF(R12:R111="","",IF(AH12:AH111="","0",RANK(AH12:AH111,AH12:AH111,1)-1))} -> 0 | AJ12: {=IF(ISERROR(X12:X111)=TRUE,"",IF(Z12:Z111=COUNT(AF12:AF111)+COUNT(AH12:AH111)+1,AD12:AD111,""))} | AK12: {=IF(R12:R111="","",IF(AJ12:AJ111="","0",RANK(AJ12:AJ111,AJ12:AJ111,1)-1))} -> 0 | AL12: {=AQ12:AQ111} -> Nazarkin Boris | AM12: =COUNTIF(AS12:AS12,"W") -> 0 | AN12: =IF(AR12="","",COUNTIF(AR12:AR12,"-")) -> 0 | AO12: {=IF(AQ12:AQ111="BYE","",IF(AS12:AS111="W","",IF(AS7="N",IF(AP12:AP111<=COUNT(Q12:Q111),AP12:AP111-AM12:AM111,""),IF(AP12:AP111<=COUNT(Q12:Q111),AP12:AP111-AM12:AM111,AP12:AP111-AM12:AM111+AN12:AN111-1))))} -> 1 | AP12: {=IF(R12:R111="","",IF(AP11:AP110+1<=COUNT(Q12:Q111),AP11:AP110+1,COUNT(Q12:Q111)+1))} -> 1 | AQ12: {=IF(R12:R111="","BYE",IF(ISERROR(VLOOKUP(A12:A111,T12:U111,2,FALSE))=TRUE,"",VLOOKUP(A12:A111,T12:U111,2,FALSE)))} -> Nazarkin Boris | AR12: {=IF(C12:C111="BYE", "",IF(A12:A111="","",IF(ISERROR(VLOOKUP(A12:A111,T12:V111,3,FALSE))=TRUE,"",VLOOKUP(A12:A111,T12:V111,3,FALSE))))} -> 21.579
