Workbook

Sheet Am Quals
D1: Moscow City Race: Afterparty | AP1: Database development by
D2: 23 May 2015 • Moscow, Krasnaya presnya park | AP2: Dan Gesmer, SeismicSK8@aol.com
D3: Tight / Open Qualifications
A5: 0.1 | B5: secs penalty per hit cone
A6: 20 | B6: maximum hit cones before DQ
A7: 2 | B7: false start multiplication factor | D7: Under "Raw Time," enter "DQ" or"DNF" for | AP7: Advance Racers who DQ | AS7: Y
A8: =IF(ISERROR(0.1*AR12)=TRUE,"",ROUND(0.1*AR12,2)) -> 1.31 | B8: secs head-to-head DQ/DNR penalty | D8: "Disqualified" and "DNR" for "Did Not Race." | AP8: all Qualifying Runs? (Y/N)
A9: =IF(ISERROR(0.1*AR12)=TRUE,"",ROUND(0.1*AR12,2)) -> 1.31 | B9: secs max head-to-head victory margin
B10: Bib Number | C10: Racer Name | D10: Run 1 | K10: Run 2 | Q10: Qual Rank (w/out DQs) | R10: Best Time | S10: Qualifying Position | T10: Qual Rank (w/DQs sequenced) | U10: Racer No. & Name | V10: Best Time | W10: Double DQ Place Factor | X10: No. of Ties per Best Time | Y10: Tied-at Time | Z10: Tied-at Time Rank | AA10: Run 1 Time w/DQ Adjust | AB10: Run 2 Time w/DQ Adjust | AC10: Total Time w/DQ Adjust | AD10: Total Time Rank | AE10: Total Tie Place Factor | AF10: Tie 1 Total Time Rank | AG10: Tie 1 Place Factor | AH10: Tie 2 Total Time Rank | AI10: Tie 2 Place Factor | AJ10: Tie 3 Total Time Rank | AK10: Tie 3 Place Factor | AL10: Placed Racer No. & Name | AM10: Withdrawal Place Factor | AN10: Double DQ Place Factor 2 | AO10: Final Spot - Withdrawals | AP10: Qualifying Position | AQ10: Racer No. & Name | AR10: Best Time | AS10: Withdraw (W)
D11: Raw Time | E11: Cones | F11: Reaction Time | G11: False Start | H11: Final Time | I11: Run Rank | K11: Raw Time | L11: Cones | M11: Reaction Time | N11: False Start | O11: Final Time | P11: Run Rank
A12: 1 | C12: Rogachev Vladimir | D12: 19.368 | E12: 0 | F12: 1.061 | H12: {=IF(LEFT(D12:D111,1)="D","-",IF(E12:E111>A6,"-",IF(D12:D111>0,D12:D111+E12:E111*A5+G12:G111*A7,"")))} -> 19.368 | I12: {=IF(H12:H111="","",IF(H12:H111="-","",RANK(H12:H111,H12:H111,1)))} -> 7 | K12: 19.237 | L12: 0 | M12: 0.862 | O12: {=IF(LEFT(K12:K111,1)="D","-",IF(L12:L111>A6,"-",IF(K12:K111>0,K12:K111+L12:L111*A5+N12:N111*A7,"")))} -> 19.237 | P12: {=IF(O12:O111="","",IF(O12:O111="-","",RANK(O12:O111,O12:O111,1)))} -> 7 | Q12: {=IF(R12:R111="","",IF(R12:R111="-","",RANK(R12:R111,R12:R111,1)))} -> 7 | R12: =IF(AND(ISBLANK(D12),ISBLANK(K12)),"",IF(AND(H12="-",O12="-"),"-",IF(AND(H12="-",ISBLANK(K12)),"-",MIN(H12,O12)))) -> 19.237 | S12: {=IF(R12:R111="","",VLOOKUP(U12:U111,AL12:AP111,5,FALSE))} -> 7 | T12: {=IF(R12:R111="","",IF(R12:R111="-",COUNT(Q12:Q111)+W12:W111,Q12:Q111+AE12:AE111+AG12:AG111+AI12:AI111+AK12:AK111))} -> 7 | U12: {=IF(B12:B111 ="","",B12:B111 & " ")&C12:C111} -> Rogachev Vladimir | V12: {=R12:R111} -> 19.237 | W12: =IF(R12="","",COUNTIF(R12:R12,"-")) -> 0 | X12: {=IF(Q12:Q111="","",COUNTIF(Q12:Q111,Q12:Q111)-1)} -> 0 | Y12: {=IF(R12:R111="-","",IF(X12:X111=0,"",R12:R111))} | Z12: {=IF(Y12:Y111="","",RANK(Y12:Y111,Y12:Y111,1))} | AA12: {=IF(X12:X111="","",IF(X12:X111=0,"",IF(LEFT(H12:H111,1)="-","199",H12:H111)))} | AB12: {=IF(X12:X111="","",IF(X12:X111=0,"",IF(LEFT(O12:O111,1)="-","199",O12:O111)))} | AC12: {=IF(ISERROR(AA12:AA111+AB12:AB111)=TRUE,AA12:AA111,AA12:AA111+AB12:AB111)} | AD12: {=IF(R12:R111="","",IF(X12:X111=0,"0",IF(ISERROR(RANK(AC12:AC111,AC12:AC111,1))=TRUE,"0",RANK(AC12:AC111,AC12:AC111,1))))} -> 0 | AE12: 0 | AF12: {=IF(ISERROR(X12:X111)=TRUE,"",IF(Z12:Z111=1,AD12:AD111,""))} | AG12: {=IF(R12:R111="","",IF(AF12:AF111="","0",RANK(AF12:AF111,AF12:AF111,1)-1))} -> 0 | AH12: {=IF(ISERROR(X12:X111)=TRUE,"",IF(Z12:Z111=COUNT(AF12:AF111)+1,AD12:AD111,""))} | AI12: {=IF(R12:R111="","",IF(AH12:AH111="","0",RANK(AH12:AH111,AH12:AH111,1)-1))} -> 0 | AJ12: {=IF(ISERROR(X12:X111)=TRUE,"",IF(Z12:Z111=COUNT(AF12:AF111)+COUNT(AH12:AH111)+1,AD12:AD111,""))} | AK12: {=IF(R12:R111="","",IF(AJ12:AJ111="","0",RANK(AJ12:AJ111,AJ12:AJ111,1)-1))} -> 0 | AL12: {=AQ12:AQ111} -> Kolesov Anton | AM12: =COUNTIF(AS12:AS12,"W") -> 0 | AN12: =IF(AR12="","",COUNTIF(AR12:AR12,"-")) -> 0 | AO12: {=IF(AQ12:AQ111="BYE","",IF(AS12:AS111="W","",IF(AS7="N",IF(AP12:AP111<=COUNT(Q12:Q111),AP12:AP111-AM12:AM111,""),IF(AP12:AP111<=COUNT(Q12:Q111),AP12:AP111-AM12:AM111,AP12:AP111-AM12:AM111+AN12:AN111-1))))} -> 1 | AP12: {=IF(R12:R111="","",IF(AP11:AP110+1<=COUNT(Q12:Q111),AP11:AP110+1,COUNT(Q12:Q111)+1))} -> 1 | AQ12: {=IF(R12:R111="","BYE",IF(ISERROR(VLOOKUP(A12:A111,T12:U111,2,FALSE))=TRUE,"",VLOOKUP(A12:A111,T12:U111,2,FALSE)))} -> Kolesov Anton | AR12: {=IF(C12:C111="BYE", "",IF(A12:A111="","",IF(ISERROR(VLOOKUP(A12:A111,T12:V111,3,FALSE))=TRUE,"",VLOOKUP(A12:A111,T12:V111,3,FALSE))))} -> 13.135
A13: 2 | C13: Popov Igor | D13: 19.814 | E13: 3 | F13: 0.908 | H13: 20.114 | I13: 8 | K13: 19.441 | L13: 3 | M13: 0.755 | O13: 19.741 | P13: 8 | Q13: 8 | R13: =IF(AND(ISBLANK(D13),ISBLANK(K13)),"",IF(AND(H13="-",O13="-"),"-",IF(AND(H13="-",ISBLANK(K13)),"-",MIN(H13,O13)))) -> 19.741 | S13: 8 | T13: 8 | U13: Popov Igor | V13: 19.741 | W13: =IF(R13="","",COUNTIF(R12:R13,"-")) -> 0 | X13: 0 | AD13: 0 | AE13: =IF(R13="","",IF(AD13="0","0",COUNTIF(AD12:AD12,AD13))) -> 0 | AG13: 0 | AI13: 0 | AK13: 0 | AL13: Nikulin Anton | AM13: =COUNTIF(AS12:AS13,"W") -> 0 | AN13: =IF(AR13="","",COUNTIF(AR12:AR13,"-")) -> 0 | AO13: 2 | AP13: 2 | AQ13: Nikulin Anton | AR13: 13.293
A14: 3 | C14: Rychkov Svyatoslav | D14: 18.49 | E14: 3 | F14: 2.036 | H14: 18.79 | I14: 6 | K14: 18.251 | L14: 1 | M14: 1.393 | O14: 18.351 | P14: 6 | Q14: 6 | R14: =IF(AND(ISBLANK(D14),ISBLANK(K14)),"",IF(AND(H14="-",O14="-"),"-",IF(AND(H14="-",ISBLANK(K14)),"-",MIN(H14,O14)))) -> 18.351 | S14: 6 | T14: 6 | U14: Rychkov Svyatoslav | V14: 18.351 | W14: =IF(R14="","",COUNTIF(R12:R14,"-")) -> 0 | X14: 0 | AD14: 0 | AE14: =IF(R14="","",IF(AD14="0","0",COUNTIF(AD12:AD13,AD14))) -> 0 | AG14: 0 | AI14: 0 | AK14: 0 | AL14: Glushko Oleg | AM14: =COUNTIF(AS12:AS14,"W") -> 0 | AN14: =IF(AR14="","",COUNTIF(AR12:AR14,"-")) -> 0 | AO14: 3 | AP14: 3 | AQ14: Glushko Oleg | AR14: 13.48
A15: 4 | C15: Savin Aleksandr | D15: 14.974 | E15: 0 | F15: 0.811 | H15: 14.974 | I15: 5 | K15: 14.725 | L15: 2 | M15: 0.696 | O15: 14.925 | P15: 5 | Q15: 5 | R15: =IF(AND(ISBLANK(D15),ISBLANK(K15)),"",IF(AND(H15="-",O15="-"),"-",IF(AND(H15="-",ISBLANK(K15)),"-",MIN(H15,O15)))) -> 14.925 | S15: 5 | T15: 5 | U15: Savin Aleksandr | V15: 14.925 | W15: =IF(R15="","",COUNTIF(R12:R15,"-")) -> 0 | X15: 0 | AD15: 0 | AE15: =IF(R15="","",IF(AD15="0","0",COUNTIF(AD12:AD14,AD15))) -> 0 | AG15: 0 | AI15: 0 | AK15: 0 | AL15: Artemov Georgy | AM15: =COUNTIF(AS12:AS15,"W") -> 0 | AN15: =IF(AR15="","",COUNTIF(AR12:AR15,"-")) -> 0 | AO15: 4 | AP15: 4 | AQ15: Artemov Georgy | AR15: 13.541
A16: 5 | C16: Glushko Oleg | D16: 13.721 | E16: 0 | F16: 0.541 | H16: 13.721 | I16: 4 | K16: 13.48 | L16: 0 | M16: 0.595 | O16: 13.48 | P16: 3 | Q16: 3 | R16: =IF(AND(ISBLANK(D16),ISBLANK(K16)),"",IF(AND(H16="-",O16="-"),"-",IF(AND(H16="-",ISBLANK(K16)),"-",MIN(H16,O16)))) -> 13.48 | S16: 3 | T16: 3 | U16: Glushko Oleg | V16: 13.48 | W16: =IF(R16="","",COUNTIF(R12:R16,"-")) -> 0 | X16: 0 | AD16: 0 | AE16: =IF(R16="","",IF(AD16="0","0",COUNTIF(AD12:AD15,AD16))) -> 0 | AG16: 0 | AI16: 0 | AK16: 0 | AL16: Savin Aleksandr | AM16: =COUNTIF(AS12:AS16,"W") -> 0 | AN16: =IF(AR16="","",COUNTIF(AR12:AR16,"-")) -> 0 | AO16: 5 | AP16: 5 | AQ16: Savin Aleksandr | AR16: 14.925
A17: 6 | C17: Artemov Georgy | D17: 13.541 | E17: 0 | F17: 0.683 | H17: 13.541 | I17: 3 | K17: 13.374 | L17: 2 | M17: 0.678 | O17: 13.574 | P17: 4 | Q17: 4 | R17: =IF(AND(ISBLANK(D17),ISBLANK(K17)),"",IF(AND(H17="-",O17="-"),"-",IF(AND(H17="-",ISBLANK(K17)),"-",MIN(H17,O17)))) -> 13.541 | S17: 4 | T17: 4 | U17: Artemov Georgy | V17: 13.541 | W17: =IF(R17="","",COUNTIF(R12:R17,"-")) -> 0 | X17: 0 | AD17: 0 | AE17: =IF(R17="","",IF(AD17="0","0",COUNTIF(AD12:AD16,AD17))) -> 0 | AG17: 0 | AI17: 0 | AK17: 0 | AL17: Rychkov Svyatoslav | AM17: =COUNTIF(AS12:AS17,"W") -> 0 | AN17: =IF(AR17="","",COUNTIF(AR12:AR17,"-")) -> 0 | AO17: 6 | AP17: 6 | AQ17: Rychkov Svyatoslav | AR17: 18.351
A18: 7 | C18: Kolesov Anton | D18: 13.244 | E18: 1 | F18: 0.716 | H18: 13.344 | I18: 2 | K18: 13.135 | L18: 0 | M18: 0.665 | O18: 13.135 | P18: 1 | Q18: 1 | R18: =IF(AND(ISBLANK(D18),ISBLANK(K18)),"",IF(AND(H18="-",O18="-"),"-",IF(AND(H18="-",ISBLANK(K18)),"-",MIN(H18,O18)))) -> 13.135 | S18: 1 | T18: 1 | U18: Kolesov Anton | V18: 13.135 | W18: =IF(R18="","",COUNTIF(R12:R18,"-")) -> 0 | X18: 0 | AD18: 0 | AE18: =IF(R18="","",IF(R18="","",IF(AD18="0","0",COUNTIF(AD12:AD17,AD18)))) -> 0 | AG18: 0 | AI18: 0 | AK18: 0 | AL18: Rogachev Vladimir | AM18: =COUNTIF(AS12:AS18,"W") -> 0 | AN18: =IF(AR18="","",COUNTIF(AR12:AR18,"-")) -> 0 | AO18: 7 | AP18: 7 | AQ18: Rogachev Vladimir | AR18: 19.237
A19: 8 | C19: Nikulin Anton | D19: 13.235 | E19: 1 | F19: 0.646 | H19: 13.335 | I19: 1 | K19: 13.093 | L19: 2 | M19: 0.526 | O19: 13.293 | P19: 2 | Q19: 2 | R19: =IF(AND(ISBLANK(D19),ISBLANK(K19)),"",IF(AND(H19="-",O19="-"),"-",IF(AND(H19="-",ISBLANK(K19)),"-",MIN(H19,O19)))) -> 13.293 | S19: 2 | T19: 2 | U19: Nikulin Anton | V19: 13.293 | W19: =IF(R19="","",COUNTIF(R12:R19,"-")) -> 0 | X19: 0 | AD19: 0 | AE19: =IF(R19="","",IF(R19="","",IF(AD19="0","0",COUNTIF(AD12:AD18,AD19)))) -> 0 | AG19: 0 | AI19: 0 | AK19: 0 | AL19: Popov Igor | AM19: =COUNTIF(AS12:AS19,"W") -> 0 | AN19: =IF(AR19="","",COUNTIF(AR12:AR19,"-")) -> 0 | AO19: 8 | AP19: 8 | AQ19: Popov Igor | AR19: 19.741
A20: 9 | R20: =IF(AND(ISBLANK(D20),ISBLANK(K20)),"",IF(AND(H20="-",O20="-"),"-",IF(AND(H20="-",ISBLANK(K20)),"-",MIN(H20,O20)))) | W20: =IF(R20="","",COUNTIF(R12:R20,"-")) | AE20: =IF(R20="","",IF(R20="","",IF(AD20="0","0",COUNTIF(AD12:AD19,AD20)))) | AL20: BYE | AM20: =COUNTIF(AS12:AS20,"W") -> 0 | AN20: =IF(AR20="","",COUNTIF(AR12:AR20,"-")) | AQ20: BYE
A21: 10 | R21: =IF(AND(ISBLANK(D21),ISBLANK(K21)),"",IF(AND(H21="-",O21="-"),"-",IF(AND(H21="-",ISBLANK(K21)),"-",MIN(H21,O21)))) | W21: =IF(R21="","",COUNTIF(R12:R21,"-")) | AE21: =IF(R21="","",IF(AD21="0","0",COUNTIF(AD12:AD20,AD21))) | AL21: BYE | AM21: =COUNTIF(AS12:AS21,"W") -> 0 | AN21: =IF(AR21="","",COUNTIF(AR12:AR21,"-")) | AQ21: BYE
A22: 11 | R22: =IF(AND(ISBLANK(D22),ISBLANK(K22)),"",IF(AND(H22="-",O22="-"),"-",IF(AND(H22="-",ISBLANK(K22)),"-",MIN(H22,O22)))) | W22: =IF(R22="","",COUNTIF(R12:R22,"-")) | AE22: =IF(R22="","",IF(AD22="0","0",COUNTIF(AD1:AD21,AD22))) | AL22: BYE | AM22: =COUNTIF(AS12:AS22,"W") -> 0 | AN22: =IF(AR22="","",COUNTIF(AR12:AR22,"-")) | AQ22: BYE
A23: 12 | R23: =IF(AND(ISBLANK(D23),ISBLANK(K23)),"",IF(AND(H23="-",O23="-"),"-",IF(AND(H23="-",ISBLANK(K23)),"-",MIN(H23,O23)))) | W23: =IF(R23="","",COUNTIF(R12:R23,"-")) | AE23: =IF(R23="","",IF(AD23="0","0",COUNTIF(AD12:AD22,AD23))) | AL23: BYE | AM23: =COUNTIF(AS12:AS23,"W") -> 0 | AN23: =IF(AR23="","",COUNTIF(AR12:AR23,"-")) | AQ23: BYE
A24: 13 | R24: =IF(AND(ISBLANK(D24),ISBLANK(K24)),"",IF(AND(H24="-",O24="-"),"-",IF(AND(H24="-",ISBLANK(K24)),"-",MIN(H24,O24)))) | W24: =IF(R24="","",COUNTIF(R12:R24,"-")) | AE24: =IF(R24="","",IF(AD24="0","0",COUNTIF(AD12:AD23,AD24))) | AL24: BYE | AM24: =COUNTIF(AS12:AS24,"W") -> 0 | AN24: =IF(AR24="","",COUNTIF(AR12:AR24,"-")) | AQ24: BYE
A25: 14 | R25: =IF(AND(ISBLANK(D25),ISBLANK(K25)),"",IF(AND(H25="-",O25="-"),"-",IF(AND(H25="-",ISBLANK(K25)),"-",MIN(H25,O25)))) | W25: =IF(R25="","",COUNTIF(R12:R25,"-")) | AE25: =IF(R25="","",IF(AD25="0","0",COUNTIF(AD12:AD24,AD25))) | AL25: BYE | AM25: =COUNTIF(AS12:AS25,"W") -> 0 | AN25: =IF(AR25="","",COUNTIF(AR12:AR25,"-")) | AQ25: BYE
A26: 15 | R26: =IF(AND(ISBLANK(D26),ISBLANK(K26)),"",IF(AND(H26="-",O26="-"),"-",IF(AND(H26="-",ISBLANK(K26)),"-",MIN(H26,O26)))) | W26: =IF(R26="","",COUNTIF(R12:R26,"-")) | AE26: =IF(R26="","",IF(AD26="0","0",COUNTIF(AD12:AD25,AD26))) | AL26: BYE | AM26: =COUNTIF(AS12:AS26,"W") -> 0 | AN26: =IF(AR26="","",COUNTIF(AR12:AR26,"-")) | AQ26: BYE
A27: 16 | R27: =IF(AND(ISBLANK(D27),ISBLANK(K27)),"",IF(AND(H27="-",O27="-"),"-",IF(AND(H27="-",ISBLANK(K27)),"-",MIN(H27,O27)))) | W27: =IF(R27="","",COUNTIF(R12:R27,"-")) | AE27: =IF(R27="","",IF(AD27="0","0",COUNTIF(AD12:AD26,AD27))) | AL27: BYE | AM27: =COUNTIF(AS12:AS27,"W") -> 0 | AN27: =IF(AR27="","",COUNTIF(AR12:AR27,"-")) | AQ27: BYE
A28: 17 | R28: =IF(AND(ISBLANK(D28),ISBLANK(K28)),"",IF(AND(H28="-",O28="-"),"-",IF(AND(H28="-",ISBLANK(K28)),"-",MIN(H28,O28)))) | W28: =IF(R28="","",COUNTIF(R12:R28,"-")) | AE28: =IF(R28="","",IF(AD28="0","0",COUNTIF(AD12:AD27,AD28))) | AL28: BYE | AM28: =COUNTIF(AS12:AS28,"W") -> 0 | AN28: =IF(AR28="","",COUNTIF(AR12:AR28,"-")) | AQ28: BYE
A29: 18 | R29: =IF(AND(ISBLANK(D29),ISBLANK(K29)),"",IF(AND(H29="-",O29="-"),"-",IF(AND(H29="-",ISBLANK(K29)),"-",MIN(H29,O29)))) | W29: =IF(R29="","",COUNTIF(R12:R29,"-")) | AE29: =IF(R29="","",IF(AD29="0","0",COUNTIF(AD12:AD28,AD29))) | AL29: BYE | AM29: =COUNTIF(AS12:AS29,"W") -> 0 | AN29: =IF(AR29="","",COUNTIF(AR12:AR29,"-")) | AQ29: BYE
A30: 19 | R30: =IF(AND(ISBLANK(D30),ISBLANK(K30)),"",IF(AND(H30="-",O30="-"),"-",IF(AND(H30="-",ISBLANK(K30)),"-",MIN(H30,O30)))) | W30: =IF(R30="","",COUNTIF(R12:R30,"-")) | AE30: =IF(R30="","",IF(AD30="0","0",COUNTIF(AD12:AD29,AD30))) | AL30: BYE | AM30: =COUNTIF(AS12:AS30,"W") -> 0 | AN30: =IF(AR30="","",COUNTIF(AR12:AR30,"-")) | AQ30: BYE
A31: 20 | R31: =IF(AND(ISBLANK(D31),ISBLANK(K31)),"",IF(AND(H31="-",O31="-"),"-",IF(AND(H31="-",ISBLANK(K31)),"-",MIN(H31,O31)))) | W31: =IF(R31="","",COUNTIF(R12:R31,"-")) | AE31: =IF(R31="","",IF(AD31="0","0",COUNTIF(AD12:AD30,AD31))) | AL31: BYE | AM31: =COUNTIF(AS12:AS31,"W") -> 0 | AN31: =IF(AR31="","",COUNTIF(AR12:AR31,"-")) | AQ31: BYE
A32: 21 | R32: =IF(AND(ISBLANK(D32),ISBLANK(K32)),"",IF(AND(H32="-",O32="-"),"-",IF(AND(H32="-",ISBLANK(K32)),"-",MIN(H32,O32)))) | W32: =IF(R32="","",COUNTIF(R12:R32,"-")) | AE32: =IF(R32="","",IF(AD32="0","0",COUNTIF(AD12:AD31,AD32))) | AL32: BYE | AM32: =COUNTIF(AS12:AS32,"W") -> 0 | AN32: =IF(AR32="","",COUNTIF(AR12:AR32,"-")) | AQ32: BYE
A33: 22 | R33: =IF(AND(ISBLANK(D33),ISBLANK(K33)),"",IF(AND(H33="-",O33="-"),"-",IF(AND(H33="-",ISBLANK(K33)),"-",MIN(H33,O33)))) | W33: =IF(R33="","",COUNTIF(R12:R33,"-")) | AE33: =IF(R33="","",IF(AD33="0","0",COUNTIF(AD12:AD32,AD33))) | AL33: BYE | AM33: =COUNTIF(AS12:AS33,"W") -> 0 | AN33: =IF(AR33="","",COUNTIF(AR12:AR33,"-")) | AQ33: BYE
A34: 23 | R34: =IF(AND(ISBLANK(D34),ISBLANK(K34)),"",IF(AND(H34="-",O34="-"),"-",IF(AND(H34="-",ISBLANK(K34)),"-",MIN(H34,O34)))) | W34: =IF(R34="","",COUNTIF(R12:R34,"-")) | AE34: =IF(R34="","",IF(AD34="0","0",COUNTIF(AD12:AD33,AD34))) | AL34: BYE | AM34: =COUNTIF(AS12:AS34,"W") -> 0 | AN34: =IF(AR34="","",COUNTIF(AR12:AR34,"-")) | AQ34: BYE
A35: 24 | R35: =IF(AND(ISBLANK(D35),ISBLANK(K35)),"",IF(AND(H35="-",O35="-"),"-",IF(AND(H35="-",ISBLANK(K35)),"-",MIN(H35,O35)))) | W35: =IF(R35="","",COUNTIF(R12:R35,"-")) | AE35: =IF(R35="","",IF(AD35="0","0",COUNTIF(AD12:AD34,AD35))) | AL35: BYE | AM35: =COUNTIF(AS12:AS35,"W") -> 0 | AN35: =IF(AR35="","",COUNTIF(AR12:AR35,"-")) | AQ35: BYE
A36: 25 | R36: =IF(AND(ISBLANK(D36),ISBLANK(K36)),"",IF(AND(H36="-",O36="-"),"-",IF(AND(H36="-",ISBLANK(K36)),"-",MIN(H36,O36)))) | W36: =IF(R36="","",COUNTIF(R12:R36,"-")) | AE36: =IF(R36="","",IF(AD36="0","0",COUNTIF(AD12:AD35,AD36))) | AL36: BYE | AM36: =COUNTIF(AS12:AS36,"W") -> 0 | AN36: =IF(AR36="","",COUNTIF(AR12:AR36,"-")) | AQ36: BYE
A37: 26 | R37: =IF(AND(ISBLANK(D37),ISBLANK(K37)),"",IF(AND(H37="-",O37="-"),"-",IF(AND(H37="-",ISBLANK(K37)),"-",MIN(H37,O37)))) | W37: =IF(R37="","",COUNTIF(R12:R37,"-")) | AE37: =IF(R37="","",IF(AD37="0","0",COUNTIF(AD12:AD36,AD37))) | AL37: BYE | AM37: =COUNTIF(AS12:AS37,"W") -> 0 | AN37: =IF(AR37="","",COUNTIF(AR12:AR37,"-")) | AQ37: BYE
A38: 27 | R38: =IF(AND(ISBLANK(D38),ISBLANK(K38)),"",IF(AND(H38="-",O38="-"),"-",IF(AND(H38="-",ISBLANK(K38)),"-",MIN(H38,O38)))) | W38: =IF(R38="","",COUNTIF(R12:R38,"-")) | AE38: =IF(R38="","",IF(AD38="0","0",COUNTIF(AD12:AD37,AD38))) | AL38: BYE | AM38: =COUNTIF(AS12:AS38,"W") -> 0 | AN38: =IF(AR38="","",COUNTIF(AR12:AR38,"-")) | AQ38: BYE
A39: 28 | R39: =IF(AND(ISBLANK(D39),ISBLANK(K39)),"",IF(AND(H39="-",O39="-"),"-",IF(AND(H39="-",ISBLANK(K39)),"-",MIN(H39,O39)))) | W39: =IF(R39="","",COUNTIF(R12:R39,"-")) | AE39: =IF(R39="","",IF(AD39="0","0",COUNTIF(AD12:AD38,AD39))) | AL39: BYE | AM39: =COUNTIF(AS12:AS39,"W") -> 0 | AN39: =IF(AR39="","",COUNTIF(AR12:AR39,"-")) | AQ39: BYE
A40: 29 | R40: =IF(AND(ISBLANK(D40),ISBLANK(K40)),"",IF(AND(H40="-",O40="-"),"-",IF(AND(H40="-",ISBLANK(K40)),"-",MIN(H40,O40)))) | W40: =IF(R40="","",COUNTIF(R12:R40,"-")) | AE40: =IF(R40="","",IF(AD40="0","0",COUNTIF(AD12:AD39,AD40))) | AL40: BYE | AM40: =COUNTIF(AS12:AS40,"W") -> 0 | AN40: =IF(AR40="","",COUNTIF(AR12:AR40,"-")) | AQ40: BYE
A41: 30 | R41: =IF(AND(ISBLANK(D41),ISBLANK(K41)),"",IF(AND(H41="-",O41="-"),"-",IF(AND(H41="-",ISBLANK(K41)),"-",MIN(H41,O41)))) | W41: =IF(R41="","",COUNTIF(R12:R41,"-")) | AE41: =IF(R41="","",IF(AD41="0","0",COUNTIF(AD12:AD40,AD41))) | AL41: BYE | AM41: =COUNTIF(AS12:AS41,"W") -> 0 | AN41: =IF(AR41="","",COUNTIF(AR12:AR41,"-")) | AQ41: BYE
A42: 31 | R42: =IF(AND(ISBLANK(D42),ISBLANK(K42)),"",IF(AND(H42="-",O42="-"),"-",IF(AND(H42="-",ISBLANK(K42)),"-",MIN(H42,O42)))) | W42: =IF(R42="","",COUNTIF(R12:R42,"-")) | AE42: =IF(R42="","",IF(AD42="0","0",COUNTIF(AD12:AD41,AD42))) | AL42: BYE | AM42: =COUNTIF(AS12:AS42,"W") -> 0 | AN42: =IF(AR42="","",COUNTIF(AR12:AR42,"-")) | AQ42: BYE
A43: 32 | R43: =IF(AND(ISBLANK(D43),ISBLANK(K43)),"",IF(AND(H43="-",O43="-"),"-",IF(AND(H43="-",ISBLANK(K43)),"-",MIN(H43,O43)))) | W43: =IF(R43="","",COUNTIF(R12:R43,"-")) | AE43: =IF(R43="","",IF(AD43="0","0",COUNTIF(AD12:AD42,AD43))) | AL43: BYE | AM43: =COUNTIF(AS12:AS43,"W") -> 0 | AN43: =IF(AR43="","",COUNTIF(AR12:AR43,"-")) | AQ43: BYE
A44: 33 | R44: =IF(AND(ISBLANK(D44),ISBLANK(K44)),"",IF(AND(H44="-",O44="-"),"-",IF(AND(H44="-",ISBLANK(K44)),"-",MIN(H44,O44)))) | W44: =IF(R44="","",COUNTIF(R12:R44,"-")) | AE44: =IF(R44="","",IF(AD44="0","0",COUNTIF(AD12:AD43,AD44))) | AL44: BYE | AM44: =COUNTIF(AS12:AS44,"W") -> 0 | AN44: =IF(AR44="","",COUNTIF(AR12:AR44,"-")) | AQ44: BYE
A45: 34 | R45: =IF(AND(ISBLANK(D45),ISBLANK(K45)),"",IF(AND(H45="-",O45="-"),"-",IF(AND(H45="-",ISBLANK(K45)),"-",MIN(H45,O45)))) | W45: =IF(R45="","",COUNTIF(R12:R45,"-")) | AE45: =IF(R45="","",IF(AD45="0","0",COUNTIF(AD12:AD44,AD45))) | AL45: BYE | AM45: =COUNTIF(AS12:AS45,"W") -> 0 | AN45: =IF(AR45="","",COUNTIF(AR12:AR45,"-")) | AQ45: BYE
A46: 35 | R46: =IF(AND(ISBLANK(D46),ISBLANK(K46)),"",IF(AND(H46="-",O46="-"),"-",IF(AND(H46="-",ISBLANK(K46)),"-",MIN(H46,O46)))) | W46: =IF(R46="","",COUNTIF(R12:R46,"-")) | AE46: =IF(R46="","",IF(AD46="0","0",COUNTIF(AD12:AD45,AD46))) | AL46: BYE | AM46: =COUNTIF(AS12:AS46,"W") -> 0 | AN46: =IF(AR46="","",COUNTIF(AR12:AR46,"-")) | AQ46: BYE
A47: 36 | R47: =IF(AND(ISBLANK(D47),ISBLANK(K47)),"",IF(AND(H47="-",O47="-"),"-",IF(AND(H47="-",ISBLANK(K47)),"-",MIN(H47,O47)))) | W47: =IF(R47="","",COUNTIF(R12:R47,"-")) | AE47: =IF(R47="","",IF(AD47="0","0",COUNTIF(AD12:AD46,AD47))) | AL47: BYE | AM47: =COUNTIF(AS12:AS47,"W") -> 0 | AN47: =IF(AR47="","",COUNTIF(AR12:AR47,"-")) | AQ47: BYE
A48: 37 | R48: =IF(AND(ISBLANK(D48),ISBLANK(K48)),"",IF(AND(H48="-",O48="-"),"-",IF(AND(H48="-",ISBLANK(K48)),"-",MIN(H48,O48)))) | W48: =IF(R48="","",COUNTIF(R12:R48,"-")) | AE48: =IF(R48="","",IF(AD48="0","0",COUNTIF(AD12:AD47,AD48))) | AL48: BYE | AM48: =COUNTIF(AS12:AS48,"W") -> 0 | AN48: =IF(AR48="","",COUNTIF(AR12:AR48,"-")) | AQ48: BYE
A49: 38 | R49: =IF(AND(ISBLANK(D49),ISBLANK(K49)),"",IF(AND(H49="-",O49="-"),"-",IF(AND(H49="-",ISBLANK(K49)),"-",MIN(H49,O49)))) | W49: =IF(R49="","",COUNTIF(R12:R49,"-")) | AE49: =IF(R49="","",IF(AD49="0","0",COUNTIF(AD12:AD48,AD49))) | AL49: BYE | AM49: =COUNTIF(AS12:AS49,"W") -> 0 | AN49: =IF(AR49="","",COUNTIF(AR12:AR49,"-")) | AQ49: BYE
A50: 39 | R50: =IF(AND(ISBLANK(D50),ISBLANK(K50)),"",IF(AND(H50="-",O50="-"),"-",IF(AND(H50="-",ISBLANK(K50)),"-",MIN(H50,O50)))) | W50: =IF(R50="","",COUNTIF(R12:R50,"-")) | AE50: =IF(R50="","",IF(AD50="0","0",COUNTIF(AD12:AD49,AD50))) | AL50: BYE | AM50: =COUNTIF(AS12:AS50,"W") -> 0 | AN50: =IF(AR50="","",COUNTIF(AR12:AR50,"-")) | AQ50: BYE
A51: 40 | R51: =IF(AND(ISBLANK(D51),ISBLANK(K51)),"",IF(AND(H51="-",O51="-"),"-",IF(AND(H51="-",ISBLANK(K51)),"-",MIN(H51,O51)))) | W51: =IF(R51="","",COUNTIF(R12:R51,"-")) | AE51: =IF(R51="","",IF(AD51="0","0",COUNTIF(AD12:AD50,AD51))) | AL51: BYE | AM51: =COUNTIF(AS12:AS51,"W") -> 0 | AN51: =IF(AR51="","",COUNTIF(AR12:AR51,"-")) | AQ51: BYE
A52: 41 | R52: =IF(AND(ISBLANK(D52),ISBLANK(K52)),"",IF(AND(H52="-",O52="-"),"-",IF(AND(H52="-",ISBLANK(K52)),"-",MIN(H52,O52)))) | W52: =IF(R52="","",COUNTIF(R12:R52,"-")) | AE52: =IF(R52="","",IF(AD52="0","0",COUNTIF(AD12:AD51,AD52))) | AL52: BYE | AM52: =COUNTIF(AS12:AS52,"W") -> 0 | AN52: =IF(AR52="","",COUNTIF(AR12:AR52,"-")) | AQ52: BYE
A53: 42 | R53: =IF(AND(ISBLANK(D53),ISBLANK(K53)),"",IF(AND(H53="-",O53="-"),"-",IF(AND(H53="-",ISBLANK(K53)),"-",MIN(H53,O53)))) | W53: =IF(R53="","",COUNTIF(R12:R53,"-")) | AE53: =IF(R53="","",IF(AD53="0","0",COUNTIF(AD12:AD52,AD53))) | AL53: BYE | AM53: =COUNTIF(AS12:AS53,"W") -> 0 | AN53: =IF(AR53="","",COUNTIF(AR12:AR53,"-")) | AQ53: BYE
A54: 43 | R54: =IF(AND(ISBLANK(D54),ISBLANK(K54)),"",IF(AND(H54="-",O54="-"),"-",IF(AND(H54="-",ISBLANK(K54)),"-",MIN(H54,O54)))) | W54: =IF(R54="","",COUNTIF(R12:R54,"-")) | AE54: =IF(R54="","",IF(AD54="0","0",COUNTIF(AD12:AD53,AD54))) | AL54: BYE | AM54: =COUNTIF(AS12:AS54,"W") -> 0 | AN54: =IF(AR54="","",COUNTIF(AR12:AR54,"-")) | AQ54: BYE
A55: 44 | R55: =IF(AND(ISBLANK(D55),ISBLANK(K55)),"",IF(AND(H55="-",O55="-"),"-",IF(AND(H55="-",ISBLANK(K55)),"-",MIN(H55,O55)))) | W55: =IF(R55="","",COUNTIF(R12:R55,"-")) | AE55: =IF(R55="","",IF(AD55="0","0",COUNTIF(AD12:AD54,AD55))) | AL55: BYE | AM55: =COUNTIF(AS12:AS55,"W") -> 0 | AN55: =IF(AR55="","",COUNTIF(AR12:AR55,"-")) | AQ55: BYE
A56: 45 | R56: =IF(AND(ISBLANK(D56),ISBLANK(K56)),"",IF(AND(H56="-",O56="-"),"-",IF(AND(H56="-",ISBLANK(K56)),"-",MIN(H56,O56)))) | W56: =IF(R56="","",COUNTIF(R12:R56,"-")) | AE56: =IF(R56="","",IF(AD56="0","0",COUNTIF(AD12:AD55,AD56))) | AL56: BYE | AM56: =COUNTIF(AS12:AS56,"W") -> 0 | AN56: =IF(AR56="","",COUNTIF(AR12:AR56,"-")) | AQ56: BYE
A57: 46 | R57: =IF(AND(ISBLANK(D57),ISBLANK(K57)),"",IF(AND(H57="-",O57="-"),"-",IF(AND(H57="-",ISBLANK(K57)),"-",MIN(H57,O57)))) | W57: =IF(R57="","",COUNTIF(R12:R57,"-")) | AE57: =IF(R57="","",IF(AD57="0","0",COUNTIF(AD12:AD56,AD57))) | AL57: BYE | AM57: =COUNTIF(AS12:AS57,"W") -> 0 | AN57: =IF(AR57="","",COUNTIF(AR12:AR57,"-")) | AQ57: BYE
A58: 47 | R58: =IF(AND(ISBLANK(D58),ISBLANK(K58)),"",IF(AND(H58="-",O58="-"),"-",IF(AND(H58="-",ISBLANK(K58)),"-",MIN(H58,O58)))) | W58: =IF(R58="","",COUNTIF(R12:R58,"-")) | AE58: =IF(R58="","",IF(AD58="0","0",COUNTIF(AD12:AD57,AD58))) | AL58: BYE | AM58: =COUNTIF(AS12:AS58,"W") -> 0 | AN58: =IF(AR58="","",COUNTIF(AR12:AR58,"-")) | AQ58: BYE
A59: 48 | R59: =IF(AND(ISBLANK(D59),ISBLANK(K59)),"",IF(AND(H59="-",O59="-"),"-",IF(AND(H59="-",ISBLANK(K59)),"-",MIN(H59,O59)))) | W59: =IF(R59="","",COUNTIF(R12:R59,"-")) | AE59: =IF(R59="","",IF(AD59="0","0",COUNTIF(AD12:AD58,AD59))) | AL59: BYE | AM59: =COUNTIF(AS12:AS59,"W") -> 0 | AN59: =IF(AR59="","",COUNTIF(AR12:AR59,"-")) | AQ59: BYE
A60: 49 | R60: =IF(AND(ISBLANK(D60),ISBLANK(K60)),"",IF(AND(H60="-",O60="-"),"-",IF(AND(H60="-",ISBLANK(K60)),"-",MIN(H60,O60)))) | W60: =IF(R60="","",COUNTIF(R12:R60,"-")) | AE60: =IF(R60="","",IF(AD60="0","0",COUNTIF(AD12:AD59,AD60))) | AL60: BYE | AM60: =COUNTIF(AS12:AS60,"W") -> 0 | AN60: =IF(AR60="","",COUNTIF(AR12:AR60,"-")) | AQ60: BYE
A61: 50 | R61: =IF(AND(ISBLANK(D61),ISBLANK(K61)),"",IF(AND(H61="-",O61="-"),"-",IF(AND(H61="-",ISBLANK(K61)),"-",MIN(H61,O61)))) | W61: =IF(R61="","",COUNTIF(R12:R61,"-")) | AE61: =IF(R61="","",IF(AD61="0","0",COUNTIF(AD12:AD60,AD61))) | AL61: BYE | AM61: =COUNTIF(AS12:AS61,"W") -> 0 | AN61: =IF(AR61="","",COUNTIF(AR12:AR61,"-")) | AQ61: BYE
A62: 51 | R62: =IF(AND(ISBLANK(D62),ISBLANK(K62)),"",IF(AND(H62="-",O62="-"),"-",IF(AND(H62="-",ISBLANK(K62)),"-",MIN(H62,O62)))) | W62: =IF(R62="","",COUNTIF(R12:R62,"-")) | AE62: =IF(R62="","",IF(AD62="0","0",COUNTIF(AD12:AD61,AD62))) | AL62: BYE | AM62: =COUNTIF(AS12:AS62,"W") -> 0 | AN62: =IF(AR62="","",COUNTIF(AR12:AR62,"-")) | AQ62: BYE
A63: 52 | R63: =IF(AND(ISBLANK(D63),ISBLANK(K63)),"",IF(AND(H63="-",O63="-"),"-",IF(AND(H63="-",ISBLANK(K63)),"-",MIN(H63,O63)))) | W63: =IF(R63="","",COUNTIF(R12:R63,"-")) | AE63: =IF(R63="","",IF(AD63="0","0",COUNTIF(AD12:AD62,AD63))) | AL63: BYE | AM63: =COUNTIF(AS12:AS63,"W") -> 0 | AN63: =IF(AR63="","",COUNTIF(AR12:AR63,"-")) | AQ63: BYE
A64: 53 | R64: =IF(AND(ISBLANK(D64),ISBLANK(K64)),"",IF(AND(H64="-",O64="-"),"-",IF(AND(H64="-",ISBLANK(K64)),"-",MIN(H64,O64)))) | W64: =IF(R64="","",COUNTIF(R12:R64,"-")) | AE64: =IF(R64="","",IF(AD64="0","0",COUNTIF(AD12:AD63,AD64))) | AL64: BYE | AM64: =COUNTIF(AS12:AS64,"W") -> 0 | AN64: =IF(AR64="","",COUNTIF(AR12:AR64,"-")) | AQ64: BYE
A65: 54 | R65: =IF(AND(ISBLANK(D65),ISBLANK(K65)),"",IF(AND(H65="-",O65="-"),"-",IF(AND(H65="-",ISBLANK(K65)),"-",MIN(H65,O65)))) | W65: =IF(R65="","",COUNTIF(R12:R65,"-")) | AE65: =IF(R65="","",IF(AD65="0","0",COUNTIF(AD12:AD64,AD65))) | AL65: BYE | AM65: =COUNTIF(AS12:AS65,"W") -> 0 | AN65: =IF(AR65="","",COUNTIF(AR12:AR65,"-")) | AQ65: BYE
A66: 55 | R66: =IF(AND(ISBLANK(D66),ISBLANK(K66)),"",IF(AND(H66="-",O66="-"),"-",IF(AND(H66="-",ISBLANK(K66)),"-",MIN(H66,O66)))) | W66: =IF(R66="","",COUNTIF(R12:R66,"-")) | AE66: =IF(R66="","",IF(AD66="0","0",COUNTIF(AD12:AD65,AD66))) | AL66: BYE | AM66: =COUNTIF(AS12:AS66,"W") -> 0 | AN66: =IF(AR66="","",COUNTIF(AR12:AR66,"-")) | AQ66: BYE
A67: 56 | R67: =IF(AND(ISBLANK(D67),ISBLANK(K67)),"",IF(AND(H67="-",O67="-"),"-",IF(AND(H67="-",ISBLANK(K67)),"-",MIN(H67,O67)))) | W67: =IF(R67="","",COUNTIF(R12:R67,"-")) | AE67: =IF(R67="","",IF(AD67="0","0",COUNTIF(AD12:AD66,AD67))) | AL67: BYE | AM67: =COUNTIF(AS12:AS67,"W") -> 0 | AN67: =IF(AR67="","",COUNTIF(AR12:AR67,"-")) | AQ67: BYE
A68: 57 | R68: =IF(AND(ISBLANK(D68),ISBLANK(K68)),"",IF(AND(H68="-",O68="-"),"-",IF(AND(H68="-",ISBLANK(K68)),"-",MIN(H68,O68)))) | W68: =IF(R68="","",COUNTIF(R12:R68,"-")) | AE68: =IF(R68="","",IF(R68="","",IF(AD68="0","0",COUNTIF(AD12:AD67,AD68)))) | AL68: BYE | AM68: =COUNTIF(AS12:AS68,"W") -> 0 | AN68: =IF(AR68="","",COUNTIF(AR12:AR68,"-")) | AQ68: BYE
A69: 58 | R69: =IF(AND(ISBLANK(D69),ISBLANK(K69)),"",IF(AND(H69="-",O69="-"),"-",IF(AND(H69="-",ISBLANK(K69)),"-",MIN(H69,O69)))) | W69: =IF(R69="","",COUNTIF(R12:R69,"-")) | AE69: =IF(R69="","",IF(R69="","",IF(AD69="0","0",COUNTIF(AD12:AD68,AD69)))) | AL69: BYE | AM69: =COUNTIF(AS12:AS69,"W") -> 0 | AN69: =IF(AR69="","",COUNTIF(AR12:AR69,"-")) | AQ69: BYE
A70: 59 | R70: =IF(AND(ISBLANK(D70),ISBLANK(K70)),"",IF(AND(H70="-",O70="-"),"-",IF(AND(H70="-",ISBLANK(K70)),"-",MIN(H70,O70)))) | W70: =IF(R70="","",COUNTIF(R12:R70,"-")) | AE70: =IF(R70="","",IF(R70="","",IF(AD70="0","0",COUNTIF(AD12:AD69,AD70)))) | AL70: BYE | AM70: =COUNTIF(AS12:AS70,"W") -> 0 | AN70: =IF(AR70="","",COUNTIF(AR12:AR70,"-")) | AQ70: BYE
A71: 60 | R71: =IF(AND(ISBLANK(D71),ISBLANK(K71)),"",IF(AND(H71="-",O71="-"),"-",IF(AND(H71="-",ISBLANK(K71)),"-",MIN(H71,O71)))) | W71: =IF(R71="","",COUNTIF(R12:R71,"-")) | AE71: =IF(R71="","",IF(AD71="0","0",COUNTIF(AD12:AD70,AD71))) | AL71: BYE | AM71: =COUNTIF(AS12:AS71,"W") -> 0 | AN71: =IF(AR71="","",COUNTIF(AR12:AR71,"-")) | AQ71: BYE
A72: 61 | R72: =IF(AND(ISBLANK(D72),ISBLANK(K72)),"",IF(AND(H72="-",O72="-"),"-",IF(AND(H72="-",ISBLANK(K72)),"-",MIN(H72,O72)))) | W72: =IF(R72="","",COUNTIF(R12:R72,"-")) | AE72: =IF(R72="","",IF(AD72="0","0",COUNTIF(AD52:AD71,AD72))) | AL72: BYE | AM72: =COUNTIF(AS12:AS72,"W") -> 0 | AN72: =IF(AR72="","",COUNTIF(AR12:AR72,"-")) | AQ72: BYE
A73: 62 | R73: =IF(AND(ISBLANK(D73),ISBLANK(K73)),"",IF(AND(H73="-",O73="-"),"-",IF(AND(H73="-",ISBLANK(K73)),"-",MIN(H73,O73)))) | W73: =IF(R73="","",COUNTIF(R12:R73,"-")) | AE73: =IF(R73="","",IF(AD73="0","0",COUNTIF(AD12:AD72,AD73))) | AL73: BYE | AM73: =COUNTIF(AS12:AS73,"W") -> 0 | AN73: =IF(AR73="","",COUNTIF(AR12:AR73,"-")) | AQ73: BYE
A74: 63 | R74: =IF(AND(ISBLANK(D74),ISBLANK(K74)),"",IF(AND(H74="-",O74="-"),"-",IF(AND(H74="-",ISBLANK(K74)),"-",MIN(H74,O74)))) | W74: =IF(R74="","",COUNTIF(R12:R74,"-")) | AE74: =IF(R74="","",IF(AD74="0","0",COUNTIF(AD12:AD73,AD74))) | AL74: BYE | AM74: =COUNTIF(AS12:AS74,"W") -> 0 | AN74: =IF(AR74="","",COUNTIF(AR12:AR74,"-")) | AQ74: BYE
A75: 64 | R75: =IF(AND(ISBLANK(D75),ISBLANK(K75)),"",IF(AND(H75="-",O75="-"),"-",IF(AND(H75="-",ISBLANK(K75)),"-",MIN(H75,O75)))) | W75: =IF(R75="","",COUNTIF(R12:R75,"-")) | AE75: =IF(R75="","",IF(AD75="0","0",COUNTIF(AD12:AD74,AD75))) | AL75: BYE | AM75: =COUNTIF(AS12:AS75,"W") -> 0 | AN75: =IF(AR75="","",COUNTIF(AR12:AR75,"-")) | AQ75: BYE
A76: 65 | R76: =IF(AND(ISBLANK(D76),ISBLANK(K76)),"",IF(AND(H76="-",O76="-"),"-",IF(AND(H76="-",ISBLANK(K76)),"-",MIN(H76,O76)))) | W76: =IF(R76="","",COUNTIF(R12:R76,"-")) | AE76: =IF(R76="","",IF(AD76="0","0",COUNTIF(AD12:AD75,AD76))) | AL76: BYE | AM76: =COUNTIF(AS12:AS76,"W") -> 0 | AN76: =IF(AR76="","",COUNTIF(AR12:AR76,"-")) | AQ76: BYE
A77: 66 | R77: =IF(AND(ISBLANK(D77),ISBLANK(K77)),"",IF(AND(H77="-",O77="-"),"-",IF(AND(H77="-",ISBLANK(K77)),"-",MIN(H77,O77)))) | W77: =IF(R77="","",COUNTIF(R12:R77,"-")) | AE77: =IF(R77="","",IF(AD77="0","0",COUNTIF(AD12:AD76,AD77))) | AL77: BYE | AM77: =COUNTIF(AS12:AS77,"W") -> 0 | AN77: =IF(AR77="","",COUNTIF(AR12:AR77,"-")) | AQ77: BYE
A78: 67 | R78: =IF(AND(ISBLANK(D78),ISBLANK(K78)),"",IF(AND(H78="-",O78="-"),"-",IF(AND(H78="-",ISBLANK(K78)),"-",MIN(H78,O78)))) | W78: =IF(R78="","",COUNTIF(R12:R78,"-")) | AE78: =IF(R78="","",IF(AD78="0","0",COUNTIF(AD12:AD77,AD78))) | AL78: BYE | AM78: =COUNTIF(AS12:AS78,"W") -> 0 | AN78: =IF(AR78="","",COUNTIF(AR12:AR78,"-")) | AQ78: BYE
A79: 68 | R79: =IF(AND(ISBLANK(D79),ISBLANK(K79)),"",IF(AND(H79="-",O79="-"),"-",IF(AND(H79="-",ISBLANK(K79)),"-",MIN(H79,O79)))) | W79: =IF(R79="","",COUNTIF(R12:R79,"-")) | AE79: =IF(R79="","",IF(AD79="0","0",COUNTIF(AD12:AD78,AD79))) | AL79: BYE | AM79: =COUNTIF(AS12:AS79,"W") -> 0 | AN79: =IF(AR79="","",COUNTIF(AR12:AR79,"-")) | AQ79: BYE
A80: 69 | R80: =IF(AND(ISBLANK(D80),ISBLANK(K80)),"",IF(AND(H80="-",O80="-"),"-",IF(AND(H80="-",ISBLANK(K80)),"-",MIN(H80,O80)))) | W80: =IF(R80="","",COUNTIF(R12:R80,"-")) | AE80: =IF(R80="","",IF(AD80="0","0",COUNTIF(AD12:AD79,AD80))) | AL80: BYE | AM80: =COUNTIF(AS12:AS80,"W") -> 0 | AN80: =IF(AR80="","",COUNTIF(AR12:AR80,"-")) | AQ80: BYE
A81: 70 | R81: =IF(AND(ISBLANK(D81),ISBLANK(K81)),"",IF(AND(H81="-",O81="-"),"-",IF(AND(H81="-",ISBLANK(K81)),"-",MIN(H81,O81)))) | W81: =IF(R81="","",COUNTIF(R12:R81,"-")) | AE81: =IF(R81="","",IF(AD81="0","0",COUNTIF(AD12:AD80,AD81))) | AL81: BYE | AM81: =COUNTIF(AS12:AS81,"W") -> 0 | AN81: =IF(AR81="","",COUNTIF(AR12:AR81,"-")) | AQ81: BYE
A82: 71 | R82: =IF(AND(ISBLANK(D82),ISBLANK(K82)),"",IF(AND(H82="-",O82="-"),"-",IF(AND(H82="-",ISBLANK(K82)),"-",MIN(H82,O82)))) | W82: =IF(R82="","",COUNTIF(R12:R82,"-")) | AE82: =IF(R82="","",IF(AD82="0","0",COUNTIF(AD12:AD81,AD82))) | AL82: BYE | AM82: =COUNTIF(AS12:AS82,"W") -> 0 | AN82: =IF(AR82="","",COUNTIF(AR12:AR82,"-")) | AQ82: BYE
A83: 72 | R83: =IF(AND(ISBLANK(D83),ISBLANK(K83)),"",IF(AND(H83="-",O83="-"),"-",IF(AND(H83="-",ISBLANK(K83)),"-",MIN(H83,O83)))) | W83: =IF(R83="","",COUNTIF(R12:R83,"-")) | AE83: =IF(R83="","",IF(AD83="0","0",COUNTIF(AD12:AD82,AD83))) | AL83: BYE | AM83: =COUNTIF(AS12:AS83,"W") -> 0 | AN83: =IF(AR83="","",COUNTIF(AR12:AR83,"-")) | AQ83: BYE
A84: 73 | R84: =IF(AND(ISBLANK(D84),ISBLANK(K84)),"",IF(AND(H84="-",O84="-"),"-",IF(AND(H84="-",ISBLANK(K84)),"-",MIN(H84,O84)))) | W84: =IF(R84="","",COUNTIF(R12:R84,"-")) | AE84: =IF(R84="","",IF(AD84="0","0",COUNTIF(AD12:AD83,AD84))) | AL84: BYE | AM84: =COUNTIF(AS12:AS84,"W") -> 0 | AN84: =IF(AR84="","",COUNTIF(AR12:AR84,"-")) | AQ84: BYE
A85: 74 | R85: =IF(AND(ISBLANK(D85),ISBLANK(K85)),"",IF(AND(H85="-",O85="-"),"-",IF(AND(H85="-",ISBLANK(K85)),"-",MIN(H85,O85)))) | W85: =IF(R85="","",COUNTIF(R12:R85,"-")) | AE85: =IF(R85="","",IF(AD85="0","0",COUNTIF(AD12:AD84,AD85))) | AL85: BYE | AM85: =COUNTIF(AS12:AS85,"W") -> 0 | AN85: =IF(AR85="","",COUNTIF(AR12:AR85,"-")) | AQ85: BYE
A86: 75 | R86: =IF(AND(ISBLANK(D86),ISBLANK(K86)),"",IF(AND(H86="-",O86="-"),"-",IF(AND(H86="-",ISBLANK(K86)),"-",MIN(H86,O86)))) | W86: =IF(R86="","",COUNTIF(R12:R86,"-")) | AE86: =IF(R86="","",IF(AD86="0","0",COUNTIF(AD12:AD85,AD86))) | AL86: BYE | AM86: =COUNTIF(AS12:AS86,"W") -> 0 | AN86: =IF(AR86="","",COUNTIF(AR12:AR86,"-")) | AQ86: BYE
A87: 76 | R87: =IF(AND(ISBLANK(D87),ISBLANK(K87)),"",IF(AND(H87="-",O87="-"),"-",IF(AND(H87="-",ISBLANK(K87)),"-",MIN(H87,O87)))) | W87: =IF(R87="","",COUNTIF(R12:R87,"-")) | AE87: =IF(R87="","",IF(AD87="0","0",COUNTIF(AD12:AD86,AD87))) | AL87: BYE | AM87: =COUNTIF(AS12:AS87,"W") -> 0 | AN87: =IF(AR87="","",COUNTIF(AR12:AR87,"-")) | AQ87: BYE
A88: 77 | R88: =IF(AND(ISBLANK(D88),ISBLANK(K88)),"",IF(AND(H88="-",O88="-"),"-",IF(AND(H88="-",ISBLANK(K88)),"-",MIN(H88,O88)))) | W88: =IF(R88="","",COUNTIF(R12:R88,"-")) | AE88: =IF(R88="","",IF(AD88="0","0",COUNTIF(AD12:AD87,AD88))) | AL88: BYE | AM88: =COUNTIF(AS12:AS88,"W") -> 0 | AN88: =IF(AR88="","",COUNTIF(AR12:AR88,"-")) | AQ88: BYE
A89: 78 | R89: =IF(AND(ISBLANK(D89),ISBLANK(K89)),"",IF(AND(H89="-",O89="-"),"-",IF(AND(H89="-",ISBLANK(K89)),"-",MIN(H89,O89)))) | W89: =IF(R89="","",COUNTIF(R12:R89,"-")) | AE89: =IF(R89="","",IF(AD89="0","0",COUNTIF(AD12:AD88,AD89))) | AL89: BYE | AM89: =COUNTIF(AS12:AS89,"W") -> 0 | AN89: =IF(AR89="","",COUNTIF(AR12:AR89,"-")) | AQ89: BYE
A90: 79 | R90: =IF(AND(ISBLANK(D90),ISBLANK(K90)),"",IF(AND(H90="-",O90="-"),"-",IF(AND(H90="-",ISBLANK(K90)),"-",MIN(H90,O90)))) | W90: =IF(R90="","",COUNTIF(R12:R90,"-")) | AE90: =IF(R90="","",IF(AD90="0","0",COUNTIF(AD12:AD89,AD90))) | AL90: BYE | AM90: =COUNTIF(AS12:AS90,"W") -> 0 | AN90: =IF(AR90="","",COUNTIF(AR12:AR90,"-")) | AQ90: BYE
A91: 80 | R91: =IF(AND(ISBLANK(D91),ISBLANK(K91)),"",IF(AND(H91="-",O91="-"),"-",IF(AND(H91="-",ISBLANK(K91)),"-",MIN(H91,O91)))) | W91: =IF(R91="","",COUNTIF(R12:R91,"-")) | AE91: =IF(R91="","",IF(AD91="0","0",COUNTIF(AD12:AD90,AD91))) | AL91: BYE | AM91: =COUNTIF(AS12:AS91,"W") -> 0 | AN91: =IF(AR91="","",COUNTIF(AR12:AR91,"-")) | AQ91: BYE
A92: 81 | R92: =IF(AND(ISBLANK(D92),ISBLANK(K92)),"",IF(AND(H92="-",O92="-"),"-",IF(AND(H92="-",ISBLANK(K92)),"-",MIN(H92,O92)))) | W92: =IF(R92="","",COUNTIF(R12:R92,"-")) | AE92: =IF(R92="","",IF(AD92="0","0",COUNTIF(AD12:AD91,AD92))) | AL92: BYE | AM92: =COUNTIF(AS12:AS92,"W") -> 0 | AN92: =IF(AR92="","",COUNTIF(AR12:AR92,"-")) | AQ92: BYE
A93: 82 | R93: =IF(AND(ISBLANK(D93),ISBLANK(K93)),"",IF(AND(H93="-",O93="-"),"-",IF(AND(H93="-",ISBLANK(K93)),"-",MIN(H93,O93)))) | W93: =IF(R93="","",COUNTIF(R12:R93,"-")) | AE93: =IF(R93="","",IF(AD93="0","0",COUNTIF(AD12:AD92,AD93))) | AL93: BYE | AM93: =COUNTIF(AS12:AS93,"W") -> 0 | AN93: =IF(AR93="","",COUNTIF(AR12:AR93,"-")) | AQ93: BYE
A94: 83 | R94: =IF(AND(ISBLANK(D94),ISBLANK(K94)),"",IF(AND(H94="-",O94="-"),"-",IF(AND(H94="-",ISBLANK(K94)),"-",MIN(H94,O94)))) | W94: =IF(R94="","",COUNTIF(R12:R94,"-")) | AE94: =IF(R94="","",IF(AD94="0","0",COUNTIF(AD12:AD93,AD94))) | AL94: BYE | AM94: =COUNTIF(AS12:AS94,"W") -> 0 | AN94: =IF(AR94="","",COUNTIF(AR12:AR94,"-")) | AQ94: BYE
A95: 84 | R95: =IF(AND(ISBLANK(D95),ISBLANK(K95)),"",IF(AND(H95="-",O95="-"),"-",IF(AND(H95="-",ISBLANK(K95)),"-",MIN(H95,O95)))) | W95: =IF(R95="","",COUNTIF(R12:R95,"-")) | AE95: =IF(R95="","",IF(AD95="0","0",COUNTIF(AD12:AD94,AD95))) | AL95: BYE | AM95: =COUNTIF(AS12:AS95,"W") -> 0 | AN95: =IF(AR95="","",COUNTIF(AR12:AR95,"-")) | AQ95: BYE
A96: 85 | R96: =IF(AND(ISBLANK(D96),ISBLANK(K96)),"",IF(AND(H96="-",O96="-"),"-",IF(AND(H96="-",ISBLANK(K96)),"-",MIN(H96,O96)))) | W96: =IF(R96="","",COUNTIF(R12:R96,"-")) | AE96: =IF(R96="","",IF(AD96="0","0",COUNTIF(AD12:AD95,AD96))) | AL96: BYE | AM96: =COUNTIF(AS12:AS96,"W") -> 0 | AN96: =IF(AR96="","",COUNTIF(AR12:AR96,"-")) | AQ96: BYE
A97: 86 | R97: =IF(AND(ISBLANK(D97),ISBLANK(K97)),"",IF(AND(H97="-",O97="-"),"-",IF(AND(H97="-",ISBLANK(K97)),"-",MIN(H97,O97)))) | W97: =IF(R97="","",COUNTIF(R12:R97,"-")) | AE97: =IF(R97="","",IF(AD97="0","0",COUNTIF(AD12:AD96,AD97))) | AL97: BYE | AM97: =COUNTIF(AS12:AS97,"W") -> 0 | AN97: =IF(AR97="","",COUNTIF(AR12:AR97,"-")) | AQ97: BYE
A98: 87 | R98: =IF(AND(ISBLANK(D98),ISBLANK(K98)),"",IF(AND(H98="-",O98="-"),"-",IF(AND(H98="-",ISBLANK(K98)),"-",MIN(H98,O98)))) | W98: =IF(R98="","",COUNTIF(R12:R98,"-")) | AE98: =IF(R98="","",IF(AD98="0","0",COUNTIF(AD12:AD97,AD98))) | AL98: BYE | AM98: =COUNTIF(AS12:AS98,"W") -> 0 | AN98: =IF(AR98="","",COUNTIF(AR12:AR98,"-")) | AQ98: BYE
A99: 88 | R99: =IF(AND(ISBLANK(D99),ISBLANK(K99)),"",IF(AND(H99="-",O99="-"),"-",IF(AND(H99="-",ISBLANK(K99)),"-",MIN(H99,O99)))) | W99: =IF(R99="","",COUNTIF(R12:R99,"-")) | AE99: =IF(R99="","",IF(AD99="0","0",COUNTIF(AD12:AD98,AD99))) | AL99: BYE | AM99: =COUNTIF(AS12:AS99,"W") -> 0 | AN99: =IF(AR99="","",COUNTIF(AR12:AR99,"-")) | AQ99: BYE
A100: 89 | R100: =IF(AND(ISBLANK(D100),ISBLANK(K100)),"",IF(AND(H100="-",O100="-"),"-",IF(AND(H100="-",ISBLANK(K100)),"-",MIN(H100,O100)))) | W100: =IF(R100="","",COUNTIF(R12:R100,"-")) | AE100: =IF(R100="","",IF(AD100="0","0",COUNTIF(AD12:AD99,AD100))) | AL100: BYE | AM100: =COUNTIF(AS12:AS100,"W") -> 0 | AN100: =IF(AR100="","",COUNTIF(AR12:AR100,"-")) | AQ100: BYE
A101: 90 | R101: =IF(AND(ISBLANK(D101),ISBLANK(K101)),"",IF(AND(H101="-",O101="-"),"-",IF(AND(H101="-",ISBLANK(K101)),"-",MIN(H101,O101)))) | W101: =IF(R101="","",COUNTIF(R12:R101,"-")) | AE101: =IF(R101="","",IF(AD101="0","0",COUNTIF(AD12:AD100,AD101))) | AL101: BYE | AM101: =COUNTIF(AS12:AS101,"W") -> 0 | AN101: =IF(AR101="","",COUNTIF(AR12:AR101,"-")) | AQ101: BYE
...

Sheet Am Elims
C1: Moscow City Race: Afterparty | Q1: Database development by
C2: 23 May 2015 • Moscow, Krasnaya presnya park | Q2: Dan Gesmer, SeismicSK8@aol.com
A3: 32 | B3: Top Bracket (32-16-8-4-2) | C3: Tight / Open Eliminations
A5: Qualifying Position | B5: Racer No. & Name | C5: Run 1 | J5: R1 Margin | K5: Run 2 | R5: R2 Margin | S5: Round Winner & Combined Margin | T5: Loser’s Final Placement | U5: Round Loser | V5: Qualifying Time | W5: Qualifying Position
C6: Raw Time | D6: Cones | E6: Reaction Time | F6: False Start | G6: Final Time | H6: Run Rank | I6: Winner & Margin | K6: Raw Time | L6: Cones | M6: Reaction Time | N6: False Start | O6: Final Time | P6: Run Rank | Q6: Winner & Margin
B7: Round of 32
A8: 1 | B8: =IF(A3<A8,"BYE",IF(ISERROR(VLOOKUP(A8,'Am Quals'!AO12:'Am Quals'!AQ111,3,FALSE))=TRUE,"BYE",VLOOKUP(A8,'Am Quals'!AO12:'Am Quals'!AQ111,3,FALSE))) -> Kolesov Anton | G8: {=IF(LEFT(C8:C39,1)="D","-",IF(D8:D39>'Am Quals'!A6,"-",IF(C8:C39>0,C8:C39+D8:D39*'Am Quals'!A5+F8:F39*'Am Quals'!A7,"")))} | H8: {=IF(G8:G39="","", IF(G8:G39="-","", RANK(G8:G39,G8:G39,1)))} | I8: =IF(AND(LEFT(C8,1)="D",LEFT(C9,1)="D"),"",IF(OR(C8="DNR",C9="DNR"),IF(C8="DNR",B9,B8),IF(OR(ISBLANK(C8),ISBLANK(C9)),"",IF(G8=G9,"TIE",IF(G8>G9,B9,B8))))) | O8: {=IF(LEFT(K8:K39,1)="D","-",IF(L8:L39>'Am Quals'!A6,"-",IF(K8:K39>0,K8:K39+L8:L39*'Am Quals'!A5+N8:N39*'Am Quals'!A7,"")))} | P8: {=IF(O8:O39="","",IF(O8:O39="-","", RANK(O8:O39,O8:O39,1)))} | Q8: =IF(AND(LEFT(K8,1)="D",LEFT(K9,1)="D"),"",IF(OR(K8="DNR",K9="DNR"),IF(K8="DNR",B9,B8),IF(OR(ISBLANK(K8),ISBLANK(K9)),"",IF(O8=O9,"TIE",IF(O8>O9,B9,B8))))) | S8: =IF(B9="BYE", B8, IF(ISERROR(J9+R9)=TRUE,"",IF(J9+R9=0,"TIE - HOLD RUNOFF",IF(J9+R9>0,B9,B8)))) -> Kolesov Anton
A9: 32 | B9: =IF(A3<A9,"BYE",IF(ISERROR(VLOOKUP(A9,'Am Quals'!AO12:'Am Quals'!AQ111,3,FALSE))=TRUE,"BYE",VLOOKUP(A9,'Am Quals'!AO12:'Am Quals'!AQ111,3,FALSE))) -> BYE | I9: =IF(AND(LEFT(C8,1)="D",LEFT(C9,1)="D"),"",IF(OR(C8="DNR",C9="DNR"),"by "&ABS(J9)&" seconds",IF(OR(ISBLANK(C8),ISBLANK(C9),G8=G9),"","by "&ABS(J9)&" seconds"))) | J9: =IF(AND(LEFT(C8,1)="D",LEFT(C9,1)="D"),"0",IF(OR(C8="DNR",C9="DNR"),IF(C8="DNR",1,-1)*'Am Quals'!A8,IF(OR(ISBLANK(C8),ISBLANK(C9)),"",IF(OR(G8="-",G9="-"),IF(G8="-",1,-1)*'Am Quals'!A8,IF(ABS(G8-G9)>'Am Quals'!A9,IF(G8-G9>'Am Quals'!A9,1,-1)*'Am Quals'!A9,ROUND(G8-G9,3)))))) | Q9: =IF(AND(LEFT(K8,1)="D",LEFT(K9,1)="D"),"",IF(OR(K8="DNR",K9="DNR"),"by "&ABS(R9)&" seconds",IF(OR(ISBLANK(K8),ISBLANK(K9),O8=O9),"","by "&ABS(R9)&" seconds"))) | R9: =IF(AND(LEFT(K8,1)="D",LEFT(K9,1)="D"),"0",IF(OR(K8="DNR",K9="DNR"),IF(K8="DNR",1,-1)*'Am Quals'!A8,IF(OR(ISBLANK(K8),ISBLANK(K9)),"",IF(OR(O8="-",O9="-"),IF(O8="-",1,-1)*'Am Quals'!A8,IF(ABS(O8-O9)>'Am Quals'!A9,IF(O8-O9>'Am Quals'!A9,1,-1)*'Am Quals'!A9,ROUND(O8-O9,3)))))) | S9: =IF(B9="BYE","(BYE)",IF(ISERROR(J9+R9)=TRUE,"",IF(J9+R9=0,"","by "&ABS(J9+R9)&" seconds"))) -> (BYE) | T9: {=IF(W9:W39="","",IF(ISERROR(W9:W39)=TRUE,"",16+RANK(W9:W39,W9:W39,1)))} | U9: =IF(B9="BYE", B9, IF(ISERROR(J9+R9)=TRUE,"",IF(J9+R9>0,B8,B9))) -> BYE | V9: =IF(ISERROR(VLOOKUP(U9,'Am Quals'!U12:V111,2,FALSE))=TRUE,"",VLOOKUP(U9,'Am Quals'!U12:V111,2,FALSE)) | W9: =IF(ISERROR(VLOOKUP(U9,'Am Quals'!AL12:AO111,4,FALSE))=TRUE,"",VLOOKUP(U9,'Am Quals'!AL12:AO111,4,FALSE))
A10: 16 | B10: =IF(A3<A10,"BYE",IF(ISERROR(VLOOKUP(A10,'Am Quals'!AO12:'Am Quals'!AQ111,3,FALSE))=TRUE,"BYE",VLOOKUP(A10,'Am Quals'!AO12:'Am Quals'!AQ111,3,FALSE))) -> BYE | I10: =IF(AND(LEFT(C10,1)="D",LEFT(C11,1)="D"),"",IF(OR(C10="DNR",C11="DNR"),IF(C10="DNR",B11,B10),IF(OR(ISBLANK(C10),ISBLANK(C11)),"",IF(G10=G11,"TIE",IF(G10>G11,B11,B10))))) | Q10: =IF(AND(LEFT(K10,1)="D",LEFT(K11,1)="D"),"",IF(OR(K10="DNR",K11="DNR"),IF(K10="DNR",B11,B10),IF(OR(ISBLANK(K10),ISBLANK(K11)),"",IF(O10=O11,"TIE",IF(O10>O11,B11,B10))))) | S10: =IF(B11="BYE", B10, IF(ISERROR(J11+R11)=TRUE,"",IF(J11+R11=0,"TIE - HOLD RUNOFF",IF(J11+R11>0,B11,B10)))) -> BYE
A11: 17 | B11: =IF(A3<A11,"BYE",IF(ISERROR(VLOOKUP(A11,'Am Quals'!AO12:'Am Quals'!AQ111,3,FALSE))=TRUE,"BYE",VLOOKUP(A11,'Am Quals'!AO12:'Am Quals'!AQ111,3,FALSE))) -> BYE | I11: =IF(AND(LEFT(C10,1)="D",LEFT(C11,1)="D"),"",IF(OR(C10="DNR",C11="DNR"),"by "&ABS(J11)&" seconds",IF(OR(ISBLANK(C10),ISBLANK(C11),G10=G11),"","by "&ABS(J11)&" seconds"))) | J11: =IF(AND(LEFT(C10,1)="D",LEFT(C11,1)="D"),"0",IF(OR(C10="DNR",C11="DNR"),IF(C10="DNR",1,-1)*'Am Quals'!A8,IF(OR(ISBLANK(C10),ISBLANK(C11)),"",IF(OR(G10="-",G11="-"),IF(G10="-",1,-1)*'Am Quals'!A8,IF(ABS(G10-G11)>'Am Quals'!A9,IF(G10-G11>'Am Quals'!A9,1,-1)*'Am Quals'!A9,ROUND(G10-G11,3)))))) | Q11: =IF(AND(LEFT(K10,1)="D",LEFT(K11,1)="D"),"",IF(OR(K10="DNR",K11="DNR"),"by "&ABS(R11)&" seconds",IF(OR(ISBLANK(K10),ISBLANK(K11),O10=O11),"","by "&ABS(R11)&" seconds"))) | R11: =IF(AND(LEFT(K10,1)="D",LEFT(K11,1)="D"),"0",IF(OR(K10="DNR",K11="DNR"),IF(K10="DNR",1,-1)*'Am Quals'!A8,IF(OR(ISBLANK(K10),ISBLANK(K11)),"",IF(OR(O10="-",O11="-"),IF(O10="-",1,-1)*'Am Quals'!A8,IF(ABS(O10-O11)>'Am Quals'!A9,IF(O10-O11>'Am Quals'!A9,1,-1)*'Am Quals'!A9,ROUND(O10-O11,3)))))) | S11: =IF(B11="BYE","(BYE)",IF(ISERROR(J11+R11)=TRUE,"",IF(J11+R11=0,"","by "&ABS(J11+R11)&" seconds"))) -> (BYE) | U11: =IF(B11="BYE", B11, IF(ISERROR(J11+R11)=TRUE,"",IF(J11+R11>0,B10,B11))) -> BYE | V11: =IF(ISERROR(VLOOKUP(U11,'Am Quals'!U12:V111,2,FALSE))=TRUE,"",VLOOKUP(U11,'Am Quals'!U12:V111,2,FALSE)) | W11: =IF(ISERROR(VLOOKUP(U11,'Am Quals'!AL12:AO111,4,FALSE))=TRUE,"",VLOOKUP(U11,'Am Quals'!AL12:AO111,4,FALSE))
A12: 8 | B12: =IF(A3<A12,"BYE",IF(ISERROR(VLOOKUP(A12,'Am Quals'!AO12:'Am Quals'!AQ111,3,FALSE))=TRUE,"BYE",VLOOKUP(A12,'Am Quals'!AO12:'Am Quals'!AQ111,3,FALSE))) -> Popov Igor | I12: =IF(AND(LEFT(C12,1)="D",LEFT(C13,1)="D"),"",IF(OR(C12="DNR",C13="DNR"),IF(C12="DNR",B13,B12),IF(OR(ISBLANK(C12),ISBLANK(C13)),"",IF(G12=G13,"TIE",IF(G12>G13,B13,B12))))) | Q12: =IF(AND(LEFT(K12,1)="D",LEFT(K13,1)="D"),"",IF(OR(K12="DNR",K13="DNR"),IF(K12="DNR",B13,B12),IF(OR(ISBLANK(K12),ISBLANK(K13)),"",IF(O12=O13,"TIE",IF(O12>O13,B13,B12))))) | S12: =IF(B13="BYE", B12, IF(ISERROR(J13+R13)=TRUE,"",IF(J13+R13=0,"TIE - HOLD RUNOFF",IF(J13+R13>0,B13,B12)))) -> Popov Igor
A13: 25 | B13: =IF(A3<A13,"BYE",IF(ISERROR(VLOOKUP(A13,'Am Quals'!AO12:'Am Quals'!AQ111,3,FALSE))=TRUE,"BYE",VLOOKUP(A13,'Am Quals'!AO12:'Am Quals'!AQ111,3,FALSE))) -> BYE | I13: =IF(AND(LEFT(C12,1)="D",LEFT(C13,1)="D"),"",IF(OR(C12="DNR",C13="DNR"),"by "&ABS(J13)&" seconds",IF(OR(ISBLANK(C12),ISBLANK(C13),G12=G13),"","by "&ABS(J13)&" seconds"))) | J13: =IF(AND(LEFT(C12,1)="D",LEFT(C13,1)="D"),"0",IF(OR(C12="DNR",C13="DNR"),IF(C12="DNR",1,-1)*'Am Quals'!A8,IF(OR(ISBLANK(C12),ISBLANK(C13)),"",IF(OR(G12="-",G13="-"),IF(G12="-",1,-1)*'Am Quals'!A8,IF(ABS(G12-G13)>'Am Quals'!A9,IF(G12-G13>'Am Quals'!A9,1,-1)*'Am Quals'!A9,ROUND(G12-G13,3)))))) | Q13: =IF(AND(LEFT(K12,1)="D",LEFT(K13,1)="D"),"",IF(OR(K12="DNR",K13="DNR"),"by "&ABS(R13)&" seconds",IF(OR(ISBLANK(K12),ISBLANK(K13),O12=O13),"","by "&ABS(R13)&" seconds"))) | R13: =IF(AND(LEFT(K12,1)="D",LEFT(K13,1)="D"),"0",IF(OR(K12="DNR",K13="DNR"),IF(K12="DNR",1,-1)*'Am Quals'!A8,IF(OR(ISBLANK(K12),ISBLANK(K13)),"",IF(OR(O12="-",O13="-"),IF(O12="-",1,-1)*'Am Quals'!A8,IF(ABS(O12-O13)>'Am Quals'!A9,IF(O12-O13>'Am Quals'!A9,1,-1)*'Am Quals'!A9,ROUND(O12-O13,3)))))) | S13: =IF(B13="BYE","(BYE)",IF(ISERROR(J13+R13)=TRUE,"",IF(J13+R13=0,"","by "&ABS(J13+R13)&" seconds"))) -> (BYE) | U13: =IF(B13="BYE", B13, IF(ISERROR(J13+R13)=TRUE,"",IF(J13+R13>0,B12,B13))) -> BYE | V13: =IF(ISERROR(VLOOKUP(U13,'Am Quals'!U12:V111,2,FALSE))=TRUE,"",VLOOKUP(U13,'Am Quals'!U12:V111,2,FALSE)) | W13: =IF(ISERROR(VLOOKUP(U13,'Am Quals'!AL12:AO111,4,FALSE))=TRUE,"",VLOOKUP(U13,'Am Quals'!AL12:AO111,4,FALSE))
A14: 9 | B14: =IF(A3<A14,"BYE",IF(ISERROR(VLOOKUP(A14,'Am Quals'!AO12:'Am Quals'!AQ111,3,FALSE))=TRUE,"BYE",VLOOKUP(A14,'Am Quals'!AO12:'Am Quals'!AQ111,3,FALSE))) -> BYE | I14: =IF(AND(LEFT(C14,1)="D",LEFT(C15,1)="D"),"",IF(OR(C14="DNR",C15="DNR"),IF(C14="DNR",B15,B14),IF(OR(ISBLANK(C14),ISBLANK(C15)),"",IF(G14=G15,"TIE",IF(G14>G15,B15,B14))))) | Q14: =IF(AND(LEFT(K14,1)="D",LEFT(K15,1)="D"),"",IF(OR(K14="DNR",K15="DNR"),IF(K14="DNR",B15,B14),IF(OR(ISBLANK(K14),ISBLANK(K15)),"",IF(O14=O15,"TIE",IF(O14>O15,B15,B14))))) | S14: =IF(B15="BYE", B14, IF(ISERROR(J15+R15)=TRUE,"",IF(J15+R15=0,"TIE - HOLD RUNOFF",IF(J15+R15>0,B15,B14)))) -> BYE
A15: 24 | B15: =IF(A3<A15,"BYE",IF(ISERROR(VLOOKUP(A15,'Am Quals'!AO12:'Am Quals'!AQ111,3,FALSE))=TRUE,"BYE",VLOOKUP(A15,'Am Quals'!AO12:'Am Quals'!AQ111,3,FALSE))) -> BYE | I15: =IF(AND(LEFT(C14,1)="D",LEFT(C15,1)="D"),"",IF(OR(C14="DNR",C15="DNR"),"by "&ABS(J15)&" seconds",IF(OR(ISBLANK(C14),ISBLANK(C15),G14=G15),"","by "&ABS(J15)&" seconds"))) | J15: =IF(AND(LEFT(C14,1)="D",LEFT(C15,1)="D"),"0",IF(OR(C14="DNR",C15="DNR"),IF(C14="DNR",1,-1)*'Am Quals'!A8,IF(OR(ISBLANK(C14),ISBLANK(C15)),"",IF(OR(G14="-",G15="-",),IF(G14="-",1,-1)*'Am Quals'!A8,IF(ABS(G14-G15)>'Am Quals'!A9,IF(G14-G15>'Am Quals'!A9,1,-1)*'Am Quals'!A9,ROUND(G14-G15,3)))))) | Q15: =IF(AND(LEFT(K14,1)="D",LEFT(K15,1)="D"),"",IF(OR(K14="DNR",K15="DNR"),"by "&ABS(R15)&" seconds",IF(OR(ISBLANK(K14),ISBLANK(K15),O14=O15),"","by "&ABS(R15)&" seconds"))) | R15: =IF(AND(LEFT(K14,1)="D",LEFT(K15,1)="D"),"0",IF(OR(K14="DNR",K15="DNR"),IF(K14="DNR",1,-1)*'Am Quals'!A8,IF(OR(ISBLANK(K14),ISBLANK(K15)),"",IF(OR(O14="-",O15="-"),IF(O14="-",1,-1)*'Am Quals'!A8,IF(ABS(O14-O15)>'Am Quals'!A9,IF(O14-O15>'Am Quals'!A9,1,-1)*'Am Quals'!A9,ROUND(O14-O15,3)))))) | S15: =IF(B15="BYE","(BYE)",IF(ISERROR(J15+R15)=TRUE,"",IF(J15+R15=0,"","by "&ABS(J15+R15)&" seconds"))) -> (BYE) | U15: =IF(B15="BYE", B15, IF(ISERROR(J15+R15)=TRUE,"",IF(J15+R15>0,B14,B15))) -> BYE | V15: =IF(ISERROR(VLOOKUP(U15,'Am Quals'!U12:V111,2,FALSE))=TRUE,"",VLOOKUP(U15,'Am Quals'!U12:V111,2,FALSE)) | W15: =IF(ISERROR(VLOOKUP(U15,'Am Quals'!AL12:AO111,4,FALSE))=TRUE,"",VLOOKUP(U15,'Am Quals'!AL12:AO111,4,FALSE))
A16: 4 | B16: =IF(A3<A16,"BYE",IF(ISERROR(VLOOKUP(A16,'Am Quals'!AO12:'Am Quals'!AQ111,3,FALSE))=TRUE,"BYE",VLOOKUP(A16,'Am Quals'!AO12:'Am Quals'!AQ111,3,FALSE))) -> Artemov Georgy | I16: =IF(AND(LEFT(C16,1)="D",LEFT(C17,1)="D"),"",IF(OR(C16="DNR",C17="DNR"),IF(C16="DNR",B17,B16),IF(OR(ISBLANK(C16),ISBLANK(C17)),"",IF(G16=G17,"TIE",IF(G16>G17,B17,B16))))) | Q16: =IF(AND(LEFT(K16,1)="D",LEFT(K17,1)="D"),"",IF(OR(K16="DNR",K17="DNR"),IF(K16="DNR",B17,B16),IF(OR(ISBLANK(K16),ISBLANK(K17)),"",IF(O16=O17,"TIE",IF(O16>O17,B17,B16))))) | S16: =IF(B17="BYE", B16, IF(ISERROR(J17+R17)=TRUE,"",IF(J17+R17=0,"TIE - HOLD RUNOFF",IF(J17+R17>0,B17,B16)))) -> Artemov Georgy
A17: 29 | B17: =IF(A3<A17,"BYE",IF(ISERROR(VLOOKUP(A17,'Am Quals'!AO12:'Am Quals'!AQ111,3,FALSE))=TRUE,"BYE",VLOOKUP(A17,'Am Quals'!AO12:'Am Quals'!AQ111,3,FALSE))) -> BYE | I17: =IF(AND(LEFT(C16,1)="D",LEFT(C17,1)="D"),"",IF(OR(C16="DNR",C17="DNR"),"by "&ABS(J17)&" seconds",IF(OR(ISBLANK(C16),ISBLANK(C17),G16=G17),"","by "&ABS(J17)&" seconds"))) | J17: =IF(AND(LEFT(C16,1)="D",LEFT(C17,1)="D"),"0",IF(OR(C16="DNR",C17="DNR"),IF(C16="DNR",1,-1)*'Am Quals'!A8,IF(OR(ISBLANK(C16),ISBLANK(C17)),"",IF(OR(G16="-",G17="-"),IF(G16="-",1,-1)*'Am Quals'!A8,IF(ABS(G16-G17)>'Am Quals'!A9,IF(G16-G17>'Am Quals'!A9,1,-1)*'Am Quals'!A9,ROUND(G16-G17,3)))))) | Q17: =IF(AND(LEFT(K16,1)="D",LEFT(K17,1)="D"),"",IF(OR(K16="DNR",K17="DNR"),"by "&ABS(R17)&" seconds",IF(OR(ISBLANK(K16),ISBLANK(K17),O16=O17),"","by "&ABS(R17)&" seconds"))) | R17: =IF(AND(LEFT(K16,1)="D",LEFT(K17,1)="D"),"0",IF(OR(K16="DNR",K17="DNR"),IF(K16="DNR",1,-1)*'Am Quals'!A8,IF(OR(ISBLANK(K16),ISBLANK(K17)),"",IF(OR(O16="-",O17="-"),IF(O16="-",1,-1)*'Am Quals'!A8,IF(ABS(O16-O17)>'Am Quals'!A9,IF(O16-O17>'Am Quals'!A9,1,-1)*'Am Quals'!A9,ROUND(O16-O17,3)))))) | S17: =IF(B17="BYE","(BYE)",IF(ISERROR(J17+R17)=TRUE,"",IF(J17+R17=0,"","by "&ABS(J17+R17)&" seconds"))) -> (BYE) | U17: =IF(B17="BYE", B17, IF(ISERROR(J17+R17)=TRUE,"",IF(J17+R17>0,B16,B17))) -> BYE | V17: =IF(ISERROR(VLOOKUP(U17,'Am Quals'!U12:V111,2,FALSE))=TRUE,"",VLOOKUP(U17,'Am Quals'!U12:V111,2,FALSE)) | W17: =IF(ISERROR(VLOOKUP(U17,'Am Quals'!AL12:AO111,4,FALSE))=TRUE,"",VLOOKUP(U17,'Am Quals'!AL12:AO111,4,FALSE))
A18: 13 | B18: =IF(A3<A18,"BYE",IF(ISERROR(VLOOKUP(A18,'Am Quals'!AO12:'Am Quals'!AQ111,3,FALSE))=TRUE,"BYE",VLOOKUP(A18,'Am Quals'!AO12:'Am Quals'!AQ111,3,FALSE))) -> BYE | I18: =IF(AND(LEFT(C18,1)="D",LEFT(C19,1)="D"),"",IF(OR(C18="DNR",C19="DNR"),IF(C18="DNR",B19,B18),IF(OR(ISBLANK(C18),ISBLANK(C19)),"",IF(G18=G19,"TIE",IF(G18>G19,B19,B18))))) | Q18: =IF(AND(LEFT(K18,1)="D",LEFT(K19,1)="D"),"",IF(OR(K18="DNR",K19="DNR"),IF(K18="DNR",B19,B18),IF(OR(ISBLANK(K18),ISBLANK(K19)),"",IF(O18=O19,"TIE",IF(O18>O19,B19,B18))))) | S18: =IF(B19="BYE", B18, IF(ISERROR(J19+R19)=TRUE,"",IF(J19+R19=0,"TIE - HOLD RUNOFF",IF(J19+R19>0,B19,B18)))) -> BYE
A19: 20 | B19: =IF(A3<A19,"BYE",IF(ISERROR(VLOOKUP(A19,'Am Quals'!AO12:'Am Quals'!AQ111,3,FALSE))=TRUE,"BYE",VLOOKUP(A19,'Am Quals'!AO12:'Am Quals'!AQ111,3,FALSE))) -> BYE | I19: =IF(AND(LEFT(C18,1)="D",LEFT(C19,1)="D"),"",IF(OR(C18="DNR",C19="DNR"),"by "&ABS(J19)&" seconds",IF(OR(ISBLANK(C18),ISBLANK(C19),G18=G19),"","by "&ABS(J19)&" seconds"))) | J19: =IF(AND(LEFT(C18,1)="D",LEFT(C19,1)="D"),"0",IF(OR(C18="DNR",C19="DNR"),IF(C18="DNR",1,-1)*'Am Quals'!A8,IF(OR(ISBLANK(C18),ISBLANK(C19)),"",IF(OR(G18="-",G19="-"),IF(G18="-",1,-1)*'Am Quals'!A8,IF(ABS(G18-G19)>'Am Quals'!A9,IF(G18-G19>'Am Quals'!A9,1,-1)*'Am Quals'!A9,ROUND(G18-G19,3)))))) | Q19: =IF(AND(LEFT(K18,1)="D",LEFT(K19,1)="D"),"",IF(OR(K18="DNR",K19="DNR"),"by "&ABS(R19)&" seconds",IF(OR(ISBLANK(K18),ISBLANK(K19),O18=O19),"","by "&ABS(R19)&" seconds"))) | R19: =IF(AND(LEFT(K18,1)="D",LEFT(K19,1)="D"),"0",IF(OR(K18="DNR",K19="DNR"),IF(K18="DNR",1,-1)*'Am Quals'!A8,IF(OR(ISBLANK(K18),ISBLANK(K19)),"",IF(OR(O18="-",O19="-"),IF(O18="-",1,-1)*'Am Quals'!A8,IF(ABS(O18-O19)>'Am Quals'!A9,IF(O18-O19>'Am Quals'!A9,1,-1)*'Am Quals'!A9,ROUND(O18-O19,3)))))) | S19: =IF(B19="BYE","(BYE)",IF(ISERROR(J19+R19)=TRUE,"",IF(J19+R19=0,"","by "&ABS(J19+R19)&" seconds"))) -> (BYE) | U19: =IF(B19="BYE", B19, IF(ISERROR(J19+R19)=TRUE,"",IF(J19+R19>0,B18,B19))) -> BYE | V19: =IF(ISERROR(VLOOKUP(U19,'Am Quals'!U12:V111,2,FALSE))=TRUE,"",VLOOKUP(U19,'Am Quals'!U12:V111,2,FALSE)) | W19: =IF(ISERROR(VLOOKUP(U19,'Am Quals'!AL12:AO111,4,FALSE))=TRUE,"",VLOOKUP(U19,'Am Quals'!AL12:AO111,4,FALSE))
A20: 5 | B20: =IF(A3<A20,"BYE",IF(ISERROR(VLOOKUP(A20,'Am Quals'!AO12:'Am Quals'!AQ111,3,FALSE))=TRUE,"BYE",VLOOKUP(A20,'Am Quals'!AO12:'Am Quals'!AQ111,3,FALSE))) -> Savin Aleksandr | I20: =IF(AND(LEFT(C20,1)="D",LEFT(C21,1)="D"),"",IF(OR(C20="DNR",C21="DNR"),IF(C20="DNR",B21,B20),IF(OR(ISBLANK(C20),ISBLANK(C21)),"",IF(G20=G21,"TIE",IF(G20>G21,B21,B20))))) | Q20: =IF(AND(LEFT(K20,1)="D",LEFT(K21,1)="D"),"",IF(OR(K20="DNR",K21="DNR"),IF(K20="DNR",B21,B20),IF(OR(ISBLANK(K20),ISBLANK(K21)),"",IF(O20=O21,"TIE",IF(O20>O21,B21,B20))))) | S20: =IF(B21="BYE", B20, IF(ISERROR(J21+R21)=TRUE,"",IF(J21+R21=0,"TIE - HOLD RUNOFF",IF(J21+R21>0,B21,B20)))) -> Savin Aleksandr
A21: 28 | B21: =IF(A3<A21,"BYE",IF(ISERROR(VLOOKUP(A21,'Am Quals'!AO12:'Am Quals'!AQ111,3,FALSE))=TRUE,"BYE",VLOOKUP(A21,'Am Quals'!AO12:'Am Quals'!AQ111,3,FALSE))) -> BYE | I21: =IF(AND(LEFT(C20,1)="D",LEFT(C21,1)="D"),"",IF(OR(C20="DNR",C21="DNR"),"by "&ABS(J21)&" seconds",IF(OR(ISBLANK(C20),ISBLANK(C21),G20=G21),"","by "&ABS(J21)&" seconds"))) | J21: =IF(AND(LEFT(C20,1)="D",LEFT(C21,1)="D"),"0",IF(OR(C20="DNR",C21="DNR"),IF(C20="DNR",1,-1)*'Am Quals'!A8,IF(OR(ISBLANK(C20),ISBLANK(C21)),"",IF(OR(G20="-",G21="-"),IF(G20="-",1,-1)*'Am Quals'!A8,IF(ABS(G20-G21)>'Am Quals'!A9,IF(G20-G21>'Am Quals'!A9,1,-1)*'Am Quals'!A9,ROUND(G20-G21,3)))))) | Q21: =IF(AND(LEFT(K20,1)="D",LEFT(K21,1)="D"),"",IF(OR(K20="DNR",K21="DNR"),"by "&ABS(R21)&" seconds",IF(OR(ISBLANK(K20),ISBLANK(K21),O20=O21),"","by "&ABS(R21)&" seconds"))) | R21: =IF(AND(LEFT(K20,1)="D",LEFT(K21,1)="D"),"0",IF(OR(K20="DNR",K21="DNR"),IF(K20="DNR",1,-1)*'Am Quals'!A8,IF(OR(ISBLANK(K20),ISBLANK(K21)),"",IF(OR(O20="-",O21="-"),IF(O20="-",1,-1)*'Am Quals'!A8,IF(ABS(O20-O21)>'Am Quals'!A9,IF(O20-O21>'Am Quals'!A9,1,-1)*'Am Quals'!A9,ROUND(O20-O21,3)))))) | S21: =IF(B21="BYE","(BYE)",IF(ISERROR(J21+R21)=TRUE,"",IF(J21+R21=0,"","by "&ABS(J21+R21)&" seconds"))) -> (BYE) | U21: =IF(B21="BYE", B21, IF(ISERROR(J21+R21)=TRUE,"",IF(J21+R21>0,B20,B21))) -> BYE | V21: =IF(ISERROR(VLOOKUP(U21,'Am Quals'!U12:V111,2,FALSE))=TRUE,"",VLOOKUP(U21,'Am Quals'!U12:V111,2,FALSE)) | W21: =IF(ISERROR(VLOOKUP(U21,'Am Quals'!AL12:AO111,4,FALSE))=TRUE,"",VLOOKUP(U21,'Am Quals'!AL12:AO111,4,FALSE))
A22: 12 | B22: =IF(A3<A22,"BYE",IF(ISERROR(VLOOKUP(A22,'Am Quals'!AO12:'Am Quals'!AQ111,3,FALSE))=TRUE,"BYE",VLOOKUP(A22,'Am Quals'!AO12:'Am Quals'!AQ111,3,FALSE))) -> BYE | I22: =IF(AND(LEFT(C22,1)="D",LEFT(C23,1)="D"),"",IF(OR(C22="DNR",C23="DNR"),IF(C22="DNR",B23,B22),IF(OR(ISBLANK(C22),ISBLANK(C23)),"",IF(G22=G23,"TIE",IF(G22>G23,B23,B22))))) | Q22: =IF(AND(LEFT(K22,1)="D",LEFT(K23,1)="D"),"",IF(OR(K22="DNR",K23="DNR"),IF(K22="DNR",B23,B22),IF(OR(ISBLANK(K22),ISBLANK(K23)),"",IF(O22=O23,"TIE",IF(O22>O23,B23,B22))))) | S22: =IF(B23="BYE", B22, IF(ISERROR(J23+R23)=TRUE,"",IF(J23+R23=0,"TIE - HOLD RUNOFF",IF(J23+R23>0,B23,B22)))) -> BYE
A23: 21 | B23: =IF(A3<A23,"BYE",IF(ISERROR(VLOOKUP(A23,'Am Quals'!AO12:'Am Quals'!AQ111,3,FALSE))=TRUE,"BYE",VLOOKUP(A23,'Am Quals'!AO12:'Am Quals'!AQ111,3,FALSE))) -> BYE | I23: =IF(AND(LEFT(C22,1)="D",LEFT(C23,1)="D"),"",IF(OR(C22="DNR",C23="DNR"),"by "&ABS(J23)&" seconds",IF(OR(ISBLANK(C22),ISBLANK(C23),G22=G23),"","by "&ABS(J23)&" seconds"))) | J23: =IF(AND(LEFT(C22,1)="D",LEFT(C23,1)="D"),"0",IF(OR(C22="DNR",C23="DNR"),IF(C22="DNR",1,-1)*'Am Quals'!A8,IF(OR(ISBLANK(C22),ISBLANK(C23)),"",IF(OR(G22="-",G23="-"),IF(G22="-",1,-1)*'Am Quals'!A8,IF(ABS(G22-G23)>'Am Quals'!A9,IF(G22-G23>'Am Quals'!A9,1,-1)*'Am Quals'!A9,ROUND(G22-G23,3)))))) | Q23: =IF(AND(LEFT(K22,1)="D",LEFT(K23,1)="D"),"",IF(OR(K22="DNR",K23="DNR"),"by "&ABS(R23)&" seconds",IF(OR(ISBLANK(K22),ISBLANK(K23),O22=O23),"","by "&ABS(R23)&" seconds"))) | R23: =IF(AND(LEFT(K22,1)="D",LEFT(K23,1)="D"),"0",IF(OR(K22="DNR",K23="DNR"),IF(K22="DNR",1,-1)*'Am Quals'!A8,IF(OR(ISBLANK(K22),ISBLANK(K23)),"",IF(OR(O22="-",O23="-"),IF(O22="-",1,-1)*'Am Quals'!A8,IF(ABS(O22-O23)>'Am Quals'!A9,IF(O22-O23>'Am Quals'!A9,1,-1)*'Am Quals'!A9,ROUND(O22-O23,3)))))) | S23: =IF(B23="BYE","(BYE)",IF(ISERROR(J23+R23)=TRUE,"",IF(J23+R23=0,"","by "&ABS(J23+R23)&" seconds"))) -> (BYE) | U23: =IF(B23="BYE", B23, IF(ISERROR(J23+R23)=TRUE,"",IF(J23+R23>0,B22,B23))) -> BYE | V23: =IF(ISERROR(VLOOKUP(U23,'Am Quals'!U12:V111,2,FALSE))=TRUE,"",VLOOKUP(U23,'Am Quals'!U12:V111,2,FALSE)) | W23: =IF(ISERROR(VLOOKUP(U23,'Am Quals'!AL12:AO111,4,FALSE))=TRUE,"",VLOOKUP(U23,'Am Quals'!AL12:AO111,4,FALSE))
A24: 2 | B24: =IF(A3<A24,"BYE",IF(ISERROR(VLOOKUP(A24,'Am Quals'!AO12:'Am Quals'!AQ111,3,FALSE))=TRUE,"BYE",VLOOKUP(A24,'Am Quals'!AO12:'Am Quals'!AQ111,3,FALSE))) -> Nikulin Anton | I24: =IF(AND(LEFT(C24,1)="D",LEFT(C25,1)="D"),"",IF(OR(C24="DNR",C25="DNR"),IF(C24="DNR",B25,B24),IF(OR(ISBLANK(C24),ISBLANK(C25)),"",IF(G24=G25,"TIE",IF(G24>G25,B25,B24))))) | Q24: =IF(AND(LEFT(K24,1)="D",LEFT(K25,1)="D"),"",IF(OR(K24="DNR",K25="DNR"),IF(K24="DNR",B25,B24),IF(OR(ISBLANK(K24),ISBLANK(K25)),"",IF(O24=O25,"TIE",IF(O24>O25,B25,B24))))) | S24: =IF(B25="BYE", B24, IF(ISERROR(J25+R25)=TRUE,"",IF(J25+R25=0,"TIE - HOLD RUNOFF",IF(J25+R25>0,B25,B24)))) -> Nikulin Anton
A25: 31 | B25: =IF(A3<A25,"BYE",IF(ISERROR(VLOOKUP(A25,'Am Quals'!AO12:'Am Quals'!AQ111,3,FALSE))=TRUE,"BYE",VLOOKUP(A25,'Am Quals'!AO12:'Am Quals'!AQ111,3,FALSE))) -> BYE | I25: =IF(AND(LEFT(C24,1)="D",LEFT(C25,1)="D"),"",IF(OR(C24="DNR",C25="DNR"),"by "&ABS(J25)&" seconds",IF(OR(ISBLANK(C24),ISBLANK(C25),G24=G25),"","by "&ABS(J25)&" seconds"))) | J25: =IF(AND(LEFT(C24,1)="D",LEFT(C25,1)="D"),"0",IF(OR(C24="DNR",C25="DNR"),IF(C24="DNR",1,-1)*'Am Quals'!A8,IF(OR(ISBLANK(C24),ISBLANK(C25)),"",IF(OR(G24="-",G25="-"),IF(G24="-",1,-1)*'Am Quals'!A8,IF(ABS(G24-G25)>'Am Quals'!A9,IF(G24-G25>'Am Quals'!A9,1,-1)*'Am Quals'!A9,ROUND(G24-G25,3)))))) | Q25: =IF(AND(LEFT(K24,1)="D",LEFT(K25,1)="D"),"",IF(OR(K24="DNR",K25="DNR"),"by "&ABS(R25)&" seconds",IF(OR(ISBLANK(K24),ISBLANK(K25),O24=O25),"","by "&ABS(R25)&" seconds"))) | R25: =IF(AND(LEFT(K24,1)="D",LEFT(K25,1)="D"),"0",IF(OR(K24="DNR",K25="DNR"),IF(K24="DNR",1,-1)*'Am Quals'!A8,IF(OR(ISBLANK(K24),ISBLANK(K25)),"",IF(OR(O24="-",O25="-"),IF(O24="-",1,-1)*'Am Quals'!A8,IF(ABS(O24-O25)>'Am Quals'!A9,IF(O24-O25>'Am Quals'!A9,1,-1)*'Am Quals'!A9,ROUND(O24-O25,3)))))) | S25: =IF(B25="BYE","(BYE)",IF(ISERROR(J25+R25)=TRUE,"",IF(J25+R25=0,"","by "&ABS(J25+R25)&" seconds"))) -> (BYE) | U25: =IF(B25="BYE", B25, IF(ISERROR(J25+R25)=TRUE,"",IF(J25+R25>0,B24,B25))) -> BYE | V25: =IF(ISERROR(VLOOKUP(U25,'Am Quals'!U12:V111,2,FALSE))=TRUE,"",VLOOKUP(U25,'Am Quals'!U12:V111,2,FALSE)) | W25: =IF(ISERROR(VLOOKUP(U25,'Am Quals'!AL12:AO111,4,FALSE))=TRUE,"",VLOOKUP(U25,'Am Quals'!AL12:AO111,4,FALSE))
A26: 15 | B26: =IF(A3<A26,"BYE",IF(ISERROR(VLOOKUP(A26,'Am Quals'!AO12:'Am Quals'!AQ111,3,FALSE))=TRUE,"BYE",VLOOKUP(A26,'Am Quals'!AO12:'Am Quals'!AQ111,3,FALSE))) -> BYE | I26: =IF(AND(LEFT(C26,1)="D",LEFT(C27,1)="D"),"",IF(OR(C26="DNR",C27="DNR"),IF(C26="DNR",B27,B26),IF(OR(ISBLANK(C26),ISBLANK(C27)),"",IF(G26=G27,"TIE",IF(G26>G27,B27,B26))))) | Q26: =IF(AND(LEFT(K26,1)="D",LEFT(K27,1)="D"),"",IF(OR(K26="DNR",K27="DNR"),IF(K26="DNR",B27,B26),IF(OR(ISBLANK(K26),ISBLANK(K27)),"",IF(O26=O27,"TIE",IF(O26>O27,B27,B26))))) | S26: =IF(B27="BYE", B26, IF(ISERROR(J27+R27)=TRUE,"",IF(J27+R27=0,"TIE - HOLD RUNOFF",IF(J27+R27>0,B27,B26)))) -> BYE
A27: 18 | B27: =IF(A3<A27,"BYE",IF(ISERROR(VLOOKUP(A27,'Am Quals'!AO12:'Am Quals'!AQ111,3,FALSE))=TRUE,"BYE",VLOOKUP(A27,'Am Quals'!AO12:'Am Quals'!AQ111,3,FALSE))) -> BYE | I27: =IF(AND(LEFT(C26,1)="D",LEFT(C27,1)="D"),"",IF(OR(C26="DNR",C27="DNR"),"by "&ABS(J27)&" seconds",IF(OR(ISBLANK(C26),ISBLANK(C27),G26=G27),"","by "&ABS(J27)&" seconds"))) | J27: =IF(AND(LEFT(C26,1)="D",LEFT(C27,1)="D"),"0",IF(OR(C26="DNR",C27="DNR"),IF(C26="DNR",1,-1)*'Am Quals'!A8,IF(OR(ISBLANK(C26),ISBLANK(C27)),"",IF(OR(G26="-",G27="-"),IF(G26="-",1,-1)*'Am Quals'!A8,IF(ABS(G26-G27)>'Am Quals'!A9,IF(G26-G27>'Am Quals'!A9,1,-1)*'Am Quals'!A9,ROUND(G26-G27,3)))))) | Q27: =IF(AND(LEFT(K26,1)="D",LEFT(K27,1)="D"),"",IF(OR(K26="DNR",K27="DNR"),"by "&ABS(R27)&" seconds",IF(OR(ISBLANK(K26),ISBLANK(K27),O26=O27),"","by "&ABS(R27)&" seconds"))) | R27: =IF(AND(LEFT(K26,1)="D",LEFT(K27,1)="D"),"0",IF(OR(K26="DNR",K27="DNR"),IF(K26="DNR",1,-1)*'Am Quals'!A8,IF(OR(ISBLANK(K26),ISBLANK(K27)),"",IF(OR(O26="-",O27="-"),IF(O26="-",1,-1)*'Am Quals'!A8,IF(ABS(O26-O27)>'Am Quals'!A9,IF(O26-O27>'Am Quals'!A9,1,-1)*'Am Quals'!A9,ROUND(O26-O27,3)))))) | S27: =IF(B27="BYE","(BYE)",IF(ISERROR(J27+R27)=TRUE,"",IF(J27+R27=0,"","by "&ABS(J27+R27)&" seconds"))) -> (BYE) | U27: =IF(B27="BYE", B27, IF(ISERROR(J27+R27)=TRUE,"",IF(J27+R27>0,B26,B27))) -> BYE | V27: =IF(ISERROR(VLOOKUP(U27,'Am Quals'!U12:V111,2,FALSE))=TRUE,"",VLOOKUP(U27,'Am Quals'!U12:V111,2,FALSE)) | W27: =IF(ISERROR(VLOOKUP(U27,'Am Quals'!AL12:AO111,4,FALSE))=TRUE,"",VLOOKUP(U27,'Am Quals'!AL12:AO111,4,FALSE))
A28: 7 | B28: =IF(A3<A28,"BYE",IF(ISERROR(VLOOKUP(A28,'Am Quals'!AO12:'Am Quals'!AQ111,3,FALSE))=TRUE,"BYE",VLOOKUP(A28,'Am Quals'!AO12:'Am Quals'!AQ111,3,FALSE))) -> Rogachev Vladimir | I28: =IF(AND(LEFT(C28,1)="D",LEFT(C29,1)="D"),"",IF(OR(C28="DNR",C29="DNR"),IF(C28="DNR",B29,B28),IF(OR(ISBLANK(C28),ISBLANK(C29)),"",IF(G28=G29,"TIE",IF(G28>G29,B29,B28))))) | Q28: =IF(AND(LEFT(K28,1)="D",LEFT(K29,1)="D"),"",IF(OR(K28="DNR",K29="DNR"),IF(K28="DNR",B29,B28),IF(OR(ISBLANK(K28),ISBLANK(K29)),"",IF(O28=O29,"TIE",IF(O28>O29,B29,B28))))) | S28: =IF(B29="BYE", B28, IF(ISERROR(J29+R29)=TRUE,"",IF(J29+R29=0,"TIE - HOLD RUNOFF",IF(J29+R29>0,B29,B28)))) -> Rogachev Vladimir
A29: 26 | B29: =IF(A3<A29,"BYE",IF(ISERROR(VLOOKUP(A29,'Am Quals'!AO12:'Am Quals'!AQ111,3,FALSE))=TRUE,"BYE",VLOOKUP(A29,'Am Quals'!AO12:'Am Quals'!AQ111,3,FALSE))) -> BYE | I29: =IF(AND(LEFT(C28,1)="D",LEFT(C29,1)="D"),"",IF(OR(C28="DNR",C29="DNR"),"by "&ABS(J29)&" seconds",IF(OR(ISBLANK(C28),ISBLANK(C29),G28=G29),"","by "&ABS(J29)&" seconds"))) | J29: =IF(AND(LEFT(C28,1)="D",LEFT(C29,1)="D"),"0",IF(OR(C28="DNR",C29="DNR"),IF(C28="DNR",1,-1)*'Am Quals'!A8,IF(OR(ISBLANK(C28),ISBLANK(C29)),"",IF(OR(G28="-",G29="-"),IF(G28="-",1,-1)*'Am Quals'!A8,IF(ABS(G28-G29)>'Am Quals'!A9,IF(G28-G29>'Am Quals'!A9,1,-1)*'Am Quals'!A9,ROUND(G28-G29,3)))))) | Q29: =IF(AND(LEFT(K28,1)="D",LEFT(K29,1)="D"),"",IF(OR(K28="DNR",K29="DNR"),"by "&ABS(R29)&" seconds",IF(OR(ISBLANK(K28),ISBLANK(K29),O28=O29),"","by "&ABS(R29)&" seconds"))) | R29: =IF(AND(LEFT(K28,1)="D",LEFT(K29,1)="D"),"0",IF(OR(K28="DNR",K29="DNR"),IF(K28="DNR",1,-1)*'Am Quals'!A8,IF(OR(ISBLANK(K28),ISBLANK(K29)),"",IF(OR(O28="-",O29="-"),IF(O28="-",1,-1)*'Am Quals'!A8,IF(ABS(O28-O29)>'Am Quals'!A9,IF(O28-O29>'Am Quals'!A9,1,-1)*'Am Quals'!A9,ROUND(O28-O29,3)))))) | S29: =IF(B29="BYE","(BYE)",IF(ISERROR(J29+R29)=TRUE,"",IF(J29+R29=0,"","by "&ABS(J29+R29)&" seconds"))) -> (BYE) | U29: =IF(B29="BYE", B29, IF(ISERROR(J29+R29)=TRUE,"",IF(J29+R29>0,B28,B29))) -> BYE | V29: =IF(ISERROR(VLOOKUP(U29,'Am Quals'!U12:V111,2,FALSE))=TRUE,"",VLOOKUP(U29,'Am Quals'!U12:V111,2,FALSE)) | W29: =IF(ISERROR(VLOOKUP(U29,'Am Quals'!AL12:AO111,4,FALSE))=TRUE,"",VLOOKUP(U29,'Am Quals'!AL12:AO111,4,FALSE))
A30: 10 | B30: =IF(A3<A30,"BYE",IF(ISERROR(VLOOKUP(A30,'Am Quals'!AO12:'Am Quals'!AQ111,3,FALSE))=TRUE,"BYE",VLOOKUP(A30,'Am Quals'!AO12:'Am Quals'!AQ111,3,FALSE))) -> BYE | I30: =IF(AND(LEFT(C30,1)="D",LEFT(C31,1)="D"),"",IF(OR(C30="DNR",C31="DNR"),IF(C30="DNR",B31,B30),IF(OR(ISBLANK(C30),ISBLANK(C31)),"",IF(G30=G31,"TIE",IF(G30>G31,B31,B30))))) | Q30: =IF(AND(LEFT(K30,1)="D",LEFT(K31,1)="D"),"",IF(OR(K30="DNR",K31="DNR"),IF(K30="DNR",B31,B30),IF(OR(ISBLANK(K30),ISBLANK(K31)),"",IF(O30=O31,"TIE",IF(O30>O31,B31,B30))))) | S30: =IF(B31="BYE", B30, IF(ISERROR(J31+R31)=TRUE,"",IF(J31+R31=0,"TIE - HOLD RUNOFF",IF(J31+R31>0,B31,B30)))) -> BYE
A31: 23 | B31: =IF(A3<A31,"BYE",IF(ISERROR(VLOOKUP(A31,'Am Quals'!AO12:'Am Quals'!AQ111,3,FALSE))=TRUE,"BYE",VLOOKUP(A31,'Am Quals'!AO12:'Am Quals'!AQ111,3,FALSE))) -> BYE | I31: =IF(AND(LEFT(C30,1)="D",LEFT(C31,1)="D"),"",IF(OR(C30="DNR",C31="DNR"),"by "&ABS(J31)&" seconds",IF(OR(ISBLANK(C30),ISBLANK(C31),G30=G31),"","by "&ABS(J31)&" seconds"))) | J31: =IF(AND(LEFT(C30,1)="D",LEFT(C31,1)="D"),"0",IF(OR(C30="DNR",C31="DNR"),IF(C30="DNR",1,-1)*'Am Quals'!A8,IF(OR(ISBLANK(C30),ISBLANK(C31)),"",IF(OR(G30="-",G31="-"),IF(G30="-",1,-1)*'Am Quals'!A8,IF(ABS(G30-G31)>'Am Quals'!A9,IF(G30-G31>'Am Quals'!A9,1,-1)*'Am Quals'!A9,ROUND(G30-G31,3)))))) | Q31: =IF(AND(LEFT(K30,1)="D",LEFT(K31,1)="D"),"",IF(OR(K30="DNR",K31="DNR"),"by "&ABS(R31)&" seconds",IF(OR(ISBLANK(K30),ISBLANK(K31),O30=O31),"","by "&ABS(R31)&" seconds"))) | R31: =IF(AND(LEFT(K30,1)="D",LEFT(K31,1)="D"),"0",IF(OR(K30="DNR",K31="DNR"),IF(K30="DNR",1,-1)*'Am Quals'!A8,IF(OR(ISBLANK(K30),ISBLANK(K31)),"",IF(OR(O30="-",O31="-"),IF(O30="-",1,-1)*'Am Quals'!A8,IF(ABS(O30-O31)>'Am Quals'!A9,IF(O30-O31>'Am Quals'!A9,1,-1)*'Am Quals'!A9,ROUND(O30-O31,3)))))) | S31: =IF(B31="BYE","(BYE)",IF(ISERROR(J31+R31)=TRUE,"",IF(J31+R31=0,"","by "&ABS(J31+R31)&" seconds"))) -> (BYE) | U31: =IF(B31="BYE", B31, IF(ISERROR(J31+R31)=TRUE,"",IF(J31+R31>0,B30,B31))) -> BYE | V31: =IF(ISERROR(VLOOKUP(U31,'Am Quals'!U12:V111,2,FALSE))=TRUE,"",VLOOKUP(U31,'Am Quals'!U12:V111,2,FALSE)) | W31: =IF(ISERROR(VLOOKUP(U31,'Am Quals'!AL12:AO111,4,FALSE))=TRUE,"",VLOOKUP(U31,'Am Quals'!AL12:AO111,4,FALSE))
A32: 3 | B32: =IF(A3<A32,"BYE",IF(ISERROR(VLOOKUP(A32,'Am Quals'!AO12:'Am Quals'!AQ111,3,FALSE))=TRUE,"BYE",VLOOKUP(A32,'Am Quals'!AO12:'Am Quals'!AQ111,3,FALSE))) -> Glushko Oleg | I32: =IF(AND(LEFT(C32,1)="D",LEFT(C33,1)="D"),"",IF(OR(C32="DNR",C33="DNR"),IF(C32="DNR",B33,B32),IF(OR(ISBLANK(C32),ISBLANK(C33)),"",IF(G32=G33,"TIE",IF(G32>G33,B33,B32))))) | Q32: =IF(AND(LEFT(K32,1)="D",LEFT(K33,1)="D"),"",IF(OR(K32="DNR",K33="DNR"),IF(K32="DNR",B33,B32),IF(OR(ISBLANK(K32),ISBLANK(K33)),"",IF(O32=O33,"TIE",IF(O32>O33,B33,B32))))) | S32: =IF(B33="BYE", B32, IF(ISERROR(J33+R33)=TRUE,"",IF(J33+R33=0,"TIE - HOLD RUNOFF",IF(J33+R33>0,B33,B32)))) -> Glushko Oleg
A33: 30 | B33: =IF(A3<A33,"BYE",IF(ISERROR(VLOOKUP(A33,'Am Quals'!AO12:'Am Quals'!AQ111,3,FALSE))=TRUE,"BYE",VLOOKUP(A33,'Am Quals'!AO12:'Am Quals'!AQ111,3,FALSE))) -> BYE | I33: =IF(AND(LEFT(C32,1)="D",LEFT(C33,1)="D"),"",IF(OR(C32="DNR",C33="DNR"),"by "&ABS(J33)&" seconds",IF(OR(ISBLANK(C32),ISBLANK(C33),G32=G33),"","by "&ABS(J33)&" seconds"))) | J33: =IF(AND(LEFT(C32,1)="D",LEFT(C33,1)="D"),"0",IF(OR(C32="DNR",C33="DNR"),IF(C32="DNR",1,-1)*'Am Quals'!A8,IF(OR(ISBLANK(C32),ISBLANK(C33)),"",IF(OR(G32="-",G33="-"),IF(G32="-",1,-1)*'Am Quals'!A8,IF(ABS(G32-G33)>'Am Quals'!A9,IF(G32-G33>'Am Quals'!A9,1,-1)*'Am Quals'!A9,ROUND(G32-G33,3)))))) | Q33: =IF(AND(LEFT(K32,1)="D",LEFT(K33,1)="D"),"",IF(OR(K32="DNR",K33="DNR"),"by "&ABS(R33)&" seconds",IF(OR(ISBLANK(K32),ISBLANK(K33),O32=O33),"","by "&ABS(R33)&" seconds"))) | R33: =IF(AND(LEFT(K32,1)="D",LEFT(K33,1)="D"),"0",IF(OR(K32="DNR",K33="DNR"),IF(K32="DNR",1,-1)*'Am Quals'!A8,IF(OR(ISBLANK(K32),ISBLANK(K33)),"",IF(OR(O32="-",O33="-"),IF(O32="-",1,-1)*'Am Quals'!A8,IF(ABS(O32-O33)>'Am Quals'!A9,IF(O32-O33>'Am Quals'!A9,1,-1)*'Am Quals'!A9,ROUND(O32-O33,3)))))) | S33: =IF(B33="BYE","(BYE)",IF(ISERROR(J33+R33)=TRUE,"",IF(J33+R33=0,"","by "&ABS(J33+R33)&" seconds"))) -> (BYE) | U33: =IF(B33="BYE", B33, IF(ISERROR(J33+R33)=TRUE,"",IF(J33+R33>0,B32,B33))) -> BYE | V33: =IF(ISERROR(VLOOKUP(U33,'Am Quals'!U12:V111,2,FALSE))=TRUE,"",VLOOKUP(U33,'Am Quals'!U12:V111,2,FALSE)) | W33: =IF(ISERROR(VLOOKUP(U33,'Am Quals'!AL12:AO111,4,FALSE))=TRUE,"",VLOOKUP(U33,'Am Quals'!AL12:AO111,4,FALSE))
A34: 14 | B34: =IF(A3<A34,"BYE",IF(ISERROR(VLOOKUP(A34,'Am Quals'!AO12:'Am Quals'!AQ111,3,FALSE))=TRUE,"BYE",VLOOKUP(A34,'Am Quals'!AO12:'Am Quals'!AQ111,3,FALSE))) -> BYE | I34: =IF(AND(LEFT(C34,1)="D",LEFT(C35,1)="D"),"",IF(OR(C34="DNR",C35="DNR"),IF(C34="DNR",B35,B34),IF(OR(ISBLANK(C34),ISBLANK(C35)),"",IF(G34=G35,"TIE",IF(G34>G35,B35,B34))))) | Q34: =IF(AND(LEFT(K34,1)="D",LEFT(K35,1)="D"),"",IF(OR(K34="DNR",K35="DNR"),IF(K34="DNR",B35,B34),IF(OR(ISBLANK(K34),ISBLANK(K35)),"",IF(O34=O35,"TIE",IF(O34>O35,B35,B34))))) | S34: =IF(B35="BYE", B34, IF(ISERROR(J35+R35)=TRUE,"",IF(J35+R35=0,"TIE - HOLD RUNOFF",IF(J35+R35>0,B35,B34)))) -> BYE
A35: 19 | B35: =IF(A3<A35,"BYE",IF(ISERROR(VLOOKUP(A35,'Am Quals'!AO12:'Am Quals'!AQ111,3,FALSE))=TRUE,"BYE",VLOOKUP(A35,'Am Quals'!AO12:'Am Quals'!AQ111,3,FALSE))) -> BYE | I35: =IF(AND(LEFT(C34,1)="D",LEFT(C35,1)="D"),"",IF(OR(C34="DNR",C35="DNR"),"by "&ABS(J35)&" seconds",IF(OR(ISBLANK(C34),ISBLANK(C35),G34=G35),"","by "&ABS(J35)&" seconds"))) | J35: =IF(AND(LEFT(C34,1)="D",LEFT(C35,1)="D"),"0",IF(OR(C34="DNR",C35="DNR"),IF(C34="DNR",1,-1)*'Am Quals'!A8,IF(OR(ISBLANK(C34),ISBLANK(C35)),"",IF(OR(G34="-",G35="-"),IF(G34="-",1,-1)*'Am Quals'!A8,IF(ABS(G34-G35)>'Am Quals'!A9,IF(G34-G35>'Am Quals'!A9,1,-1)*'Am Quals'!A9,ROUND(G34-G35,3)))))) | Q35: =IF(AND(LEFT(K34,1)="D",LEFT(K35,1)="D"),"",IF(OR(K34="DNR",K35="DNR"),"by "&ABS(R35)&" seconds",IF(OR(ISBLANK(K34),ISBLANK(K35),O34=O35),"","by "&ABS(R35)&" seconds"))) | R35: =IF(AND(LEFT(K34,1)="D",LEFT(K35,1)="D"),"0",IF(OR(K34="DNR",K35="DNR"),IF(K34="DNR",1,-1)*'Am Quals'!A8,IF(OR(ISBLANK(K34),ISBLANK(K35)),"",IF(OR(O34="-",O35="-"),IF(O34="-",1,-1)*'Am Quals'!A8,IF(ABS(O34-O35)>'Am Quals'!A9,IF(O34-O35>'Am Quals'!A9,1,-1)*'Am Quals'!A9,ROUND(O34-O35,3)))))) | S35: =IF(B35="BYE","(BYE)",IF(ISERROR(J35+R35)=TRUE,"",IF(J35+R35=0,"","by "&ABS(J35+R35)&" seconds"))) -> (BYE) | U35: =IF(B35="BYE", B35, IF(ISERROR(J35+R35)=TRUE,"",IF(J35+R35>0,B34,B35))) -> BYE | V35: =IF(ISERROR(VLOOKUP(U35,'Am Quals'!U12:V111,2,FALSE))=TRUE,"",VLOOKUP(U35,'Am Quals'!U12:V111,2,FALSE)) | W35: =IF(ISERROR(VLOOKUP(U35,'Am Quals'!AL12:AO111,4,FALSE))=TRUE,"",VLOOKUP(U35,'Am Quals'!AL12:AO111,4,FALSE))
A36: 6 | B36: =IF(A3<A36,"BYE",IF(ISERROR(VLOOKUP(A36,'Am Quals'!AO12:'Am Quals'!AQ111,3,FALSE))=TRUE,"BYE",VLOOKUP(A36,'Am Quals'!AO12:'Am Quals'!AQ111,3,FALSE))) -> Rychkov Svyatoslav | I36: =IF(AND(LEFT(C36,1)="D",LEFT(C37,1)="D"),"",IF(OR(C36="DNR",C37="DNR"),IF(C36="DNR",B37,B36),IF(OR(ISBLANK(C36),ISBLANK(C37)),"",IF(G36=G37,"TIE",IF(G36>G37,B37,B36))))) | Q36: =IF(AND(LEFT(K36,1)="D",LEFT(K37,1)="D"),"",IF(OR(K36="DNR",K37="DNR"),IF(K36="DNR",B37,B36),IF(OR(ISBLANK(K36),ISBLANK(K37)),"",IF(O36=O37,"TIE",IF(O36>O37,B37,B36))))) | S36: =IF(B37="BYE", B36, IF(ISERROR(J37+R37)=TRUE,"",IF(J37+R37=0,"TIE - HOLD RUNOFF",IF(J37+R37>0,B37,B36)))) -> Rychkov Svyatoslav
A37: 27 | B37: =IF(A3<A37,"BYE",IF(ISERROR(VLOOKUP(A37,'Am Quals'!AO12:'Am Quals'!AQ111,3,FALSE))=TRUE,"BYE",VLOOKUP(A37,'Am Quals'!AO12:'Am Quals'!AQ111,3,FALSE))) -> BYE | I37: =IF(AND(LEFT(C36,1)="D",LEFT(C37,1)="D"),"",IF(OR(C36="DNR",C37="DNR"),"by "&ABS(J37)&" seconds",IF(OR(ISBLANK(C36),ISBLANK(C37),G36=G37),"","by "&ABS(J37)&" seconds"))) | J37: =IF(AND(LEFT(C36,1)="D",LEFT(C37,1)="D"),"0",IF(OR(C36="DNR",C37="DNR"),IF(C36="DNR",1,-1)*'Am Quals'!A8,IF(OR(ISBLANK(C36),ISBLANK(C37)),"",IF(OR(G36="-",G37="-"),IF(G36="-",1,-1)*'Am Quals'!A8,IF(ABS(G36-G37)>'Am Quals'!A9,IF(G36-G37>'Am Quals'!A9,1,-1)*'Am Quals'!A9,ROUND(G36-G37,3)))))) | Q37: =IF(AND(LEFT(K36,1)="D",LEFT(K37,1)="D"),"",IF(OR(K36="DNR",K37="DNR"),"by "&ABS(R37)&" seconds",IF(OR(ISBLANK(K36),ISBLANK(K37),O36=O37),"","by "&ABS(R37)&" seconds"))) | R37: =IF(AND(LEFT(K36,1)="D",LEFT(K37,1)="D"),"0",IF(OR(K36="DNR",K37="DNR"),IF(K36="DNR",1,-1)*'Am Quals'!A8,IF(OR(ISBLANK(K36),ISBLANK(K37)),"",IF(OR(O36="-",O37="-"),IF(O36="-",1,-1)*'Am Quals'!A8,IF(ABS(O36-O37)>'Am Quals'!A9,IF(O36-O37>'Am Quals'!A9,1,-1)*'Am Quals'!A9,ROUND(O36-O37,3)))))) | S37: =IF(B37="BYE","(BYE)",IF(ISERROR(J37+R37)=TRUE,"",IF(J37+R37=0,"","by "&ABS(J37+R37)&" seconds"))) -> (BYE) | U37: =IF(B37="BYE", B37, IF(ISERROR(J37+R37)=TRUE,"",IF(J37+R37>0,B36,B37))) -> BYE | V37: =IF(ISERROR(VLOOKUP(U37,'Am Quals'!U12:V111,2,FALSE))=TRUE,"",VLOOKUP(U37,'Am Quals'!U12:V111,2,FALSE)) | W37: =IF(ISERROR(VLOOKUP(U37,'Am Quals'!AL12:AO111,4,FALSE))=TRUE,"",VLOOKUP(U37,'Am Quals'!AL12:AO111,4,FALSE))
A38: 11 | B38: =IF(A3<A38,"BYE",IF(ISERROR(VLOOKUP(A38,'Am Quals'!AO12:'Am Quals'!AQ111,3,FALSE))=TRUE,"BYE",VLOOKUP(A38,'Am Quals'!AO12:'Am Quals'!AQ111,3,FALSE))) -> BYE | I38: =IF(AND(LEFT(C38,1)="D",LEFT(C39,1)="D"),"",IF(OR(C38="DNR",C39="DNR"),IF(C38="DNR",B39,B38),IF(OR(ISBLANK(C38),ISBLANK(C39)),"",IF(G38=G39,"TIE",IF(G38>G39,B39,B38))))) | Q38: =IF(AND(LEFT(K38,1)="D",LEFT(K39,1)="D"),"",IF(OR(K38="DNR",K39="DNR"),IF(K38="DNR",B39,B38),IF(OR(ISBLANK(K38),ISBLANK(K39)),"",IF(O38=O39,"TIE",IF(O38>O39,B39,B38))))) | S38: =IF(B39="BYE", B38, IF(ISERROR(J39+R39)=TRUE,"",IF(J39+R39=0,"TIE - HOLD RUNOFF",IF(J39+R39>0,B39,B38)))) -> BYE
A39: 22 | B39: =IF(A3<A39,"BYE",IF(ISERROR(VLOOKUP(A39,'Am Quals'!AO12:'Am Quals'!AQ111,3,FALSE))=TRUE,"BYE",VLOOKUP(A39,'Am Quals'!AO12:'Am Quals'!AQ111,3,FALSE))) -> BYE | I39: =IF(AND(LEFT(C38,1)="D",LEFT(C39,1)="D"),"",IF(OR(C38="DNR",C39="DNR"),"by "&ABS(J39)&" seconds",IF(OR(ISBLANK(C38),ISBLANK(C39),G38=G39),"","by "&ABS(J39)&" seconds"))) | J39: =IF(AND(LEFT(C38,1)="D",LEFT(C39,1)="D"),"0",IF(OR(C38="DNR",C39="DNR"),IF(C38="DNR",1,-1)*'Am Quals'!A8,IF(OR(ISBLANK(C38),ISBLANK(C39)),"",IF(OR(G38="-",G39="-"),IF(G38="-",1,-1)*'Am Quals'!A8,IF(ABS(G38-G39)>'Am Quals'!A9,IF(G38-G39>'Am Quals'!A9,1,-1)*'Am Quals'!A9,ROUND(G38-G39,3)))))) | Q39: =IF(AND(LEFT(K38,1)="D",LEFT(K39,1)="D"),"",IF(OR(K38="DNR",K39="DNR"),"by "&ABS(R39)&" seconds",IF(OR(ISBLANK(K38),ISBLANK(K39),O38=O39),"","by "&ABS(R39)&" seconds"))) | R39: =IF(AND(LEFT(K38,1)="D",LEFT(K39,1)="D"),"0",IF(OR(K38="DNR",K39="DNR"),IF(K38="DNR",1,-1)*'Am Quals'!A8,IF(OR(ISBLANK(K38),ISBLANK(K39)),"",IF(OR(O38="-",O39="-"),IF(O38="-",1,-1)*'Am Quals'!A8,IF(ABS(O38-O39)>'Am Quals'!A9,IF(O38-O39>'Am Quals'!A9,1,-1)*'Am Quals'!A9,ROUND(O38-O39,3)))))) | S39: =IF(B39="BYE","(BYE)",IF(ISERROR(J39+R39)=TRUE,"",IF(J39+R39=0,"","by "&ABS(J39+R39)&" seconds"))) -> (BYE) | U39: =IF(B39="BYE", B39, IF(ISERROR(J39+R39)=TRUE,"",IF(J39+R39>0,B38,B39))) -> BYE | V39: =IF(ISERROR(VLOOKUP(U39,'Am Quals'!U12:V111,2,FALSE))=TRUE,"",VLOOKUP(U39,'Am Quals'!U12:V111,2,FALSE)) | W39: =IF(ISERROR(VLOOKUP(U39,'Am Quals'!AL12:AO111,4,FALSE))=TRUE,"",VLOOKUP(U39,'Am Quals'!AL12:AO111,4,FALSE))
B42: Round of 16
A43: =IF(S8=B8, A8, A9) -> 1 | B43: =IF(A3>16,IF(S8="TIE - HOLD RUNOFF","",S8),IF(A3<16,"BYE",IF(ISERROR(VLOOKUP(A43,'Am Quals'!AO12:'Am Quals'!AQ111,3,FALSE))=TRUE,"BYE",VLOOKUP(A43,'Am Quals'!AO12:'Am Quals'!AQ111,3,FALSE)))) -> Kolesov Anton | G43: {=IF(LEFT(C43:C58,1)="D","-",IF(D43:D58>'Am Quals'!A6,"-",IF(C43:C58>0,C43:C58+D43:D58*'Am Quals'!A5+F43:F58*'Am Quals'!A7,"")))} | H43: {=IF(G43:G58="","",IF(G43:G58="-","",RANK(G43:G58,G43:G58,1)))} | I43: =IF(AND(LEFT(C43,1)="D",LEFT(C44,1)="D"),"",IF(OR(C43="DNR",C44="DNR"),IF(C43="DNR",B44,B43),IF(OR(ISBLANK(C43),ISBLANK(C44)),"",IF(G43=G44,"TIE",IF(G43>G44,B44,B43))))) | O43: {=IF(LEFT(K43:K58,1)="D","-",IF(L43:L58>'Am Quals'!A6,"-",IF(K43:K58>0,K43:K58+L43:L58*'Am Quals'!A5+N43:N58*'Am Quals'!A7,"")))} | P43: {=IF(O43:O58="","",IF(O43:O58="-","",RANK(O43:O58,O43:O58,1)))} | Q43: =IF(AND(LEFT(K43,1)="D",LEFT(K44,1)="D"),"",IF(OR(K43="DNR",K44="DNR"),IF(K43="DNR",B44,B43),IF(OR(ISBLANK(K43),ISBLANK(K44)),"",IF(O43=O44,"TIE",IF(O43>O44,B44,B43))))) | S43: =IF(B44="BYE", B43, IF(ISERROR(J44+R44)=TRUE,"",IF(J44+R44=0,"TIE - HOLD RUNOFF",IF(J44+R44>0,B44,B43)))) -> Kolesov Anton
A44: =IF(S10=B10, A10, A11) -> 16 | B44: =IF(A3>16,IF(S10="TIE - HOLD RUNOFF","",S10),IF(A3<16,"BYE",IF(ISERROR(VLOOKUP(A44,'Am Quals'!AO12:'Am Quals'!AQ111,3,FALSE))=TRUE,"BYE",VLOOKUP(A44,'Am Quals'!AO12:'Am Quals'!AQ111,3,FALSE)))) -> BYE | I44: =IF(AND(LEFT(C43,1)="D",LEFT(C44,1)="D"),"",IF(OR(C43="DNR",C44="DNR"),"by "&ABS(J44)&" seconds",IF(OR(ISBLANK(C43),ISBLANK(C44),G43=G44),"","by "&ABS(J44)&" seconds"))) | J44: =IF(AND(LEFT(C43,1)="D",LEFT(C44,1)="D"),"0",IF(OR(C43="DNR",C44="DNR"),IF(C43="DNR",1,-1)*'Am Quals'!A8,IF(OR(ISBLANK(C43),ISBLANK(C44)),"",IF(OR(G43="-",G44="-"),IF(G43="-",1,-1)*'Am Quals'!A8,IF(ABS(G43-G44)>'Am Quals'!A9,IF(G43-G44>'Am Quals'!A9,1,-1)*'Am Quals'!A9,ROUND(G43-G44,3)))))) | Q44: =IF(AND(LEFT(K43,1)="D",LEFT(K44,1)="D"),"",IF(OR(K43="DNR",K44="DNR"),"by "&ABS(R44)&" seconds",IF(OR(ISBLANK(K43),ISBLANK(K44),O43=O44),"","by "&ABS(R44)&" seconds"))) | R44: =IF(AND(LEFT(K43,1)="D",LEFT(K44,1)="D"),"0",IF(OR(K43="DNR",K44="DNR"),IF(K43="DNR",1,-1)*'Am Quals'!A8,IF(OR(ISBLANK(K43),ISBLANK(K44)),"",IF(OR(O43="-",O44="-"),IF(O43="-",1,-1)*'Am Quals'!A8,IF(ABS(O43-O44)>'Am Quals'!A9,IF(O43-O44>'Am Quals'!A9,1,-1)*'Am Quals'!A9,ROUND(O43-O44,3)))))) | S44: =IF(B44="BYE","(BYE)",IF(ISERROR(J44+R44)=TRUE,"",IF(J44+R44=0,"","by "&ABS(J44+R44)&" seconds"))) -> (BYE) | T44: {=IF(W44:W58="","",IF(ISERROR(W44:W58)=TRUE,"",8+RANK(W44:W58,W44:W58,1)))} | U44: =IF(B44="BYE", B44, IF(ISERROR(J44+R44)=TRUE,"",IF(J44+R44>0,B43,B44))) -> BYE | V44: =IF(ISERROR(VLOOKUP(U44,'Am Quals'!U12:V111,2,FALSE))=TRUE,"",VLOOKUP(U44,'Am Quals'!U12:V111,2,FALSE)) | W44: =IF(ISERROR(VLOOKUP(U44,'Am Quals'!AL12:AO111,4,FALSE))=TRUE,"",VLOOKUP(U44,'Am Quals'!AL12:AO111,4,FALSE))
A45: =IF(S12=B12, A12, A13) -> 8 | B45: =IF(A3>16,IF(S12="TIE - HOLD RUNOFF","",S12),IF(A3<16,"BYE",IF(ISERROR(VLOOKUP(A45,'Am Quals'!AO12:'Am Quals'!AQ111,3,FALSE))=TRUE,"BYE",VLOOKUP(A45,'Am Quals'!AO12:'Am Quals'!AQ111,3,FALSE)))) -> Popov Igor | I45: =IF(AND(LEFT(C45,1)="D",LEFT(C46,1)="D"),"",IF(OR(C45="DNR",C46="DNR"),IF(C45="DNR",B46,B45),IF(OR(ISBLANK(C45),ISBLANK(C46)),"",IF(G45=G46,"TIE",IF(G45>G46,B46,B45))))) | Q45: =IF(AND(LEFT(K45,1)="D",LEFT(K46,1)="D"),"",IF(OR(K45="DNR",K46="DNR"),IF(K45="DNR",B46,B45),IF(OR(ISBLANK(K45),ISBLANK(K46)),"",IF(O45=O46,"TIE",IF(O45>O46,B46,B45))))) | S45: =IF(B46="BYE", B45, IF(ISERROR(J46+R46)=TRUE,"",IF(J46+R46=0,"TIE - HOLD RUNOFF",IF(J46+R46>0,B46,B45)))) -> Popov Igor
A46: =IF(S14=B14, A14, A15) -> 9 | B46: =IF(A3>16,IF(S14="TIE - HOLD RUNOFF","",S14),IF(A3<16,"BYE",IF(ISERROR(VLOOKUP(A46,'Am Quals'!AO12:'Am Quals'!AQ111,3,FALSE))=TRUE,"BYE",VLOOKUP(A46,'Am Quals'!AO12:'Am Quals'!AQ111,3,FALSE)))) -> BYE | I46: =IF(AND(LEFT(C45,1)="D",LEFT(C46,1)="D"),"",IF(OR(C45="DNR",C46="DNR"),"by "&ABS(J46)&" seconds",IF(OR(ISBLANK(C45),ISBLANK(C46),G45=G46),"","by "&ABS(J46)&" seconds"))) | J46: =IF(AND(LEFT(C45,1)="D",LEFT(C46,1)="D"),"0",IF(OR(C45="DNR",C46="DNR"),IF(C45="DNR",1,-1)*'Am Quals'!A8,IF(OR(ISBLANK(C45),ISBLANK(C46)),"",IF(OR(G45="-",G46="-"),IF(G45="-",1,-1)*'Am Quals'!A8,IF(ABS(G45-G46)>'Am Quals'!A9,IF(G45-G46>'Am Quals'!A9,1,-1)*'Am Quals'!A9,ROUND(G45-G46,3)))))) | Q46: =IF(AND(LEFT(K45,1)="D",LEFT(K46,1)="D"),"",IF(OR(K45="DNR",K46="DNR"),"by "&ABS(R46)&" seconds",IF(OR(ISBLANK(K45),ISBLANK(K46),O45=O46),"","by "&ABS(R46)&" seconds"))) | R46: =IF(AND(LEFT(K45,1)="D",LEFT(K46,1)="D"),"0",IF(OR(K45="DNR",K46="DNR"),IF(K45="DNR",1,-1)*'Am Quals'!A8,IF(OR(ISBLANK(K45),ISBLANK(K46)),"",IF(OR(O45="-",O46="-"),IF(O45="-",1,-1)*'Am Quals'!A8,IF(ABS(O45-O46)>'Am Quals'!A9,IF(O45-O46>'Am Quals'!A9,1,-1)*'Am Quals'!A9,ROUND(O45-O46,3)))))) | S46: =IF(B46="BYE","(BYE)",IF(ISERROR(J46+R46)=TRUE,"",IF(J46+R46=0,"","by "&ABS(J46+R46)&" seconds"))) -> (BYE) | U46: =IF(B46="BYE", B46, IF(ISERROR(J46+R46)=TRUE,"",IF(J46+R46>0,B45,B46))) -> BYE | V46: =IF(ISERROR(VLOOKUP(U46,'Am Quals'!U12:V111,2,FALSE))=TRUE,"",VLOOKUP(U46,'Am Quals'!U12:V111,2,FALSE)) | W46: =IF(ISERROR(VLOOKUP(U46,'Am Quals'!AL12:AO111,4,FALSE))=TRUE,"",VLOOKUP(U46,'Am Quals'!AL12:AO111,4,FALSE))
A47: =IF(S16=B16, A16, A17) -> 4 | B47: =IF(A3>16,IF(S16="TIE - HOLD RUNOFF","",S16),IF(A3<16,"BYE",IF(ISERROR(VLOOKUP(A47,'Am Quals'!AO12:'Am Quals'!AQ111,3,FALSE))=TRUE,"BYE",VLOOKUP(A47,'Am Quals'!AO12:'Am Quals'!AQ111,3,FALSE)))) -> Artemov Georgy | I47: =IF(AND(LEFT(C47,1)="D",LEFT(C48,1)="D"),"",IF(OR(C47="DNR",C48="DNR"),IF(C47="DNR",B48,B47),IF(OR(ISBLANK(C47),ISBLANK(C48)),"",IF(G47=G48,"TIE",IF(G47>G48,B48,B47))))) | Q47: =IF(AND(LEFT(K47,1)="D",LEFT(K48,1)="D"),"",IF(OR(K47="DNR",K48="DNR"),IF(K47="DNR",B48,B47),IF(OR(ISBLANK(K47),ISBLANK(K48)),"",IF(O47=O48,"TIE",IF(O47>O48,B48,B47))))) | S47: =IF(B48="BYE", B47, IF(ISERROR(J48+R48)=TRUE,"",IF(J48+R48=0,"TIE - HOLD RUNOFF",IF(J48+R48>0,B48,B47)))) -> Artemov Georgy
A48: =IF(S18=B18, A18, A19) -> 13 | B48: =IF(A3>16,IF(S18="TIE - HOLD RUNOFF","",S18),IF(A3<16,"BYE",IF(ISERROR(VLOOKUP(A48,'Am Quals'!AO12:'Am Quals'!AQ111,3,FALSE))=TRUE,"BYE",VLOOKUP(A48,'Am Quals'!AO12:'Am Quals'!AQ111,3,FALSE)))) -> BYE | I48: =IF(AND(LEFT(C47,1)="D",LEFT(C48,1)="D"),"",IF(OR(C47="DNR",C48="DNR"),"by "&ABS(J48)&" seconds",IF(OR(ISBLANK(C47),ISBLANK(C48),G47=G48),"","by "&ABS(J48)&" seconds"))) | J48: =IF(AND(LEFT(C47,1)="D",LEFT(C48,1)="D"),"0",IF(OR(C47="DNR",C48="DNR"),IF(C47="DNR",1,-1)*'Am Quals'!A8,IF(OR(ISBLANK(C47),ISBLANK(C48)),"",IF(OR(G47="-",G48="-"),IF(G47="-",1,-1)*'Am Quals'!A8,IF(ABS(G47-G48)>'Am Quals'!A9,IF(G47-G48>'Am Quals'!A9,1,-1)*'Am Quals'!A9,ROUND(G47-G48,3)))))) | Q48: =IF(AND(LEFT(K47,1)="D",LEFT(K48,1)="D"),"",IF(OR(K47="DNR",K48="DNR"),"by "&ABS(R48)&" seconds",IF(OR(ISBLANK(K47),ISBLANK(K48),O47=O48),"","by "&ABS(R48)&" seconds"))) | R48: =IF(AND(LEFT(K47,1)="D",LEFT(K48,1)="D"),"0",IF(OR(K47="DNR",K48="DNR"),IF(K47="DNR",1,-1)*'Am Quals'!A8,IF(OR(ISBLANK(K47),ISBLANK(K48)),"",IF(OR(O47="-",O48="-"),IF(O47="-",1,-1)*'Am Quals'!A8,IF(ABS(O47-O48)>'Am Quals'!A9,IF(O47-O48>'Am Quals'!A9,1,-1)*'Am Quals'!A9,ROUND(O47-O48,3)))))) | S48: =IF(B48="BYE","(BYE)",IF(ISERROR(J48+R48)=TRUE,"",IF(J48+R48=0,"","by "&ABS(J48+R48)&" seconds"))) -> (BYE) | U48: =IF(B48="BYE", B48, IF(ISERROR(J48+R48)=TRUE,"",IF(J48+R48>0,B47,B48))) -> BYE | V48: =IF(ISERROR(VLOOKUP(U48,'Am Quals'!U12:V111,2,FALSE))=TRUE,"",VLOOKUP(U48,'Am Quals'!U12:V111,2,FALSE)) | W48: =IF(ISERROR(VLOOKUP(U48,'Am Quals'!AL12:AO111,4,FALSE))=TRUE,"",VLOOKUP(U48,'Am Quals'!AL12:AO111,4,FALSE))
A49: =IF(S20=B20, A20, A21) -> 5 | B49: =IF(A3>16,IF(S20="TIE - HOLD RUNOFF","",S20),IF(A3<16,"BYE",IF(ISERROR(VLOOKUP(A49,'Am Quals'!AO12:'Am Quals'!AQ111,3,FALSE))=TRUE,"BYE",VLOOKUP(A49,'Am Quals'!AO12:'Am Quals'!AQ111,3,FALSE)))) -> Savin Aleksandr | I49: =IF(AND(LEFT(C49,1)="D",LEFT(C50,1)="D"),"",IF(OR(C49="DNR",C50="DNR"),IF(C49="DNR",B50,B49),IF(OR(ISBLANK(C49),ISBLANK(C50)),"",IF(G49=G50,"TIE",IF(G49>G50,B50,B49))))) | Q49: =IF(AND(LEFT(K49,1)="D",LEFT(K50,1)="D"),"",IF(OR(K49="DNR",K50="DNR"),IF(K49="DNR",B50,B49),IF(OR(ISBLANK(K49),ISBLANK(K50)),"",IF(O49=O50,"TIE",IF(O49>O50,B50,B49))))) | S49: =IF(B50="BYE", B49, IF(ISERROR(J50+R50)=TRUE,"",IF(J50+R50=0,"TIE - HOLD RUNOFF",IF(J50+R50>0,B50,B49)))) -> Savin Aleksandr
A50: =IF(S22=B22, A22, A23) -> 12 | B50: =IF(A3>16,IF(S22="TIE - HOLD RUNOFF","",S22),IF(A3<16,"BYE",IF(ISERROR(VLOOKUP(A50,'Am Quals'!AO12:'Am Quals'!AQ111,3,FALSE))=TRUE,"BYE",VLOOKUP(A50,'Am Quals'!AO12:'Am Quals'!AQ111,3,FALSE)))) -> BYE | I50: =IF(AND(LEFT(C49,1)="D",LEFT(C50,1)="D"),"",IF(OR(C49="DNR",C50="DNR"),"by "&ABS(J50)&" seconds",IF(OR(ISBLANK(C49),ISBLANK(C50),G49=G50),"","by "&ABS(J50)&" seconds"))) | J50: =IF(AND(LEFT(C49,1)="D",LEFT(C50,1)="D"),"0",IF(OR(C49="DNR",C50="DNR"),IF(C49="DNR",1,-1)*'Am Quals'!A8,IF(OR(ISBLANK(C49),ISBLANK(C50)),"",IF(OR(G49="-",G50="-"),IF(G49="-",1,-1)*'Am Quals'!A8,IF(ABS(G49-G50)>'Am Quals'!A9,IF(G49-G50>'Am Quals'!A9,1,-1)*'Am Quals'!A9,ROUND(G49-G50,3)))))) | Q50: =IF(AND(LEFT(K49,1)="D",LEFT(K50,1)="D"),"",IF(OR(K49="DNR",K50="DNR"),"by "&ABS(R50)&" seconds",IF(OR(ISBLANK(K49),ISBLANK(K50),O49=O50),"","by "&ABS(R50)&" seconds"))) | R50: =IF(AND(LEFT(K49,1)="D",LEFT(K50,1)="D"),"0",IF(OR(K49="DNR",K50="DNR"),IF(K49="DNR",1,-1)*'Am Quals'!A8,IF(OR(ISBLANK(K49),ISBLANK(K50)),"",IF(OR(O49="-",O50="-"),IF(O49="-",1,-1)*'Am Quals'!A8,IF(ABS(O49-O50)>'Am Quals'!A9,IF(O49-O50>'Am Quals'!A9,1,-1)*'Am Quals'!A9,ROUND(O49-O50,3)))))) | S50: =IF(B50="BYE","(BYE)",IF(ISERROR(J50+R50)=TRUE,"",IF(J50+R50=0,"","by "&ABS(J50+R50)&" seconds"))) -> (BYE) | U50: =IF(B50="BYE", B50, IF(ISERROR(J50+R50)=TRUE,"",IF(J50+R50>0,B49,B50))) -> BYE | V50: =IF(ISERROR(VLOOKUP(U50,'Am Quals'!U12:V111,2,FALSE))=TRUE,"",VLOOKUP(U50,'Am Quals'!U12:V111,2,FALSE)) | W50: =IF(ISERROR(VLOOKUP(U50,'Am Quals'!AL12:AO111,4,FALSE))=TRUE,"",VLOOKUP(U50,'Am Quals'!AL12:AO111,4,FALSE))
A51: =IF(S24=B24, A24, A25) -> 2 | B51: =IF(A3>16,IF(S24="TIE - HOLD RUNOFF","",S24),IF(A3<16,"BYE",IF(ISERROR(VLOOKUP(A51,'Am Quals'!AO12:'Am Quals'!AQ111,3,FALSE))=TRUE,"BYE",VLOOKUP(A51,'Am Quals'!AO12:'Am Quals'!AQ111,3,FALSE)))) -> Nikulin Anton | I51: =IF(AND(LEFT(C51,1)="D",LEFT(C52,1)="D"),"",IF(OR(C51="DNR",C52="DNR"),IF(C51="DNR",B52,B51),IF(OR(ISBLANK(C51),ISBLANK(C52)),"",IF(G51=G52,"TIE",IF(G51>G52,B52,B51))))) | Q51: =IF(AND(LEFT(K51,1)="D",LEFT(K52,1)="D"),"",IF(OR(K51="DNR",K52="DNR"),IF(K51="DNR",B52,B51),IF(OR(ISBLANK(K51),ISBLANK(K52)),"",IF(O51=O52,"TIE",IF(O51>O52,B52,B51))))) | S51: =IF(B52="BYE", B51, IF(ISERROR(J52+R52)=TRUE,"",IF(J52+R52=0,"TIE - HOLD RUNOFF",IF(J52+R52>0,B52,B51)))) -> Nikulin Anton
A52: =IF(S26=B26, A26, A27) -> 15 | B52: =IF(A3>16,IF(S26="TIE - HOLD RUNOFF","",S26),IF(A3<16,"BYE",IF(ISERROR(VLOOKUP(A52,'Am Quals'!AO12:'Am Quals'!AQ111,3,FALSE))=TRUE,"BYE",VLOOKUP(A52,'Am Quals'!AO12:'Am Quals'!AQ111,3,FALSE)))) -> BYE | I52: =IF(AND(LEFT(C51,1)="D",LEFT(C52,1)="D"),"",IF(OR(C51="DNR",C52="DNR"),"by "&ABS(J52)&" seconds",IF(OR(ISBLANK(C51),ISBLANK(C52),G51=G52),"","by "&ABS(J52)&" seconds"))) | J52: =IF(AND(LEFT(C51,1)="D",LEFT(C52,1)="D"),"0",IF(OR(C51="DNR",C52="DNR"),IF(C51="DNR",1,-1)*'Am Quals'!A8,IF(OR(ISBLANK(C51),ISBLANK(C52)),"",IF(OR(G51="-",G52="-"),IF(G51="-",1,-1)*'Am Quals'!A8,IF(ABS(G51-G52)>'Am Quals'!A9,IF(G51-G52>'Am Quals'!A9,1,-1)*'Am Quals'!A9,ROUND(G51-G52,3)))))) | Q52: =IF(AND(LEFT(K51,1)="D",LEFT(K52,1)="D"),"",IF(OR(K51="DNR",K52="DNR"),"by "&ABS(R52)&" seconds",IF(OR(ISBLANK(K51),ISBLANK(K52),O51=O52),"","by "&ABS(R52)&" seconds"))) | R52: =IF(AND(LEFT(K51,1)="D",LEFT(K52,1)="D"),"0",IF(OR(K51="DNR",K52="DNR"),IF(K51="DNR",1,-1)*'Am Quals'!A8,IF(OR(ISBLANK(K51),ISBLANK(K52)),"",IF(OR(O51="-",O52="-"),IF(O51="-",1,-1)*'Am Quals'!A8,IF(ABS(O51-O52)>'Am Quals'!A9,IF(O51-O52>'Am Quals'!A9,1,-1)*'Am Quals'!A9,ROUND(O51-O52,3)))))) | S52: =IF(B52="BYE","(BYE)",IF(ISERROR(J52+R52)=TRUE,"",IF(J52+R52=0,"","by "&ABS(J52+R52)&" seconds"))) -> (BYE) | U52: =IF(B52="BYE", B52, IF(ISERROR(J52+R52)=TRUE,"",IF(J52+R52>0,B51,B52))) -> BYE | V52: =IF(ISERROR(VLOOKUP(U52,'Am Quals'!U12:V111,2,FALSE))=TRUE,"",VLOOKUP(U52,'Am Quals'!U12:V111,2,FALSE)) | W52: =IF(ISERROR(VLOOKUP(U52,'Am Quals'!AL12:AO111,4,FALSE))=TRUE,"",VLOOKUP(U52,'Am Quals'!AL12:AO111,4,FALSE))
A53: =IF(S28=B28, A28, A29) -> 7 | B53: =IF(A3>16,IF(S28="TIE - HOLD RUNOFF","",S28),IF(A3<16,"BYE",IF(ISERROR(VLOOKUP(A53,'Am Quals'!AO12:'Am Quals'!AQ111,3,FALSE))=TRUE,"BYE",VLOOKUP(A53,'Am Quals'!AO12:'Am Quals'!AQ111,3,FALSE)))) -> Rogachev Vladimir | I53: =IF(AND(LEFT(C53,1)="D",LEFT(C54,1)="D"),"",IF(OR(C53="DNR",C54="DNR"),IF(C53="DNR",B54,B53),IF(OR(ISBLANK(C53),ISBLANK(C54)),"",IF(G53=G54,"TIE",IF(G53>G54,B54,B53))))) | Q53: =IF(AND(LEFT(K53,1)="D",LEFT(K54,1)="D"),"",IF(OR(K53="DNR",K54="DNR"),IF(K53="DNR",B54,B53),IF(OR(ISBLANK(K53),ISBLANK(K54)),"",IF(O53=O54,"TIE",IF(O53>O54,B54,B53))))) | S53: =IF(B54="BYE", B53, IF(ISERROR(J54+R54)=TRUE,"",IF(J54+R54=0,"TIE - HOLD RUNOFF",IF(J54+R54>0,B54,B53)))) -> Rogachev Vladimir
A54: =IF(S30=B30, A30, A31) -> 10 | B54: =IF(A3>16,IF(S30="TIE - HOLD RUNOFF","",S30),IF(A3<16,"BYE",IF(ISERROR(VLOOKUP(A54,'Am Quals'!AO12:'Am Quals'!AQ111,3,FALSE))=TRUE,"BYE",VLOOKUP(A54,'Am Quals'!AO12:'Am Quals'!AQ111,3,FALSE)))) -> BYE | I54: =IF(AND(LEFT(C53,1)="D",LEFT(C54,1)="D"),"",IF(OR(C53="DNR",C54="DNR"),"by "&ABS(J54)&" seconds",IF(OR(ISBLANK(C53),ISBLANK(C54),G53=G54),"","by "&ABS(J54)&" seconds"))) | J54: =IF(AND(LEFT(C53,1)="D",LEFT(C54,1)="D"),"0",IF(OR(C53="DNR",C54="DNR"),IF(C53="DNR",1,-1)*'Am Quals'!A8,IF(OR(ISBLANK(C53),ISBLANK(C54)),"",IF(OR(G53="-",G54="-"),IF(G53="-",1,-1)*'Am Quals'!A8,IF(ABS(G53-G54)>'Am Quals'!A9,IF(G53-G54>'Am Quals'!A9,1,-1)*'Am Quals'!A9,ROUND(G53-G54,3)))))) | Q54: =IF(AND(LEFT(K53,1)="D",LEFT(K54,1)="D"),"",IF(OR(K53="DNR",K54="DNR"),"by "&ABS(R54)&" seconds",IF(OR(ISBLANK(K53),ISBLANK(K54),O53=O54),"","by "&ABS(R54)&" seconds"))) | R54: =IF(AND(LEFT(K53,1)="D",LEFT(K54,1)="D"),"0",IF(OR(K53="DNR",K54="DNR"),IF(K53="DNR",1,-1)*'Am Quals'!A8,IF(OR(ISBLANK(K53),ISBLANK(K54)),"",IF(OR(O53="-",O54="-"),IF(O53="-",1,-1)*'Am Quals'!A8,IF(ABS(O53-O54)>'Am Quals'!A9,IF(O53-O54>'Am Quals'!A9,1,-1)*'Am Quals'!A9,ROUND(O53-O54,3)))))) | S54: =IF(B54="BYE","(BYE)",IF(ISERROR(J54+R54)=TRUE,"",IF(J54+R54=0,"","by "&ABS(J54+R54)&" seconds"))) -> (BYE) | U54: =IF(B54="BYE", B54, IF(ISERROR(J54+R54)=TRUE,"",IF(J54+R54>0,B53,B54))) -> BYE | V54: =IF(ISERROR(VLOOKUP(U54,'Am Quals'!U12:V111,2,FALSE))=TRUE,"",VLOOKUP(U54,'Am Quals'!U12:V111,2,FALSE)) | W54: =IF(ISERROR(VLOOKUP(U54,'Am Quals'!AL12:AO111,4,FALSE))=TRUE,"",VLOOKUP(U54,'Am Quals'!AL12:AO111,4,FALSE))
A55: =IF(S32=B32, A32, A33) -> 3 | B55: =IF(A3>16,IF(S32="TIE - HOLD RUNOFF","",S32),IF(A3<16,"BYE",IF(ISERROR(VLOOKUP(A55,'Am Quals'!AO12:'Am Quals'!AQ111,3,FALSE))=TRUE,"BYE",VLOOKUP(A55,'Am Quals'!AO12:'Am Quals'!AQ111,3,FALSE)))) -> Glushko Oleg | I55: =IF(AND(LEFT(C55,1)="D",LEFT(C56,1)="D"),"",IF(OR(C55="DNR",C56="DNR"),IF(C55="DNR",B56,B55),IF(OR(ISBLANK(C55),ISBLANK(C56)),"",IF(G55=G56,"TIE",IF(G55>G56,B56,B55))))) | Q55: =IF(AND(LEFT(K55,1)="D",LEFT(K56,1)="D"),"",IF(OR(K55="DNR",K56="DNR"),IF(K55="DNR",B56,B55),IF(OR(ISBLANK(K55),ISBLANK(K56)),"",IF(O55=O56,"TIE",IF(O55>O56,B56,B55))))) | S55: =IF(B56="BYE", B55, IF(ISERROR(J56+R56)=TRUE,"",IF(J56+R56=0,"TIE - HOLD RUNOFF",IF(J56+R56>0,B56,B55)))) -> Glushko Oleg
A56: =IF(S34=B34, A34, A35) -> 14 | B56: =IF(A3>16,IF(S34="TIE - HOLD RUNOFF","",S34),IF(A3<16,"BYE",IF(ISERROR(VLOOKUP(A56,'Am Quals'!AO12:'Am Quals'!AQ111,3,FALSE))=TRUE,"BYE",VLOOKUP(A56,'Am Quals'!AO12:'Am Quals'!AQ111,3,FALSE)))) -> BYE | I56: =IF(AND(LEFT(C55,1)="D",LEFT(C56,1)="D"),"",IF(OR(C55="DNR",C56="DNR"),"by "&ABS(J56)&" seconds",IF(OR(ISBLANK(C55),ISBLANK(C56),G55=G56),"","by "&ABS(J56)&" seconds"))) | J56: =IF(AND(LEFT(C55,1)="D",LEFT(C56,1)="D"),"0",IF(OR(C55="DNR",C56="DNR"),IF(C55="DNR",1,-1)*'Am Quals'!A8,IF(OR(ISBLANK(C55),ISBLANK(C56)),"",IF(OR(G55="-",G56="-"),IF(G55="-",1,-1)*'Am Quals'!A8,IF(ABS(G55-G56)>'Am Quals'!A9,IF(G55-G56>'Am Quals'!A9,1,-1)*'Am Quals'!A9,ROUND(G55-G56,3)))))) | Q56: =IF(AND(LEFT(K55,1)="D",LEFT(K56,1)="D"),"",IF(OR(K55="DNR",K56="DNR"),"by "&ABS(R56)&" seconds",IF(OR(ISBLANK(K55),ISBLANK(K56),O55=O56),"","by "&ABS(R56)&" seconds"))) | R56: =IF(AND(LEFT(K55,1)="D",LEFT(K56,1)="D"),"0",IF(OR(K55="DNR",K56="DNR"),IF(K55="DNR",1,-1)*'Am Quals'!A8,IF(OR(ISBLANK(K55),ISBLANK(K56)),"",IF(OR(O55="-",O56="-"),IF(O55="-",1,-1)*'Am Quals'!A8,IF(ABS(O55-O56)>'Am Quals'!A9,IF(O55-O56>'Am Quals'!A9,1,-1)*'Am Quals'!A9,ROUND(O55-O56,3)))))) | S56: =IF(B56="BYE","(BYE)",IF(ISERROR(J56+R56)=TRUE,"",IF(J56+R56=0,"","by "&ABS(J56+R56)&" seconds"))) -> (BYE) | U56: =IF(B56="BYE", B56, IF(ISERROR(J56+R56)=TRUE,"",IF(J56+R56>0,B55,B56))) -> BYE | V56: =IF(ISERROR(VLOOKUP(U56,'Am Quals'!U12:V111,2,FALSE))=TRUE,"",VLOOKUP(U56,'Am Quals'!U12:V111,2,FALSE)) | W56: =IF(ISERROR(VLOOKUP(U56,'Am Quals'!AL12:AO111,4,FALSE))=TRUE,"",VLOOKUP(U56,'Am Quals'!AL12:AO111,4,FALSE))
A57: =IF(S36=B36, A36, A37) -> 6 | B57: =IF(A3>16,IF(S36="TIE - HOLD RUNOFF","",S36),IF(A3<16,"BYE",IF(ISERROR(VLOOKUP(A57,'Am Quals'!AO12:'Am Quals'!AQ111,3,FALSE))=TRUE,"BYE",VLOOKUP(A57,'Am Quals'!AO12:'Am Quals'!AQ111,3,FALSE)))) -> Rychkov Svyatoslav | I57: =IF(AND(LEFT(C57,1)="D",LEFT(C58,1)="D"),"",IF(OR(C57="DNR",C58="DNR"),IF(C57="DNR",B58,B57),IF(OR(ISBLANK(C57),ISBLANK(C58)),"",IF(G57=G58,"TIE",IF(G57>G58,B58,B57))))) | Q57: =IF(AND(LEFT(K57,1)="D",LEFT(K58,1)="D"),"",IF(OR(K57="DNR",K58="DNR"),IF(K57="DNR",B58,B57),IF(OR(ISBLANK(K57),ISBLANK(K58)),"",IF(O57=O58,"TIE",IF(O57>O58,B58,B57))))) | S57: =IF(B58="BYE", B57, IF(ISERROR(J58+R58)=TRUE,"",IF(J58+R58=0,"TIE - HOLD RUNOFF",IF(J58+R58>0,B58,B57)))) -> Rychkov Svyatoslav
A58: =IF(S38=B38, A38, A39) -> 11 | B58: =IF(A3>16,IF(S38="TIE - HOLD RUNOFF","",S38),IF(A3<16,"BYE",IF(ISERROR(VLOOKUP(A58,'Am Quals'!AO12:'Am Quals'!AQ111,3,FALSE))=TRUE,"BYE",VLOOKUP(A58,'Am Quals'!AO12:'Am Quals'!AQ111,3,FALSE)))) -> BYE | I58: =IF(AND(LEFT(C57,1)="D",LEFT(C58,1)="D"),"",IF(OR(C57="DNR",C58="DNR"),"by "&ABS(J58)&" seconds",IF(OR(ISBLANK(C57),ISBLANK(C58),G57=G58),"","by "&ABS(J58)&" seconds"))) | J58: =IF(AND(LEFT(C57,1)="D",LEFT(C58,1)="D"),"0",IF(OR(C57="DNR",C58="DNR"),IF(C57="DNR",1,-1)*'Am Quals'!A8,IF(OR(ISBLANK(C57),ISBLANK(C58)),"",IF(OR(G57="-",G58="-"),IF(G57="-",1,-1)*'Am Quals'!A8,IF(ABS(G57-G58)>'Am Quals'!A9,IF(G57-G58>'Am Quals'!A9,1,-1)*'Am Quals'!A9,ROUND(G57-G58,3)))))) | Q58: =IF(AND(LEFT(K57,1)="D",LEFT(K58,1)="D"),"",IF(OR(K57="DNR",K58="DNR"),"by "&ABS(R58)&" seconds",IF(OR(ISBLANK(K57),ISBLANK(K58),O57=O58),"","by "&ABS(R58)&" seconds"))) | R58: =IF(AND(LEFT(K57,1)="D",LEFT(K58,1)="D"),"0",IF(OR(K57="DNR",K58="DNR"),IF(K57="DNR",1,-1)*'Am Quals'!A8,IF(OR(ISBLANK(K57),ISBLANK(K58)),"",IF(OR(O57="-",O58="-"),IF(O57="-",1,-1)*'Am Quals'!A8,IF(ABS(O57-O58)>'Am Quals'!A9,IF(O57-O58>'Am Quals'!A9,1,-1)*'Am Quals'!A9,ROUND(O57-O58,3)))))) | S58: =IF(B58="BYE","(BYE)",IF(ISERROR(J58+R58)=TRUE,"",IF(J58+R58=0,"","by "&ABS(J58+R58)&" seconds"))) -> (BYE) | U58: =IF(B58="BYE", B58, IF(ISERROR(J58+R58)=TRUE,"",IF(J58+R58>0,B57,B58))) -> BYE | V58: =IF(ISERROR(VLOOKUP(U58,'Am Quals'!U12:V111,2,FALSE))=TRUE,"",VLOOKUP(U58,'Am Quals'!U12:V111,2,FALSE)) | W58: =IF(ISERROR(VLOOKUP(U58,'Am Quals'!AL12:AO111,4,FALSE))=TRUE,"",VLOOKUP(U58,'Am Quals'!AL12:AO111,4,FALSE))
B61: Round of 8
A62: =IF(S43=B43, A43, A44) -> 1 | B62: =IF(A3>8,IF(S43="TIE - HOLD RUNOFF","",S43),IF(A3<8,"BYE",IF(ISERROR(VLOOKUP(A62,'Am Quals'!AO12:'Am Quals'!AQ111,3,FALSE))=TRUE,"BYE",VLOOKUP(A62,'Am Quals'!AO12:'Am Quals'!AQ111,3,FALSE)))) -> Kolesov Anton | C62: 13.415 | D62: 1 | E62: 0.646 | G62: {=IF(LEFT(C62:C69,1)="D","-",IF(D62:D69>'Am Quals'!A6,"-",IF(C62:C69>0,C62:C69+D62:D69*'Am Quals'!A5+F62:F69*'Am Quals'!A7,"")))} -> 13.515 | H62: {=IF(G62:G69="","",IF(G62:G69="-","",RANK(G62:G69,G62:G69,1)))} -> 1 | I62: =IF(AND(LEFT(C62,1)="D",LEFT(C63,1)="D"),"",IF(OR(C62="DNR",C63="DNR"),IF(C62="DNR",B63,B62),IF(OR(ISBLANK(C62),ISBLANK(C63)),"",IF(G62=G63,"TIE",IF(G62>G63,B63,B62))))) -> Kolesov Anton | K62: 13.454 | L62: 0 | M62: 0.681 | O62: {=IF(LEFT(K62:K69,1)="D","-",IF(L62:L69>'Am Quals'!A6,"-",IF(K62:K69>0,K62:K69+L62:L69*'Am Quals'!A5+N62:N69*'Am Quals'!A7,"")))} -> 13.454 | P62: {=IF(O62:O69="","",IF(O62:O69="-","",RANK(O62:O69,O62:O69,1)))} -> 1 | Q62: =IF(AND(LEFT(K62,1)="D",LEFT(K63,1)="D"),"",IF(OR(K62="DNR",K63="DNR"),IF(K62="DNR",B63,B62),IF(OR(ISBLANK(K62),ISBLANK(K63)),"",IF(O62=O63,"TIE",IF(O62>O63,B63,B62))))) -> Kolesov Anton | S62: =IF(B63="BYE", B62, IF(ISERROR(J63+R63)=TRUE,"",IF(J63+R63=0,"TIE - HOLD RUNOFF",IF(J63+R63>0,B63,B62)))) -> Kolesov Anton
A63: =IF(S45=B45, A45, A46) -> 8 | B63: Popov Igor | C63: 19.336 | D63: 0 | E63: 0.82 | G63: 19.336 | H63: 8 | I63: =IF(AND(LEFT(C62,1)="D",LEFT(C63,1)="D"),"",IF(OR(C62="DNR",C63="DNR"),"by "&ABS(J63)&" seconds",IF(OR(ISBLANK(C62),ISBLANK(C63),G62=G63),"","by "&ABS(J63)&" seconds"))) -> by 1,31 seconds | J63: =IF(AND(LEFT(C62,1)="D",LEFT(C63,1)="D"),"0",IF(OR(C62="DNR",C63="DNR"),IF(C62="DNR",1,-1)*'Am Quals'!A8,IF(OR(ISBLANK(C62),ISBLANK(C63)),"",IF(OR(G62="-",G63="-"),IF(G62="-",1,-1)*'Am Quals'!A8,IF(ABS(G62-G63)>'Am Quals'!A9,IF(G62-G63>'Am Quals'!A9,1,-1)*'Am Quals'!A9,ROUND(G62-G63,3)))))) -> -1.31 | K63: 18.942 | L63: 4 | M63: 0.737 | O63: 19.342 | P63: 8 | Q63: =IF(AND(LEFT(K62,1)="D",LEFT(K63,1)="D"),"",IF(OR(K62="DNR",K63="DNR"),"by "&ABS(R63)&" seconds",IF(OR(ISBLANK(K62),ISBLANK(K63),O62=O63),"","by "&ABS(R63)&" seconds"))) -> by 1,31 seconds | R63: =IF(AND(LEFT(K62,1)="D",LEFT(K63,1)="D"),"0",IF(OR(K62="DNR",K63="DNR"),IF(K62="DNR",1,-1)*'Am Quals'!A8,IF(OR(ISBLANK(K62),ISBLANK(K63)),"",IF(OR(O62="-",O63="-"),IF(O62="-",1,-1)*'Am Quals'!A8,IF(ABS(O62-O63)>'Am Quals'!A9,IF(O62-O63>'Am Quals'!A9,1,-1)*'Am Quals'!A9,ROUND(O62-O63,3)))))) -> -1.31 | S63: =IF(B63="BYE","(BYE)",IF(ISERROR(J63+R63)=TRUE,"",IF(J63+R63=0,"","by "&ABS(J63+R63)&" seconds"))) -> by 2,62 seconds | T63: {=IF(W63:W69="","",IF(ISERROR(W63:W69)=TRUE,"",4+RANK(W63:W69,W63:W69,1)))} -> 8 | U63: =IF(B63="BYE", B63, IF(ISERROR(J63+R63)=TRUE,"",IF(J63+R63>0,B62,B63))) -> Popov Igor | V63: =IF(ISERROR(VLOOKUP(U63,'Am Quals'!U12:V111,2,FALSE))=TRUE,"",VLOOKUP(U63,'Am Quals'!U12:V111,2,FALSE)) -> 19.741 | W63: =IF(ISERROR(VLOOKUP(U63,'Am Quals'!AL12:AO111,4,FALSE))=TRUE,"",VLOOKUP(U63,'Am Quals'!AL12:AO111,4,FALSE)) -> 8
A64: =IF(S47=B47, A47, A48) -> 4 | B64: =IF(A3>8,IF(S47="TIE - HOLD RUNOFF","",S47),IF(A3<8,"BYE",IF(ISERROR(VLOOKUP(A64,'Am Quals'!AO12:'Am Quals'!AQ111,3,FALSE))=TRUE,"BYE",VLOOKUP(A64,'Am Quals'!AO12:'Am Quals'!AQ111,3,FALSE)))) -> Artemov Georgy | C64: 13.716 | D64: 0 | E64: 0.725 | G64: 13.716 | H64: 2 | I64: =IF(AND(LEFT(C64,1)="D",LEFT(C65,1)="D"),"",IF(OR(C64="DNR",C65="DNR"),IF(C64="DNR",B65,B64),IF(OR(ISBLANK(C64),ISBLANK(C65)),"",IF(G64=G65,"TIE",IF(G64>G65,B65,B64))))) -> Artemov Georgy | K64: 13.667 | L64: 6 | M64: 0.595 | O64: 14.267 | P64: 2 | Q64: =IF(AND(LEFT(K64,1)="D",LEFT(K65,1)="D"),"",IF(OR(K64="DNR",K65="DNR"),IF(K64="DNR",B65,B64),IF(OR(ISBLANK(K64),ISBLANK(K65)),"",IF(O64=O65,"TIE",IF(O64>O65,B65,B64))))) -> Artemov Georgy | S64: =IF(B65="BYE", B64, IF(ISERROR(J65+R65)=TRUE,"",IF(J65+R65=0,"TIE - HOLD RUNOFF",IF(J65+R65>0,B65,B64)))) -> Artemov Georgy
A65: =IF(S49=B49, A49, A50) -> 5 | B65: Savin Aleksandr | C65: 15.096 | D65: 1 | E65: 1.15 | G65: 15.196 | H65: 3 | I65: =IF(AND(LEFT(C64,1)="D",LEFT(C65,1)="D"),"",IF(OR(C64="DNR",C65="DNR"),"by "&ABS(J65)&" seconds",IF(OR(ISBLANK(C64),ISBLANK(C65),G64=G65),"","by "&ABS(J65)&" seconds"))) -> by 1,31 seconds | J65: =IF(AND(LEFT(C64,1)="D",LEFT(C65,1)="D"),"0",IF(OR(C64="DNR",C65="DNR"),IF(C64="DNR",1,-1)*'Am Quals'!A8,IF(OR(ISBLANK(C64),ISBLANK(C65)),"",IF(OR(G64="-",G65="-"),IF(G64="-",1,-1)*'Am Quals'!A8,IF(ABS(G64-G65)>'Am Quals'!A9,IF(G64-G65>'Am Quals'!A9,1,-1)*'Am Quals'!A9,ROUND(G64-G65,3)))))) -> -1.31 | K65: 14.341 | L65: 2 | M65: 0.544 | O65: 14.541 | P65: 3 | Q65: =IF(AND(LEFT(K64,1)="D",LEFT(K65,1)="D"),"",IF(OR(K64="DNR",K65="DNR"),"by "&ABS(R65)&" seconds",IF(OR(ISBLANK(K64),ISBLANK(K65),O64=O65),"","by "&ABS(R65)&" seconds"))) -> by 0,274 seconds | R65: =IF(AND(LEFT(K64,1)="D",LEFT(K65,1)="D"),"0",IF(OR(K64="DNR",K65="DNR"),IF(K64="DNR",1,-1)*'Am Quals'!A8,IF(OR(ISBLANK(K64),ISBLANK(K65)),"",IF(OR(O64="-",O65="-"),IF(O64="-",1,-1)*'Am Quals'!A8,IF(ABS(O64-O65)>'Am Quals'!A9,IF(O64-O65>'Am Quals'!A9,1,-1)*'Am Quals'!A9,ROUND(O64-O65,3)))))) -> -0.274 | S65: =IF(B65="BYE","(BYE)",IF(ISERROR(J65+R65)=TRUE,"",IF(J65+R65=0,"","by "&ABS(J65+R65)&" seconds"))) -> by 1,584 seconds | T65: 5 | U65: =IF(B65="BYE", B65, IF(ISERROR(J65+R65)=TRUE,"",IF(J65+R65>0,B64,B65))) -> Savin Aleksandr | V65: =IF(ISERROR(VLOOKUP(U65,'Am Quals'!U12:V111,2,FALSE))=TRUE,"",VLOOKUP(U65,'Am Quals'!U12:V111,2,FALSE)) -> 14.925 | W65: =IF(ISERROR(VLOOKUP(U65,'Am Quals'!AL12:AO111,4,FALSE))=TRUE,"",VLOOKUP(U65,'Am Quals'!AL12:AO111,4,FALSE)) -> 5
A66: =IF(S51=B51, A51, A52) -> 2 | B66: =IF(A3>8,IF(S51="TIE - HOLD RUNOFF","",S51),IF(A3<8,"BYE",IF(ISERROR(VLOOKUP(A66,'Am Quals'!AO12:'Am Quals'!AQ111,3,FALSE))=TRUE,"BYE",VLOOKUP(A66,'Am Quals'!AO12:'Am Quals'!AQ111,3,FALSE)))) -> Nikulin Anton | C66: 17.886 | D66: 0 | E66: 0.701 | G66: 17.886 | H66: 5 | I66: =IF(AND(LEFT(C66,1)="D",LEFT(C67,1)="D"),"",IF(OR(C66="DNR",C67="DNR"),IF(C66="DNR",B67,B66),IF(OR(ISBLANK(C66),ISBLANK(C67)),"",IF(G66=G67,"TIE",IF(G66>G67,B67,B66))))) -> Nikulin Anton | K66: 16.824 | L66: 0 | M66: 1.192 | O66: 16.824 | P66: 4 | Q66: =IF(AND(LEFT(K66,1)="D",LEFT(K67,1)="D"),"",IF(OR(K66="DNR",K67="DNR"),IF(K66="DNR",B67,B66),IF(OR(ISBLANK(K66),ISBLANK(K67)),"",IF(O66=O67,"TIE",IF(O66>O67,B67,B66))))) -> Nikulin Anton | S66: =IF(B67="BYE", B66, IF(ISERROR(J67+R67)=TRUE,"",IF(J67+R67=0,"TIE - HOLD RUNOFF",IF(J67+R67>0,B67,B66)))) -> Nikulin Anton
A67: =IF(S53=B53, A53, A54) -> 7 | B67: Rogachev Vladimir | C67: 19.218 | D67: 0 | E67: 0.984 | G67: 19.218 | H67: 7 | I67: =IF(AND(LEFT(C66,1)="D",LEFT(C67,1)="D"),"",IF(OR(C66="DNR",C67="DNR"),"by "&ABS(J67)&" seconds",IF(OR(ISBLANK(C66),ISBLANK(C67),G66=G67),"","by "&ABS(J67)&" seconds"))) -> by 1,31 seconds | J67: =IF(AND(LEFT(C66,1)="D",LEFT(C67,1)="D"),"0",IF(OR(C66="DNR",C67="DNR"),IF(C66="DNR",1,-1)*'Am Quals'!A8,IF(OR(ISBLANK(C66),ISBLANK(C67)),"",IF(OR(G66="-",G67="-"),IF(G66="-",1,-1)*'Am Quals'!A8,IF(ABS(G66-G67)>'Am Quals'!A9,IF(G66-G67>'Am Quals'!A9,1,-1)*'Am Quals'!A9,ROUND(G66-G67,3)))))) -> -1.31 | K67: 19.188 | L67: 1 | M67: 0.897 | O67: 19.288 | P67: 7 | Q67: =IF(AND(LEFT(K66,1)="D",LEFT(K67,1)="D"),"",IF(OR(K66="DNR",K67="DNR"),"by "&ABS(R67)&" seconds",IF(OR(ISBLANK(K66),ISBLANK(K67),O66=O67),"","by "&ABS(R67)&" seconds"))) -> by 1,31 seconds | R67: =IF(AND(LEFT(K66,1)="D",LEFT(K67,1)="D"),"0",IF(OR(K66="DNR",K67="DNR"),IF(K66="DNR",1,-1)*'Am Quals'!A8,IF(OR(ISBLANK(K66),ISBLANK(K67)),"",IF(OR(O66="-",O67="-"),IF(O66="-",1,-1)*'Am Quals'!A8,IF(ABS(O66-O67)>'Am Quals'!A9,IF(O66-O67>'Am Quals'!A9,1,-1)*'Am Quals'!A9,ROUND(O66-O67,3)))))) -> -1.31 | S67: =IF(B67="BYE","(BYE)",IF(ISERROR(J67+R67)=TRUE,"",IF(J67+R67=0,"","by "&ABS(J67+R67)&" seconds"))) -> by 2,62 seconds | T67: 7 | U67: =IF(B67="BYE", B67, IF(ISERROR(J67+R67)=TRUE,"",IF(J67+R67>0,B66,B67))) -> Rogachev Vladimir | V67: =IF(ISERROR(VLOOKUP(U67,'Am Quals'!U12:V111,2,FALSE))=TRUE,"",VLOOKUP(U67,'Am Quals'!U12:V111,2,FALSE)) -> 19.237 | W67: =IF(ISERROR(VLOOKUP(U67,'Am Quals'!AL12:AO111,4,FALSE))=TRUE,"",VLOOKUP(U67,'Am Quals'!AL12:AO111,4,FALSE)) -> 7
A68: =IF(S55=B55, A55, A56) -> 3 | B68: =IF(A3>8,IF(S55="TIE - HOLD RUNOFF","",S55),IF(A3<8,"BYE",IF(ISERROR(VLOOKUP(A68,'Am Quals'!AO12:'Am Quals'!AQ111,3,FALSE))=TRUE,"BYE",VLOOKUP(A68,'Am Quals'!AO12:'Am Quals'!AQ111,3,FALSE)))) -> Glushko Oleg | C68: 17.098 | D68: 0 | E68: 0.611 | G68: 17.098 | H68: 4 | I68: =IF(AND(LEFT(C68,1)="D",LEFT(C69,1)="D"),"",IF(OR(C68="DNR",C69="DNR"),IF(C68="DNR",B69,B68),IF(OR(ISBLANK(C68),ISBLANK(C69)),"",IF(G68=G69,"TIE",IF(G68>G69,B69,B68))))) -> Glushko Oleg | K68: 17.134 | L68: 0 | M68: 0.746 | O68: 17.134 | P68: 5 | Q68: =IF(AND(LEFT(K68,1)="D",LEFT(K69,1)="D"),"",IF(OR(K68="DNR",K69="DNR"),IF(K68="DNR",B69,B68),IF(OR(ISBLANK(K68),ISBLANK(K69)),"",IF(O68=O69,"TIE",IF(O68>O69,B69,B68))))) -> Glushko Oleg | S68: =IF(B69="BYE", B68, IF(ISERROR(J69+R69)=TRUE,"",IF(J69+R69=0,"TIE - HOLD RUNOFF",IF(J69+R69>0,B69,B68)))) -> Glushko Oleg
A69: =IF(S57=B57, A57, A58) -> 6 | B69: Rychkov Svyatoslav | C69: 18.019 | D69: 1 | E69: 1.289 | G69: 18.119 | H69: 6 | I69: =IF(AND(LEFT(C68,1)="D",LEFT(C69,1)="D"),"",IF(OR(C68="DNR",C69="DNR"),"by "&ABS(J69)&" seconds",IF(OR(ISBLANK(C68),ISBLANK(C69),G68=G69),"","by "&ABS(J69)&" seconds"))) -> by 1,021 seconds | J69: =IF(AND(LEFT(C68,1)="D",LEFT(C69,1)="D"),"0",IF(OR(C68="DNR",C69="DNR"),IF(C68="DNR",1,-1)*'Am Quals'!A8,IF(OR(ISBLANK(C68),ISBLANK(C69)),"",IF(OR(G68="-",G69="-"),IF(G68="-",1,-1)*'Am Quals'!A8,IF(ABS(G68-G69)>'Am Quals'!A9,IF(G68-G69>'Am Quals'!A9,1,-1)*'Am Quals'!A9,ROUND(G68-G69,3)))))) -> -1.021 | K69: 17.548 | L69: 0 | M69: 1.14 | O69: 17.548 | P69: 6 | Q69: =IF(AND(LEFT(K68,1)="D",LEFT(K69,1)="D"),"",IF(OR(K68="DNR",K69="DNR"),"by "&ABS(R69)&" seconds",IF(OR(ISBLANK(K68),ISBLANK(K69),O68=O69),"","by "&ABS(R69)&" seconds"))) -> by 0,414 seconds | R69: =IF(AND(LEFT(K68,1)="D",LEFT(K69,1)="D"),"0",IF(OR(K68="DNR",K69="DNR"),IF(K68="DNR",1,-1)*'Am Quals'!A8,IF(OR(ISBLANK(K68),ISBLANK(K69)),"",IF(OR(O68="-",O69="-"),IF(O68="-",1,-1)*'Am Quals'!A8,IF(ABS(O68-O69)>'Am Quals'!A9,IF(O68-O69>'Am Quals'!A9,1,-1)*'Am Quals'!A9,ROUND(O68-O69,3)))))) -> -0.414 | S69: =IF(B69="BYE","(BYE)",IF(ISERROR(J69+R69)=TRUE,"",IF(J69+R69=0,"","by "&ABS(J69+R69)&" seconds"))) -> by 1,435 seconds | T69: 6 | U69: =IF(B69="BYE", B69, IF(ISERROR(J69+R69)=TRUE,"",IF(J69+R69>0,B68,B69))) -> Rychkov Svyatoslav | V69: =IF(ISERROR(VLOOKUP(U69,'Am Quals'!U12:V111,2,FALSE))=TRUE,"",VLOOKUP(U69,'Am Quals'!U12:V111,2,FALSE)) -> 18.351 | W69: =IF(ISERROR(VLOOKUP(U69,'Am Quals'!AL12:AO111,4,FALSE))=TRUE,"",VLOOKUP(U69,'Am Quals'!AL12:AO111,4,FALSE)) -> 6
B72: Round of 4
A73: =IF(S62=B62, A62, A63) -> 1 | B73: =IF(A3>4,IF(S62="TIE - HOLD RUNOFF","",S62),IF(A3<4,"BYE",IF(ISERROR(VLOOKUP(A73,'Am Quals'!AO12:'Am Quals'!AQ111,3,FALSE))=TRUE,"BYE",VLOOKUP(A73,'Am Quals'!AO12:'Am Quals'!AQ111,3,FALSE)))) -> Kolesov Anton | C73: 13.301 | D73: 1 | E73: 0.637 | G73: {=IF(LEFT(C73:C76,1)="D","-",IF(D73:D76>'Am Quals'!A6,"-",IF(C73:C76>0,C73:C76+D73:D76*'Am Quals'!A5+F73:F76*'Am Quals'!A7,"")))} -> 13.401 | H73: {=IF(G73:G76="","",IF(G73:G76="-","",RANK(G73:G76,G73:G76,1)))} -> 1 | I73: =IF(AND(LEFT(C73,1)="D",LEFT(C74,1)="D"),"",IF(OR(C73="DNR",C74="DNR"),IF(C73="DNR",B74,B73),IF(OR(ISBLANK(C73),ISBLANK(C74)),"",IF(G73=G74,"TIE",IF(G73>G74,B74,B73))))) -> Kolesov Anton | K73: 13.272 | L73: 0 | M73: 0.784 | O73: {=IF(LEFT(K73:K76,1)="D","-",IF(L73:L76>'Am Quals'!A6,"-",IF(K73:K76>0,K73:K76+L73:L76*'Am Quals'!A5+N73:N76*'Am Quals'!A7,"")))} -> 13.272 | P73: {=IF(O73:O76="","",IF(O73:O76="-","",RANK(O73:O76,O73:O76,1)))} -> 2 | Q73: =IF(AND(LEFT(K73,1)="D",LEFT(K74,1)="D"),"",IF(OR(K73="DNR",K74="DNR"),IF(K73="DNR",B74,B73),IF(OR(ISBLANK(K73),ISBLANK(K74)),"",IF(O73=O74,"TIE",IF(O73>O74,B74,B73))))) -> Kolesov Anton | S73: =IF(B74="BYE", B73, IF(ISERROR(J74+R74)=TRUE,"",IF(J74+R74=0,"TIE - HOLD RUNOFF",IF(J74+R74>0,B74,B73)))) -> Kolesov Anton
A74: =IF(S64=B64, A64, A65) -> 4 | B74: =IF(A3>4,IF(S64="TIE - HOLD RUNOFF","",S64),IF(A3<4,"BYE",IF(ISERROR(VLOOKUP(A74,'Am Quals'!AO12:'Am Quals'!AQ111,3,FALSE))=TRUE,"BYE",VLOOKUP(A74,'Am Quals'!AO12:'Am Quals'!AQ111,3,FALSE)))) -> Artemov Georgy | C74: 13.413 | D74: 0 | E74: 0.653 | G74: 13.413 | H74: 2 | I74: =IF(AND(LEFT(C73,1)="D",LEFT(C74,1)="D"),"",IF(OR(C73="DNR",C74="DNR"),"by "&ABS(J74)&" seconds",IF(OR(ISBLANK(C73),ISBLANK(C74),G73=G74),"","by "&ABS(J74)&" seconds"))) -> by 0,012 seconds | J74: =IF(AND(LEFT(C73,1)="D",LEFT(C74,1)="D"),"0",IF(OR(C73="DNR",C74="DNR"),IF(C73="DNR",1,-1)*'Am Quals'!A8,IF(OR(ISBLANK(C73),ISBLANK(C74)),"",IF(OR(G73="-",G74="-"),IF(G73="-",1,-1)*'Am Quals'!A8,IF(ABS(G73-G74)>'Am Quals'!A9,IF(G73-G74>'Am Quals'!A9,1,-1)*'Am Quals'!A9,ROUND(G73-G74,3)))))) -> -0.012 | K74: 13.395 | L74: 2 | M74: 0.725 | O74: 13.595 | P74: 4 | Q74: =IF(AND(LEFT(K73,1)="D",LEFT(K74,1)="D"),"",IF(OR(K73="DNR",K74="DNR"),"by "&ABS(R74)&" seconds",IF(OR(ISBLANK(K73),ISBLANK(K74),O73=O74),"","by "&ABS(R74)&" seconds"))) -> by 0,323 seconds | R74: =IF(AND(LEFT(K73,1)="D",LEFT(K74,1)="D"),"0",IF(OR(K73="DNR",K74="DNR"),IF(K73="DNR",1,-1)*'Am Quals'!A8,IF(OR(ISBLANK(K73),ISBLANK(K74)),"",IF(OR(O73="-",O74="-"),IF(O73="-",1,-1)*'Am Quals'!A8,IF(ABS(O73-O74)>'Am Quals'!A9,IF(O73-O74>'Am Quals'!A9,1,-1)*'Am Quals'!A9,ROUND(O73-O74,3)))))) -> -0.323 | S74: =IF(B74="BYE","(BYE)",IF(ISERROR(J74+R74)=TRUE,"",IF(J74+R74=0,"","by "&ABS(J74+R74)&" seconds"))) -> by 0,335 seconds | U74: =IF(B74="BYE", B74, IF(ISERROR(J74+R74)=TRUE,"",IF(J74+R74>0,B73,B74))) -> Artemov Georgy
A75: =IF(S66=B66, A66, A67) -> 2 | B75: =IF(A3>4,IF(S66="TIE - HOLD RUNOFF","",S66),IF(A3<4,"BYE",IF(ISERROR(VLOOKUP(A75,'Am Quals'!AO12:'Am Quals'!AQ111,3,FALSE))=TRUE,"BYE",VLOOKUP(A75,'Am Quals'!AO12:'Am Quals'!AQ111,3,FALSE)))) -> Nikulin Anton | C75: 13.336 | D75: 1 | E75: 0.566 | G75: 13.436 | H75: 3 | I75: =IF(AND(LEFT(C75,1)="D",LEFT(C76,1)="D"),"",IF(OR(C75="DNR",C76="DNR"),IF(C75="DNR",B76,B75),IF(OR(ISBLANK(C75),ISBLANK(C76)),"",IF(G75=G76,"TIE",IF(G75>G76,B76,B75))))) -> Nikulin Anton | K75: 13.046 | L75: 1 | M75: 0.543 | O75: 13.146 | P75: 1 | Q75: =IF(AND(LEFT(K75,1)="D",LEFT(K76,1)="D"),"",IF(OR(K75="DNR",K76="DNR"),IF(K75="DNR",B76,B75),IF(OR(ISBLANK(K75),ISBLANK(K76)),"",IF(O75=O76,"TIE",IF(O75>O76,B76,B75))))) -> Nikulin Anton | S75: =IF(B76="BYE", B75, IF(ISERROR(J76+R76)=TRUE,"",IF(J76+R76=0,"TIE - HOLD RUNOFF",IF(J76+R76>0,B76,B75)))) -> Nikulin Anton
A76: =IF(S68=B68, A68, A69) -> 3 | B76: =IF(A3>4,IF(S68="TIE - HOLD RUNOFF","",S68),IF(A3<4,"BYE",IF(ISERROR(VLOOKUP(A76,'Am Quals'!AO12:'Am Quals'!AQ111,3,FALSE))=TRUE,"BYE",VLOOKUP(A76,'Am Quals'!AO12:'Am Quals'!AQ111,3,FALSE)))) -> Glushko Oleg | C76: 13.816 | D76: 0 | E76: 0.559 | G76: 13.816 | H76: 4 | I76: =IF(AND(LEFT(C75,1)="D",LEFT(C76,1)="D"),"",IF(OR(C75="DNR",C76="DNR"),"by "&ABS(J76)&" seconds",IF(OR(ISBLANK(C75),ISBLANK(C76),G75=G76),"","by "&ABS(J76)&" seconds"))) -> by 0,38 seconds | J76: =IF(AND(LEFT(C75,1)="D",LEFT(C76,1)="D"),"0",IF(OR(C75="DNR",C76="DNR"),IF(C75="DNR",1,-1)*'Am Quals'!A8,IF(OR(ISBLANK(C75),ISBLANK(C76)),"",IF(OR(G75="-",G76="-"),IF(G75="-",1,-1)*'Am Quals'!A8,IF(ABS(G75-G76)>'Am Quals'!A9,IF(G75-G76>'Am Quals'!A9,1,-1)*'Am Quals'!A9,ROUND(G75-G76,3)))))) -> -0.38 | K76: 13.486 | L76: 1 | M76: 0.515 | O76: 13.586 | P76: 3 | Q76: =IF(AND(LEFT(K75,1)="D",LEFT(K76,1)="D"),"",IF(OR(K75="DNR",K76="DNR"),"by "&ABS(R76)&" seconds",IF(OR(ISBLANK(K75),ISBLANK(K76),O75=O76),"","by "&ABS(R76)&" seconds"))) -> by 0,44 seconds | R76: =IF(AND(LEFT(K75,1)="D",LEFT(K76,1)="D"),"0",IF(OR(K75="DNR",K76="DNR"),IF(K75="DNR",1,-1)*'Am Quals'!A8,IF(OR(ISBLANK(K75),ISBLANK(K76)),"",IF(OR(O75="-",O76="-"),IF(O75="-",1,-1)*'Am Quals'!A8,IF(ABS(O75-O76)>'Am Quals'!A9,IF(O75-O76>'Am Quals'!A9,1,-1)*'Am Quals'!A9,ROUND(O75-O76,3)))))) -> -0.44 | S76: =IF(B76="BYE","(BYE)",IF(ISERROR(J76+R76)=TRUE,"",IF(J76+R76=0,"","by "&ABS(J76+R76)&" seconds"))) -> by 0,82 seconds | U76: =IF(B76="BYE", B76, IF(ISERROR(J76+R76)=TRUE,"",IF(J76+R76>0,B75,B76))) -> Glushko Oleg
B79: Consolation Round
A80: =IF(B74="BYE",IF(S75=B75,A76,A75),IF(S73=B73, A74, A73)) -> 4 | B80: =IF(A3>2,IF(B74="BYE","BYE",IF(U74="","",U74)),IF(ISERROR(VLOOKUP(A80,'Am Quals'!AO12:'Am Quals'!AQ111,3,FALSE))=TRUE,"BYE",VLOOKUP(A80,'Am Quals'!AO12:'Am Quals'!AQ111,3,FALSE))) -> Artemov Georgy | C80: 13.472 | D80: 2 | E80: 0.716 | G80: {=IF(LEFT(C80:C81,1)="D","-",IF(D80:D81>'Am Quals'!A6,"-",IF(C80:C81>0,C80:C81+D80:D81*'Am Quals'!A5+F80:F81*'Am Quals'!A7,"")))} -> 13.672 | H80: {=IF(G80:G81="","",IF(G80:G81="-","",RANK(G80:G81,G80:G81,1)))} -> 2 | I80: =IF(AND(LEFT(C80,1)="D",LEFT(C81,1)="D"),"",IF(OR(C80="DNR",C81="DNR"),IF(C80="DNR",B81,B80),IF(OR(ISBLANK(C80),ISBLANK(C81)),"",IF(G80=G81,"TIE",IF(G80>G81,B81,B80))))) -> Glushko Oleg | K80: 13.711 | L80: 1 | M80: 0.801 | O80: {=IF(LEFT(K80:K81,1)="D","-",IF(L80:L81>'Am Quals'!A6,"-",IF(K80:K81>0,K80:K81+L80:L81*'Am Quals'!A5+N80:N81*'Am Quals'!A7,"")))} -> 13.811 | P80: {=IF(O80:O81="","",IF(O80:O81="-","",RANK(O80:O81,O80:O81,1)))} -> 2 | Q80: =IF(AND(LEFT(K80,1)="D",LEFT(K81,1)="D"),"",IF(OR(K80="DNR",K81="DNR"),IF(K80="DNR",B81,B80),IF(OR(ISBLANK(K80),ISBLANK(K81)),"",IF(O80=O81,"TIE",IF(O80>O81,B81,B80))))) -> Glushko Oleg | S80: =IF(B80="BYE", B81, IF(ISERROR(J81+R81)=TRUE,"",IF(J81+R81=0,"TIE - HOLD RUNOFF",IF(J81+R81>0,B81,B80)))) -> Glushko Oleg | T80: {=IF(W80:W81="","",IF(ISERROR(W80:W81)=TRUE,"",2+RANK(W80:W81,W80:W81,1)))} -> 3 | U80: =IF(B81="BYE", B80, IF(ISERROR(J81+R81)=TRUE,"",IF(J81+R81>0,B81,B80))) -> Glushko Oleg | V80: =IF(ISERROR(VLOOKUP(U80,'Am Quals'!U12:V111,2,FALSE))=TRUE,"",VLOOKUP(U80,'Am Quals'!U12:V111,2,FALSE)) -> 13.48 | W80: =IF(ISERROR(VLOOKUP(U80,'Am Quals'!AL12:AO111,4,FALSE))=TRUE,"",VLOOKUP(U80,'Am Quals'!AL12:AO111,4,FALSE)) -> 3
A81: =IF(B74="BYE",A74,IF(S75=B75, A76, A75)) -> 3 | B81: =IF(A3>2,IF(B76="BYE","BYE",IF(U76="","",U76)),IF(ISERROR(VLOOKUP(A81,'Am Quals'!AO12:'Am Quals'!AQ111,3,FALSE))=TRUE,"BYE",VLOOKUP(A81,'Am Quals'!AO12:'Am Quals'!AQ111,3,FALSE))) -> Glushko Oleg | C81: 13.468 | D81: 0 | E81: 0.662 | G81: 13.468 | H81: 1 | I81: =IF(AND(LEFT(C80,1)="D",LEFT(C81,1)="D"),"",IF(OR(C80="DNR",C81="DNR"),"by "&ABS(J81)&" seconds",IF(OR(ISBLANK(C80),ISBLANK(C81),G80=G81),"","by "&ABS(J81)&" seconds"))) -> by 0,204 seconds | J81: =IF(AND(LEFT(C80,1)="D",LEFT(C81,1)="D"),"0",IF(OR(C80="DNR",C81="DNR"),IF(C80="DNR",1,-1)*'Am Quals'!A8,IF(OR(ISBLANK(C80),ISBLANK(C81)),"",IF(OR(G80="-",G81="-"),IF(G80="-",1,-1)*'Am Quals'!A8,IF(ABS(G80-G81)>'Am Quals'!A9,IF(G80-G81>'Am Quals'!A9,1,-1)*'Am Quals'!A9,ROUND(G80-G81,3)))))) -> 0.204 | K81: 13.45 | L81: 0 | M81: 0.584 | O81: 13.45 | P81: 1 | Q81: =IF(AND(LEFT(K80,1)="D",LEFT(K81,1)="D"),"",IF(OR(K80="DNR",K81="DNR"),"by "&ABS(R81)&" seconds",IF(OR(ISBLANK(K80),ISBLANK(K81),O80=O81),"","by "&ABS(R81)&" seconds"))) -> by 0,361 seconds | R81: =IF(AND(LEFT(K80,1)="D",LEFT(K81,1)="D"),"0",IF(OR(K80="DNR",K81="DNR"),IF(K80="DNR",1,-1)*'Am Quals'!A8,IF(OR(ISBLANK(K80),ISBLANK(K81)),"",IF(OR(O80="-",O81="-"),IF(O80="-",1,-1)*'Am Quals'!A8,IF(ABS(O80-O81)>'Am Quals'!A9,IF(O80-O81>'Am Quals'!A9,1,-1)*'Am Quals'!A9,ROUND(O80-O81,3)))))) -> 0.361 | S81: =IF(B81="BYE","(BYE)",IF(ISERROR(J81+R81)=TRUE,"",IF(J81+R81=0,"","by "&ABS(J81+R81)&" seconds"))) -> by 0,565 seconds | T81: 4 | U81: =IF(B81="BYE", B81, IF(ISERROR(J81+R81)=TRUE,"",IF(J81+R81>0,B80,B81))) -> Artemov Georgy | V81: =IF(ISERROR(VLOOKUP(U81,'Am Quals'!U12:V111,2,FALSE))=TRUE,"",VLOOKUP(U81,'Am Quals'!U12:V111,2,FALSE)) -> 13.541 | W81: =IF(ISERROR(VLOOKUP(U81,'Am Quals'!AL12:AO111,4,FALSE))=TRUE,"",VLOOKUP(U81,'Am Quals'!AL12:AO111,4,FALSE)) -> 4
B84: Final Round
A85: =IF(S73=B73, A73, A74) -> 1 | B85: =IF(A3>2,IF(S73="TIE - HOLD RUNOFF","",S73),IF(ISERROR(VLOOKUP(A85,'Am Quals'!AO12:'Am Quals'!AQ111,3,FALSE))=TRUE,"BYE",VLOOKUP(A85,'Am Quals'!AO12:'Am Quals'!AQ111,3,FALSE))) -> Kolesov Anton | C85: 13.081 | D85: 2 | E85: 0.637 | G85: {=IF(LEFT(C85:C86,1)="D","-",IF(D85:D86>'Am Quals'!A6,"-",IF(C85:C86>0,C85:C86+D85:D86*'Am Quals'!A5+F85:F86*'Am Quals'!A7,"")))} -> 13.281 | H85: {=IF(G85:G86="","",IF(G85:G86="-","",RANK(G85:G86,G85:G86,1)))} -> 1 | I85: =IF(AND(LEFT(C85,1)="D",LEFT(C86,1)="D"),"",IF(OR(C85="DNR",C86="DNR"),IF(C85="DNR",B86,B85),IF(OR(ISBLANK(C85),ISBLANK(C86)),"",IF(G85=G86,"TIE",IF(G85>G86,B86,B85))))) -> Kolesov Anton | K85: 13.009 | L85: 3 | M85: 0.61 | O85: {=IF(LEFT(K85:K86,1)="D","-",IF(L85:L86>'Am Quals'!A6,"-",IF(K85:K86>0,K85:K86+L85:L86*'Am Quals'!A5+N85:N86*'Am Quals'!A7,"")))} -> 13.309 | P85: {=IF(O85:O86="","",IF(O85:O86="-","",RANK(O85:O86,O85:O86,1)))} -> 1 | Q85: =IF(AND(LEFT(K85,1)="D",LEFT(K86,1)="D"),"",IF(OR(K85="DNR",K86="DNR"),IF(K85="DNR",B86,B85),IF(OR(ISBLANK(K85),ISBLANK(K86)),"",IF(O85=O86,"TIE",IF(O85>O86,B86,B85))))) -> Kolesov Anton | S85: =IF(B86="BYE", B85, IF(ISERROR(J86+R86)=TRUE,"",IF(J86+R86=0,"TIE - HOLD RUNOFF",IF(J86+R86>0,B86,B85)))) -> Kolesov Anton | T85: {=IF(W85:W86="","",IF(ISERROR(W85:W86)=TRUE,"",RANK(W85:W86,W85:W86,1)))} -> 1 | U85: =IF(B86="BYE", B85, IF(ISERROR(J86+R86)=TRUE,"",IF(J86+R86>0,B86,B85))) -> Kolesov Anton | V85: =IF(ISERROR(VLOOKUP(U85,'Am Quals'!U12:V111,2,FALSE))=TRUE,"",VLOOKUP(U85,'Am Quals'!U12:V111,2,FALSE)) -> 13.135 | W85: =IF(ISERROR(VLOOKUP(U85,'Am Quals'!AL12:AO111,4,FALSE))=TRUE,"",VLOOKUP(U85,'Am Quals'!AL12:AO111,4,FALSE)) -> 1
A86: =IF(S75=B75, A75, A76) -> 2 | B86: =IF(A3>2,IF(S75="TIE - HOLD RUNOFF","",S75),IF(ISERROR(VLOOKUP(A86,'Am Quals'!AO12:'Am Quals'!AQ111,3,FALSE))=TRUE,"BYE",VLOOKUP(A86,'Am Quals'!AO12:'Am Quals'!AQ111,3,FALSE))) -> Nikulin Anton | C86: 12.962 | D86: 4 | E86: 0.542 | G86: 13.362 | H86: 2 | I86: =IF(AND(LEFT(C85,1)="D",LEFT(C86,1)="D"),"",IF(OR(C85="DNR",C86="DNR"),"by "&ABS(J86)&" seconds",IF(OR(ISBLANK(C85),ISBLANK(C86),G85=G86),"","by "&ABS(J86)&" seconds"))) -> by 0,081 seconds | J86: =IF(AND(LEFT(C85,1)="D",LEFT(C86,1)="D"),"0",IF(OR(C85="DNR",C86="DNR"),IF(C85="DNR",1,-1)*'Am Quals'!A8,IF(OR(ISBLANK(C85),ISBLANK(C86)),"",IF(OR(G85="-",G86="-"),IF(G85="-",1,-1)*'Am Quals'!A8,IF(ABS(G85-G86)>'Am Quals'!A9,IF(G85-G86>'Am Quals'!A9,1,-1)*'Am Quals'!A9,ROUND(G85-G86,3)))))) -> -0.081 | K86: 13.064 | L86: 3 | M86: 0.57 | O86: 13.364 | P86: 2 | Q86: =IF(AND(LEFT(K85,1)="D",LEFT(K86,1)="D"),"",IF(OR(K85="DNR",K86="DNR"),"by "&ABS(R86)&" seconds",IF(OR(ISBLANK(K85),ISBLANK(K86),O85=O86),"","by "&ABS(R86)&" seconds"))) -> by 0,055 seconds | R86: =IF(AND(LEFT(K85,1)="D",LEFT(K86,1)="D"),"0",IF(OR(K85="DNR",K86="DNR"),IF(K85="DNR",1,-1)*'Am Quals'!A8,IF(OR(ISBLANK(K85),ISBLANK(K86)),"",IF(OR(O85="-",O86="-"),IF(O85="-",1,-1)*'Am Quals'!A8,IF(ABS(O85-O86)>'Am Quals'!A9,IF(O85-O86>'Am Quals'!A9,1,-1)*'Am Quals'!A9,ROUND(O85-O86,3)))))) -> -0.055 | S86: =IF(B86="BYE","(BYE)",IF(ISERROR(J86+R86)=TRUE,"",IF(J86+R86=0,"","by "&ABS(J86+R86)&" seconds"))) -> by 0,136 seconds | T86: 2 | U86: =IF(B86="BYE", B86, IF(ISERROR(J86+R86)=TRUE,"",IF(J86+R86>0,B85,B86))) -> Nikulin Anton | V86: =IF(ISERROR(VLOOKUP(U86,'Am Quals'!U12:V111,2,FALSE))=TRUE,"",VLOOKUP(U86,'Am Quals'!U12:V111,2,FALSE)) -> 13.293 | W86: =IF(ISERROR(VLOOKUP(U86,'Am Quals'!AL12:AO111,4,FALSE))=TRUE,"",VLOOKUP(U86,'Am Quals'!AL12:AO111,4,FALSE)) -> 2
A89: Final Results
A90: Final Position | B90: Racer No. & Name | C90: Qualifying Time | D90: Qualifying Position | G90: Points Earned
A91: 1 | B91: {=IF(S85="BYE","",S85)} -> Kolesov Anton | C91: =V85 -> 13.135 | D91: =W85 -> 1
A92: 2 | B92: =IF(U86="BYE","",U86) -> Nikulin Anton | C92: =V86 -> 13.293 | D92: =W86 -> 2
A93: 3 | B93: =IF(S80="BYE","",S80) -> Glushko Oleg | C93: =V80 -> 13.48 | D93: =W80 -> 3
A94: 4 | B94: =IF(U81="BYE","",U81) -> Artemov Georgy | C94: =V81 -> 13.541 | D94: =W81 -> 4
A95: 5 | B95: =IF(ISERROR(VLOOKUP(5,T63:V69,2,FALSE))=TRUE,"",VLOOKUP(5,T63:V69,2,FALSE)) -> Savin Aleksandr | C95: =IF(ISERROR(ROUND(VLOOKUP(5,T63:V69,3,FALSE),3))=TRUE,"",ROUND(VLOOKUP(5,T63:V69,3,FALSE),3)) -> 14.925 | D95: =IF(ISERROR(VLOOKUP(5,T63:W69,4,FALSE))=TRUE,"",VLOOKUP(5,T63:W69,4,FALSE)) -> 5
A96: 6 | B96: =IF(ISERROR(VLOOKUP(6,T63:V69,2,FALSE))=TRUE,"",VLOOKUP(6,T63:V69,2,FALSE)) -> Rychkov Svyatoslav | C96: =IF(ISERROR(ROUND(VLOOKUP(6,T63:V69,3,FALSE),3))=TRUE,"",ROUND(VLOOKUP(6,T63:V69,3,FALSE),3)) -> 18.351 | D96: =IF(ISERROR(VLOOKUP(6,T63:W69,4,FALSE))=TRUE,"",VLOOKUP(6,T63:W69,4,FALSE)) -> 6
A97: 7 | B97: =IF(ISERROR(VLOOKUP(7,T63:V69,2,FALSE))=TRUE,"",VLOOKUP(7,T63:V69,2,FALSE)) -> Rogachev Vladimir | C97: =IF(ISERROR(ROUND(VLOOKUP(7,T63:V69,3,FALSE),3))=TRUE,"",ROUND(VLOOKUP(7,T63:V69,3,FALSE),3)) -> 19.237 | D97: =IF(ISERROR(VLOOKUP(7,T63:W69,4,FALSE))=TRUE,"",VLOOKUP(7,T63:W69,4,FALSE)) -> 7
A98: 8 | B98: =IF(ISERROR(VLOOKUP(8,T63:V69,2,FALSE))=TRUE,"",VLOOKUP(8,T63:V69,2,FALSE)) -> Popov Igor | C98: =IF(ISERROR(ROUND(VLOOKUP(8,T63:V69,3,FALSE),3))=TRUE,"",ROUND(VLOOKUP(8,T63:V69,3,FALSE),3)) -> 19.741 | D98: =IF(ISERROR(VLOOKUP(8,T63:W69,4,FALSE))=TRUE,"",VLOOKUP(8,T63:W69,4,FALSE)) -> 8
A99: 9 | B99: =IF(ISERROR(VLOOKUP(9,T44:V58,2,FALSE))=TRUE,"",VLOOKUP(9,T44:V58,2,FALSE)) | C99: =IF(ISERROR(ROUND(VLOOKUP(9,T44:V58,3,FALSE),3))=TRUE,"",ROUND(VLOOKUP(9,T44:V58,3,FALSE),3)) | D99: =IF(ISERROR(VLOOKUP(9,T44:W58,4,FALSE))=TRUE,"",VLOOKUP(9,T44:W58,4,FALSE))
A100: 10 | B100: =IF(ISERROR(VLOOKUP(10,T44:V58,2,FALSE))=TRUE,"",VLOOKUP(10,T44:V58,2,FALSE)) | C100: =IF(ISERROR(ROUND(VLOOKUP(10,T44:V58,3,FALSE),3))=TRUE,"",ROUND(VLOOKUP(10,T44:V58,3,FALSE),3)) | D100: =IF(ISERROR(VLOOKUP(10,T44:W58,4,FALSE))=TRUE,"",VLOOKUP(10,T44:W58,4,FALSE))
A101: 11 | B101: =IF(ISERROR(VLOOKUP(11,T44:V58,2,FALSE))=TRUE,"",VLOOKUP(11,T44:V58,2,FALSE)) | C101: =IF(ISERROR(ROUND(VLOOKUP(11,T44:V58,3,FALSE),3))=TRUE,"",ROUND(VLOOKUP(11,T44:V58,3,FALSE),3)) | D101: =IF(ISERROR(VLOOKUP(11,T44:W58,4,FALSE))=TRUE,"",VLOOKUP(11,T44:W58,4,FALSE))
A102: 12 | B102: =IF(ISERROR(VLOOKUP(12,T44:V58,2,FALSE))=TRUE,"",VLOOKUP(12,T44:V58,2,FALSE)) | C102: =IF(ISERROR(ROUND(VLOOKUP(12,T44:V58,3,FALSE),3))=TRUE,"",ROUND(VLOOKUP(12,T44:V58,3,FALSE),3)) | D102: =IF(ISERROR(VLOOKUP(12,T44:W58,4,FALSE))=TRUE,"",VLOOKUP(12,T44:W58,4,FALSE))
A103: 13 | B103: =IF(ISERROR(VLOOKUP(13,T44:V58,2,FALSE))=TRUE,"",VLOOKUP(13,T44:V58,2,FALSE)) | C103: =IF(ISERROR(ROUND(VLOOKUP(13,T44:V58,3,FALSE),3))=TRUE,"",ROUND(VLOOKUP(13,T44:V58,3,FALSE),3)) | D103: =IF(ISERROR(VLOOKUP(13,T44:W58,4,FALSE))=TRUE,"",VLOOKUP(13,T44:W58,4,FALSE))
A104: 14 | B104: =IF(ISERROR(VLOOKUP(14,T44:V58,2,FALSE))=TRUE,"",VLOOKUP(14,T44:V58,2,FALSE)) | C104: =IF(ISERROR(ROUND(VLOOKUP(14,T44:V58,3,FALSE),3)),"",ROUND(VLOOKUP(14,T44:V58,3,FALSE),3)) | D104: =IF(ISERROR(VLOOKUP(14,T44:W58,4,FALSE)),"",VLOOKUP(14,T44:W58,4,FALSE))
A105: 15 | B105: =IF(ISERROR(VLOOKUP(15,T44:V58,2,FALSE))=TRUE,"",VLOOKUP(15,T44:V58,2,FALSE)) | C105: =IF(ISERROR(ROUND(VLOOKUP(15,T44:V58,3,FALSE),3))=TRUE,"",ROUND(VLOOKUP(15,T44:V58,3,FALSE),3)) | D105: =IF(ISERROR(VLOOKUP(15,T44:W58,4,FALSE))=TRUE,"",VLOOKUP(15,T44:W58,4,FALSE))
A106: 16 | B106: =IF(ISERROR(VLOOKUP(16,T44:V58,2,FALSE))=TRUE,"",VLOOKUP(16,T44:V58,2,FALSE)) | C106: =IF(ISERROR(ROUND(VLOOKUP(16,T44:V58,3,FALSE),3))=TRUE,"",ROUND(VLOOKUP(16,T44:V58,3,FALSE),3)) | D106: =IF(ISERROR(VLOOKUP(16,T44:W58,4,FALSE))=TRUE,"",VLOOKUP(16,T44:W58,4,FALSE))
A107: 17 | B107: =IF(ISERROR(VLOOKUP(17,T9:V39,2,FALSE))=TRUE,"",VLOOKUP(17,T9:V39,2,FALSE)) | C107: =IF(ISERROR(ROUND(VLOOKUP(17,T9:V39,3,FALSE),3))=TRUE,"",ROUND(VLOOKUP(17,T9:V39,3,FALSE),3)) | D107: =IF(ISERROR(VLOOKUP(17,T9:W39,4,FALSE))=TRUE,"",VLOOKUP(17,T9:W39,4,FALSE))
A108: 18 | B108: =IF(ISERROR(VLOOKUP(18,T9:V39,2,FALSE))=TRUE,"",VLOOKUP(18,T9:V39,2,FALSE)) | C108: =IF(ISERROR(ROUND(VLOOKUP(18,T9:V39,3,FALSE),3))=TRUE,"",ROUND(VLOOKUP(18,T9:V39,3,FALSE),3)) | D108: =IF(ISERROR(VLOOKUP(18,T9:W39,4,FALSE))=TRUE,"",VLOOKUP(18,T9:W39,4,FALSE))
A109: 19 | B109: =IF(ISERROR(VLOOKUP(19,T9:V39,2,FALSE))=TRUE,"",VLOOKUP(19,T9:V39,2,FALSE)) | C109: =IF(ISERROR(ROUND(VLOOKUP(19,T9:V39,3,FALSE),3))=TRUE,"",ROUND(VLOOKUP(19,T9:V39,3,FALSE),3)) | D109: =IF(ISERROR(VLOOKUP(19,T9:W39,4,FALSE))=TRUE,"",VLOOKUP(19,T9:W39,4,FALSE))
A110: 20 | B110: =IF(ISERROR(VLOOKUP(20,T9:V39,2,FALSE))=TRUE,"",VLOOKUP(20,T9:V39,2,FALSE)) | C110: =IF(ISERROR(ROUND(VLOOKUP(20,T9:V39,3,FALSE),3))=TRUE,"",ROUND(VLOOKUP(20,T9:V39,3,FALSE),3)) | D110: =IF(ISERROR(VLOOKUP(20,T9:W39,4,FALSE))=TRUE,"",VLOOKUP(20,T9:W39,4,FALSE))
A111: 21 | B111: =IF(ISERROR(VLOOKUP(21,T9:V39,2,FALSE))=TRUE,"",VLOOKUP(21,T9:V39,2,FALSE)) | C111: =IF(ISERROR(ROUND(VLOOKUP(21,T9:V39,3,FALSE),3))=TRUE,"",ROUND(VLOOKUP(21,T9:V39,3,FALSE),3)) | D111: =IF(ISERROR(VLOOKUP(21,T9:W39,4,FALSE))=TRUE,"",VLOOKUP(21,T9:W39,4,FALSE))
A112: 22 | B112: =IF(ISERROR(VLOOKUP(22,T9:V39,2,FALSE))=TRUE,"",VLOOKUP(22,T9:V39,2,FALSE)) | C112: =IF(ISERROR(ROUND(VLOOKUP(22,T9:V39,3,FALSE),3))=TRUE,"",ROUND(VLOOKUP(22,T9:V39,3,FALSE),3)) | D112: =IF(ISERROR(VLOOKUP(22,T9:W39,4,FALSE))=TRUE,"",VLOOKUP(22,T9:W39,4,FALSE))
A113: 23 | B113: =IF(ISERROR(VLOOKUP(23,T9:V39,2,FALSE))=TRUE,"",VLOOKUP(23,T9:V39,2,FALSE)) | C113: =IF(ISERROR(ROUND(VLOOKUP(23,T9:V39,3,FALSE),3))=TRUE,"",ROUND(VLOOKUP(23,T9:V39,3,FALSE),3)) | D113: =IF(ISERROR(VLOOKUP(23,T9:W39,4,FALSE))=TRUE,"",VLOOKUP(23,T9:W39,4,FALSE))
...

Sheet Junior-Women Quals
D1: Moscow City Race: Afterparty | AP1: Database development by
D2: 23 May 2015 • Moscow, Krasnaya presnya park | AP2: Dan Gesmer, SeismicSK8@aol.com
D3: Tight / Junior-Women Qualifications
A5: 0.1 | B5: secs penalty per hit cone
A6: 20 | B6: maximum hit cones before DQ
A7: 2 | B7: false start multiplication factor | D7: Under "Raw Time," enter "DQ" or"DNF" for | AP7: Advance Racers who DQ | AS7: Y
A8: =IF(ISERROR(0.1*AR12)=TRUE,"",ROUND(0.1*AR12,2)) -> 2.16 | B8: secs head-to-head DQ/DNR penalty | D8: "Disqualified" and "DNR" for "Did Not Race." | AP8: all Qualifying Runs? (Y/N)
A9: =IF(ISERROR(0.1*AR12)=TRUE,"",ROUND(0.1*AR12,2)) -> 2.16 | B9: secs max head-to-head victory margin
B10: Bib Number | C10: Racer Name | D10: Run 1 | K10: Run 2 | Q10: Qual Rank (w/out DQs) | R10: Best Time | S10: Qualifying Position | T10: Qual Rank (w/DQs sequenced) | U10: Racer No. & Name | V10: Best Time | W10: Double DQ Place Factor | X10: No. of Ties per Best Time | Y10: Tied-at Time | Z10: Tied-at Time Rank | AA10: Run 1 Time w/DQ Adjust | AB10: Run 2 Time w/DQ Adjust | AC10: Total Time w/DQ Adjust | AD10: Total Time Rank | AE10: Total Tie Place Factor | AF10: Tie 1 Total Time Rank | AG10: Tie 1 Place Factor | AH10: Tie 2 Total Time Rank | AI10: Tie 2 Place Factor | AJ10: Tie 3 Total Time Rank | AK10: Tie 3 Place Factor | AL10: Placed Racer No. & Name | AM10: Withdrawal Place Factor | AN10: Double DQ Place Factor 2 | AO10: Final Spot - Withdrawals | AP10: Qualifying Position | AQ10: Racer No. & Name | AR10: Best Time | AS10: Withdraw (W)
D11: Raw Time | E11: Cones | F11: Reaction Time | G11: False Start | H11: Final Time | I11: Run Rank | K11: Raw Time | L11: Cones | M11: Reaction Time | N11: False Start | O11: Final Time | P11: Run Rank
A12: 1 | C12: Nazarkin Boris | D12: 21.579 | E12: 0 | F12: 0.686 | H12: {=IF(LEFT(D12:D111,1)="D","-",IF(E12:E111>A6,"-",IF(D12:D111>0,D12:D111+E12:E111*A5+G12:G111*A7,"")))} -> 21.579 | I12: {=IF(H12:H111="","",IF(H12:H111="-","",RANK(H12:H111,H12:H111,1)))} -> 1 | K12: 22.035 | L12: 0 | M12: 0.964 | O12: {=IF(LEFT(K12:K111,1)="D","-",IF(L12:L111>A6,"-",IF(K12:K111>0,K12:K111+L12:L111*A5+N12:N111*A7,"")))} -> 22.035 | P12: {=IF(O12:O111="","",IF(O12:O111="-","",RANK(O12:O111,O12:O111,1)))} -> 2 | Q12: {=IF(R12:R111="","",IF(R12:R111="-","",RANK(R12:R111,R12:R111,1)))} -> 1 | R12: =IF(AND(ISBLANK(D12),ISBLANK(K12)),"",IF(AND(H12="-",O12="-"),"-",IF(AND(H12="-",ISBLANK(K12)),"-",MIN(H12,O12)))) -> 21.579 | S12: {=IF(R12:R111="","",VLOOKUP(U12:U111,AL12:AP111,5,FALSE))} -> 1 | T12: {=IF(R12:R111="","",IF(R12:R111="-",COUNT(Q12:Q111)+W12:W111,Q12:Q111+AE12:AE111+AG12:AG111+AI12:AI111+AK12:AK111))} -> 1 | U12: {=IF(B12:B111 ="","",B12:B111 & " ")&C12:C111} -> Nazarkin Boris | V12: {=R12:R111} -> 21.579 | W12: =IF(R12="","",COUNTIF(R12:R12,"-")) -> 0 | X12: {=IF(Q12:Q111="","",COUNTIF(Q12:Q111,Q12:Q111)-1)} -> 0 | Y12: {=IF(R12:R111="-","",IF(X12:X111=0,"",R12:R111))} | Z12: {=IF(Y12:Y111="","",RANK(Y12:Y111,Y12:Y111,1))} | AA12: {=IF(X12:X111="","",IF(X12:X111=0,"",IF(LEFT(H12:H111,1)="-","199",H12:H111)))} | AB12: {=IF(X12:X111="","",IF(X12:X111=0,"",IF(LEFT(O12:O111,1)="-","199",O12:O111)))} | AC12: {=IF(ISERROR(AA12:AA111+AB12:AB111)=TRUE,AA12:AA111,AA12:AA111+AB12:AB111)} | AD12: {=IF(R12:R111="","",IF(X12:X111=0,"0",IF(ISERROR(RANK(AC12:AC111,AC12:AC111,1))=TRUE,"0",RANK(AC12:AC111,AC12:AC111,1))))} -> 0 | AE12: 0 | AF12: {=IF(ISERROR(X12:X111)=TRUE,"",IF(Z12:Z111=1,AD12:AD111,""))} | AG12: {=IF(R12:R111="","",IF(AF12:AF111="","0",RANK(AF12:AF111,AF12:AF111,1)-1))} -> 0 | AH12: {=IF(ISERROR(X12:X111)=TRUE,"",IF(Z12:Z111=COUNT(AF12:AF111)+1,AD12:AD111,""))} | AI12: {=IF(R12:R111="","",IF(AH12:AH111="","0",RANK(AH12:AH111,AH12:AH111,1)-1))} -> 0 | AJ12: {=IF(ISERROR(X12:X111)=TRUE,"",IF(Z12:Z111=COUNT(AF12:AF111)+COUNT(AH12:AH111)+1,AD12:AD111,""))} | AK12: {=IF(R12:R111="","",IF(AJ12:AJ111="","0",RANK(AJ12:AJ111,AJ12:AJ111,1)-1))} -> 0 | AL12: {=AQ12:AQ111} -> Nazarkin Boris | AM12: =COUNTIF(AS12:AS12,"W") -> 0 | AN12: =IF(AR12="","",COUNTIF(AR12:AR12,"-")) -> 0 | AO12: {=IF(AQ12:AQ111="BYE","",IF(AS12:AS111="W","",IF(AS7="N",IF(AP12:AP111<=COUNT(Q12:Q111),AP12:AP111-AM12:AM111,""),IF(AP12:AP111<=COUNT(Q12:Q111),AP12:AP111-AM12:AM111,AP12:AP111-AM12:AM111+AN12:AN111-1))))} -> 1 | AP12: {=IF(R12:R111="","",IF(AP11:AP110+1<=COUNT(Q12:Q111),AP11:AP110+1,COUNT(Q12:Q111)+1))} -> 1 | AQ12: {=IF(R12:R111="","BYE",IF(ISERROR(VLOOKUP(A12:A111,T12:U111,2,FALSE))=TRUE,"",VLOOKUP(A12:A111,T12:U111,2,FALSE)))} -> Nazarkin Boris | AR12: {=IF(C12:C111="BYE", "",IF(A12:A111="","",IF(ISERROR(VLOOKUP(A12:A111,T12:V111,3,FALSE))=TRUE,"",VLOOKUP(A12:A111,T12:V111,3,FALSE))))} -> 21.579
A13: 2 | C13: Hohlova Elizaveta | D13: 22.411 | E13: 1 | F13: 0.831 | H13: 22.511 | I13: 3 | K13: 21.917 | L13: 0 | M13: 0.624 | O13: 21.917 | P13: 1 | Q13: 2 | R13: =IF(AND(ISBLANK(D13),ISBLANK(K13)),"",IF(AND(H13="-",O13="-"),"-",IF(AND(H13="-",ISBLANK(K13)),"-",MIN(H13,O13)))) -> 21.917 | S13: 2 | T13: 2 | U13: Hohlova Elizaveta | V13: 21.917 | W13: =IF(R13="","",COUNTIF(R12:R13,"-")) -> 0 | X13: 0 | AD13: 0 | AE13: =IF(R13="","",IF(AD13="0","0",COUNTIF(AD12:AD12,AD13))) -> 0 | AG13: 0 | AI13: 0 | AK13: 0 | AL13: Hohlova Elizaveta | AM13: =COUNTIF(AS12:AS13,"W") -> 0 | AN13: =IF(AR13="","",COUNTIF(AR12:AR13,"-")) -> 0 | AO13: 2 | AP13: 2 | AQ13: Hohlova Elizaveta | AR13: 21.917
A14: 3 | C14: Stroganova Ekaterina | D14: 22.483 | E14: 0 | F14: 0.69 | H14: 22.483 | I14: 2 | K14: 22.4 | L14: 2 | M14: 0.681 | O14: 22.6 | P14: 3 | Q14: 3 | R14: =IF(AND(ISBLANK(D14),ISBLANK(K14)),"",IF(AND(H14="-",O14="-"),"-",IF(AND(H14="-",ISBLANK(K14)),"-",MIN(H14,O14)))) -> 22.483 | S14: 3 | T14: 3 | U14: Stroganova Ekaterina | V14: 22.483 | W14: =IF(R14="","",COUNTIF(R12:R14,"-")) -> 0 | X14: 0 | AD14: 0 | AE14: =IF(R14="","",IF(AD14="0","0",COUNTIF(AD12:AD13,AD14))) -> 0 | AG14: 0 | AI14: 0 | AK14: 0 | AL14: Stroganova Ekaterina | AM14: =COUNTIF(AS12:AS14,"W") -> 0 | AN14: =IF(AR14="","",COUNTIF(AR12:AR14,"-")) -> 0 | AO14: 3 | AP14: 3 | AQ14: Stroganova Ekaterina | AR14: 22.483
A15: 4 | R15: =IF(AND(ISBLANK(D15),ISBLANK(K15)),"",IF(AND(H15="-",O15="-"),"-",IF(AND(H15="-",ISBLANK(K15)),"-",MIN(H15,O15)))) | W15: =IF(R15="","",COUNTIF(R12:R15,"-")) | AE15: =IF(R15="","",IF(AD15="0","0",COUNTIF(AD12:AD14,AD15))) | AL15: BYE | AM15: =COUNTIF(AS12:AS15,"W") -> 0 | AN15: =IF(AR15="","",COUNTIF(AR12:AR15,"-")) | AQ15: BYE
A16: 5 | R16: =IF(AND(ISBLANK(D16),ISBLANK(K16)),"",IF(AND(H16="-",O16="-"),"-",IF(AND(H16="-",ISBLANK(K16)),"-",MIN(H16,O16)))) | W16: =IF(R16="","",COUNTIF(R12:R16,"-")) | AE16: =IF(R16="","",IF(AD16="0","0",COUNTIF(AD12:AD15,AD16))) | AL16: BYE | AM16: =COUNTIF(AS12:AS16,"W") -> 0 | AN16: =IF(AR16="","",COUNTIF(AR12:AR16,"-")) | AQ16: BYE
A17: 6 | R17: =IF(AND(ISBLANK(D17),ISBLANK(K17)),"",IF(AND(H17="-",O17="-"),"-",IF(AND(H17="-",ISBLANK(K17)),"-",MIN(H17,O17)))) | W17: =IF(R17="","",COUNTIF(R12:R17,"-")) | AE17: =IF(R17="","",IF(AD17="0","0",COUNTIF(AD12:AD16,AD17))) | AL17: BYE | AM17: =COUNTIF(AS12:AS17,"W") -> 0 | AN17: =IF(AR17="","",COUNTIF(AR12:AR17,"-")) | AQ17: BYE
A18: 7 | R18: =IF(AND(ISBLANK(D18),ISBLANK(K18)),"",IF(AND(H18="-",O18="-"),"-",IF(AND(H18="-",ISBLANK(K18)),"-",MIN(H18,O18)))) | W18: =IF(R18="","",COUNTIF(R12:R18,"-")) | AE18: =IF(R18="","",IF(R18="","",IF(AD18="0","0",COUNTIF(AD12:AD17,AD18)))) | AL18: BYE | AM18: =COUNTIF(AS12:AS18,"W") -> 0 | AN18: =IF(AR18="","",COUNTIF(AR12:AR18,"-")) | AQ18: BYE
A19: 8 | R19: =IF(AND(ISBLANK(D19),ISBLANK(K19)),"",IF(AND(H19="-",O19="-"),"-",IF(AND(H19="-",ISBLANK(K19)),"-",MIN(H19,O19)))) | W19: =IF(R19="","",COUNTIF(R12:R19,"-")) | AE19: =IF(R19="","",IF(R19="","",IF(AD19="0","0",COUNTIF(AD12:AD18,AD19)))) | AL19: BYE | AM19: =COUNTIF(AS12:AS19,"W") -> 0 | AN19: =IF(AR19="","",COUNTIF(AR12:AR19,"-")) | AQ19: BYE
A20: 9 | R20: =IF(AND(ISBLANK(D20),ISBLANK(K20)),"",IF(AND(H20="-",O20="-"),"-",IF(AND(H20="-",ISBLANK(K20)),"-",MIN(H20,O20)))) | W20: =IF(R20="","",COUNTIF(R12:R20,"-")) | AE20: =IF(R20="","",IF(R20="","",IF(AD20="0","0",COUNTIF(AD12:AD19,AD20)))) | AL20: BYE | AM20: =COUNTIF(AS12:AS20,"W") -> 0 | AN20: =IF(AR20="","",COUNTIF(AR12:AR20,"-")) | AQ20: BYE
A21: 10 | R21: =IF(AND(ISBLANK(D21),ISBLANK(K21)),"",IF(AND(H21="-",O21="-"),"-",IF(AND(H21="-",ISBLANK(K21)),"-",MIN(H21,O21)))) | W21: =IF(R21="","",COUNTIF(R12:R21,"-")) | AE21: =IF(R21="","",IF(AD21="0","0",COUNTIF(AD12:AD20,AD21))) | AL21: BYE | AM21: =COUNTIF(AS12:AS21,"W") -> 0 | AN21: =IF(AR21="","",COUNTIF(AR12:AR21,"-")) | AQ21: BYE
A22: 11 | R22: =IF(AND(ISBLANK(D22),ISBLANK(K22)),"",IF(AND(H22="-",O22="-"),"-",IF(AND(H22="-",ISBLANK(K22)),"-",MIN(H22,O22)))) | W22: =IF(R22="","",COUNTIF(R12:R22,"-")) | AE22: =IF(R22="","",IF(AD22="0","0",COUNTIF(AD1:AD21,AD22))) | AL22: BYE | AM22: =COUNTIF(AS12:AS22,"W") -> 0 | AN22: =IF(AR22="","",COUNTIF(AR12:AR22,"-")) | AQ22: BYE
A23: 12 | R23: =IF(AND(ISBLANK(D23),ISBLANK(K23)),"",IF(AND(H23="-",O23="-"),"-",IF(AND(H23="-",ISBLANK(K23)),"-",MIN(H23,O23)))) | W23: =IF(R23="","",COUNTIF(R12:R23,"-")) | AE23: =IF(R23="","",IF(AD23="0","0",COUNTIF(AD12:AD22,AD23))) | AL23: BYE | AM23: =COUNTIF(AS12:AS23,"W") -> 0 | AN23: =IF(AR23="","",COUNTIF(AR12:AR23,"-")) | AQ23: BYE
A24: 13 | R24: =IF(AND(ISBLANK(D24),ISBLANK(K24)),"",IF(AND(H24="-",O24="-"),"-",IF(AND(H24="-",ISBLANK(K24)),"-",MIN(H24,O24)))) | W24: =IF(R24="","",COUNTIF(R12:R24,"-")) | AE24: =IF(R24="","",IF(AD24="0","0",COUNTIF(AD12:AD23,AD24))) | AL24: BYE | AM24: =COUNTIF(AS12:AS24,"W") -> 0 | AN24: =IF(AR24="","",COUNTIF(AR12:AR24,"-")) | AQ24: BYE
A25: 14 | R25: =IF(AND(ISBLANK(D25),ISBLANK(K25)),"",IF(AND(H25="-",O25="-"),"-",IF(AND(H25="-",ISBLANK(K25)),"-",MIN(H25,O25)))) | W25: =IF(R25="","",COUNTIF(R12:R25,"-")) | AE25: =IF(R25="","",IF(AD25="0","0",COUNTIF(AD12:AD24,AD25))) | AL25: BYE | AM25: =COUNTIF(AS12:AS25,"W") -> 0 | AN25: =IF(AR25="","",COUNTIF(AR12:AR25,"-")) | AQ25: BYE
A26: 15 | R26: =IF(AND(ISBLANK(D26),ISBLANK(K26)),"",IF(AND(H26="-",O26="-"),"-",IF(AND(H26="-",ISBLANK(K26)),"-",MIN(H26,O26)))) | W26: =IF(R26="","",COUNTIF(R12:R26,"-")) | AE26: =IF(R26="","",IF(AD26="0","0",COUNTIF(AD12:AD25,AD26))) | AL26: BYE | AM26: =COUNTIF(AS12:AS26,"W") -> 0 | AN26: =IF(AR26="","",COUNTIF(AR12:AR26,"-")) | AQ26: BYE
A27: 16 | R27: =IF(AND(ISBLANK(D27),ISBLANK(K27)),"",IF(AND(H27="-",O27="-"),"-",IF(AND(H27="-",ISBLANK(K27)),"-",MIN(H27,O27)))) | W27: =IF(R27="","",COUNTIF(R12:R27,"-")) | AE27: =IF(R27="","",IF(AD27="0","0",COUNTIF(AD12:AD26,AD27))) | AL27: BYE | AM27: =COUNTIF(AS12:AS27,"W") -> 0 | AN27: =IF(AR27="","",COUNTIF(AR12:AR27,"-")) | AQ27: BYE
A28: 17 | R28: =IF(AND(ISBLANK(D28),ISBLANK(K28)),"",IF(AND(H28="-",O28="-"),"-",IF(AND(H28="-",ISBLANK(K28)),"-",MIN(H28,O28)))) | W28: =IF(R28="","",COUNTIF(R12:R28,"-")) | AE28: =IF(R28="","",IF(AD28="0","0",COUNTIF(AD12:AD27,AD28))) | AL28: BYE | AM28: =COUNTIF(AS12:AS28,"W") -> 0 | AN28: =IF(AR28="","",COUNTIF(AR12:AR28,"-")) | AQ28: BYE
A29: 18 | R29: =IF(AND(ISBLANK(D29),ISBLANK(K29)),"",IF(AND(H29="-",O29="-"),"-",IF(AND(H29="-",ISBLANK(K29)),"-",MIN(H29,O29)))) | W29: =IF(R29="","",COUNTIF(R12:R29,"-")) | AE29: =IF(R29="","",IF(AD29="0","0",COUNTIF(AD12:AD28,AD29))) | AL29: BYE | AM29: =COUNTIF(AS12:AS29,"W") -> 0 | AN29: =IF(AR29="","",COUNTIF(AR12:AR29,"-")) | AQ29: BYE
A30: 19 | R30: =IF(AND(ISBLANK(D30),ISBLANK(K30)),"",IF(AND(H30="-",O30="-"),"-",IF(AND(H30="-",ISBLANK(K30)),"-",MIN(H30,O30)))) | W30: =IF(R30="","",COUNTIF(R12:R30,"-")) | AE30: =IF(R30="","",IF(AD30="0","0",COUNTIF(AD12:AD29,AD30))) | AL30: BYE | AM30: =COUNTIF(AS12:AS30,"W") -> 0 | AN30: =IF(AR30="","",COUNTIF(AR12:AR30,"-")) | AQ30: BYE
A31: 20 | R31: =IF(AND(ISBLANK(D31),ISBLANK(K31)),"",IF(AND(H31="-",O31="-"),"-",IF(AND(H31="-",ISBLANK(K31)),"-",MIN(H31,O31)))) | W31: =IF(R31="","",COUNTIF(R12:R31,"-")) | AE31: =IF(R31="","",IF(AD31="0","0",COUNTIF(AD12:AD30,AD31))) | AL31: BYE | AM31: =COUNTIF(AS12:AS31,"W") -> 0 | AN31: =IF(AR31="","",COUNTIF(AR12:AR31,"-")) | AQ31: BYE
A32: 21 | R32: =IF(AND(ISBLANK(D32),ISBLANK(K32)),"",IF(AND(H32="-",O32="-"),"-",IF(AND(H32="-",ISBLANK(K32)),"-",MIN(H32,O32)))) | W32: =IF(R32="","",COUNTIF(R12:R32,"-")) | AE32: =IF(R32="","",IF(AD32="0","0",COUNTIF(AD12:AD31,AD32))) | AL32: BYE | AM32: =COUNTIF(AS12:AS32,"W") -> 0 | AN32: =IF(AR32="","",COUNTIF(AR12:AR32,"-")) | AQ32: BYE
A33: 22 | R33: =IF(AND(ISBLANK(D33),ISBLANK(K33)),"",IF(AND(H33="-",O33="-"),"-",IF(AND(H33="-",ISBLANK(K33)),"-",MIN(H33,O33)))) | W33: =IF(R33="","",COUNTIF(R12:R33,"-")) | AE33: =IF(R33="","",IF(AD33="0","0",COUNTIF(AD12:AD32,AD33))) | AL33: BYE | AM33: =COUNTIF(AS12:AS33,"W") -> 0 | AN33: =IF(AR33="","",COUNTIF(AR12:AR33,"-")) | AQ33: BYE
A34: 23 | R34: =IF(AND(ISBLANK(D34),ISBLANK(K34)),"",IF(AND(H34="-",O34="-"),"-",IF(AND(H34="-",ISBLANK(K34)),"-",MIN(H34,O34)))) | W34: =IF(R34="","",COUNTIF(R12:R34,"-")) | AE34: =IF(R34="","",IF(AD34="0","0",COUNTIF(AD12:AD33,AD34))) | AL34: BYE | AM34: =COUNTIF(AS12:AS34,"W") -> 0 | AN34: =IF(AR34="","",COUNTIF(AR12:AR34,"-")) | AQ34: BYE
A35: 24 | R35: =IF(AND(ISBLANK(D35),ISBLANK(K35)),"",IF(AND(H35="-",O35="-"),"-",IF(AND(H35="-",ISBLANK(K35)),"-",MIN(H35,O35)))) | W35: =IF(R35="","",COUNTIF(R12:R35,"-")) | AE35: =IF(R35="","",IF(AD35="0","0",COUNTIF(AD12:AD34,AD35))) | AL35: BYE | AM35: =COUNTIF(AS12:AS35,"W") -> 0 | AN35: =IF(AR35="","",COUNTIF(AR12:AR35,"-")) | AQ35: BYE
A36: 25 | R36: =IF(AND(ISBLANK(D36),ISBLANK(K36)),"",IF(AND(H36="-",O36="-"),"-",IF(AND(H36="-",ISBLANK(K36)),"-",MIN(H36,O36)))) | W36: =IF(R36="","",COUNTIF(R12:R36,"-")) | AE36: =IF(R36="","",IF(AD36="0","0",COUNTIF(AD12:AD35,AD36))) | AL36: BYE | AM36: =COUNTIF(AS12:AS36,"W") -> 0 | AN36: =IF(AR36="","",COUNTIF(AR12:AR36,"-")) | AQ36: BYE
A37: 26 | R37: =IF(AND(ISBLANK(D37),ISBLANK(K37)),"",IF(AND(H37="-",O37="-"),"-",IF(AND(H37="-",ISBLANK(K37)),"-",MIN(H37,O37)))) | W37: =IF(R37="","",COUNTIF(R12:R37,"-")) | AE37: =IF(R37="","",IF(AD37="0","0",COUNTIF(AD12:AD36,AD37))) | AL37: BYE | AM37: =COUNTIF(AS12:AS37,"W") -> 0 | AN37: =IF(AR37="","",COUNTIF(AR12:AR37,"-")) | AQ37: BYE
A38: 27 | R38: =IF(AND(ISBLANK(D38),ISBLANK(K38)),"",IF(AND(H38="-",O38="-"),"-",IF(AND(H38="-",ISBLANK(K38)),"-",MIN(H38,O38)))) | W38: =IF(R38="","",COUNTIF(R12:R38,"-")) | AE38: =IF(R38="","",IF(AD38="0","0",COUNTIF(AD12:AD37,AD38))) | AL38: BYE | AM38: =COUNTIF(AS12:AS38,"W") -> 0 | AN38: =IF(AR38="","",COUNTIF(AR12:AR38,"-")) | AQ38: BYE
A39: 28 | R39: =IF(AND(ISBLANK(D39),ISBLANK(K39)),"",IF(AND(H39="-",O39="-"),"-",IF(AND(H39="-",ISBLANK(K39)),"-",MIN(H39,O39)))) | W39: =IF(R39="","",COUNTIF(R12:R39,"-")) | AE39: =IF(R39="","",IF(AD39="0","0",COUNTIF(AD12:AD38,AD39))) | AL39: BYE | AM39: =COUNTIF(AS12:AS39,"W") -> 0 | AN39: =IF(AR39="","",COUNTIF(AR12:AR39,"-")) | AQ39: BYE
A40: 29 | R40: =IF(AND(ISBLANK(D40),ISBLANK(K40)),"",IF(AND(H40="-",O40="-"),"-",IF(AND(H40="-",ISBLANK(K40)),"-",MIN(H40,O40)))) | W40: =IF(R40="","",COUNTIF(R12:R40,"-")) | AE40: =IF(R40="","",IF(AD40="0","0",COUNTIF(AD12:AD39,AD40))) | AL40: BYE | AM40: =COUNTIF(AS12:AS40,"W") -> 0 | AN40: =IF(AR40="","",COUNTIF(AR12:AR40,"-")) | AQ40: BYE
A41: 30 | R41: =IF(AND(ISBLANK(D41),ISBLANK(K41)),"",IF(AND(H41="-",O41="-"),"-",IF(AND(H41="-",ISBLANK(K41)),"-",MIN(H41,O41)))) | W41: =IF(R41="","",COUNTIF(R12:R41,"-")) | AE41: =IF(R41="","",IF(AD41="0","0",COUNTIF(AD12:AD40,AD41))) | AL41: BYE | AM41: =COUNTIF(AS12:AS41,"W") -> 0 | AN41: =IF(AR41="","",COUNTIF(AR12:AR41,"-")) | AQ41: BYE
A42: 31 | R42: =IF(AND(ISBLANK(D42),ISBLANK(K42)),"",IF(AND(H42="-",O42="-"),"-",IF(AND(H42="-",ISBLANK(K42)),"-",MIN(H42,O42)))) | W42: =IF(R42="","",COUNTIF(R12:R42,"-")) | AE42: =IF(R42="","",IF(AD42="0","0",COUNTIF(AD12:AD41,AD42))) | AL42: BYE | AM42: =COUNTIF(AS12:AS42,"W") -> 0 | AN42: =IF(AR42="","",COUNTIF(AR12:AR42,"-")) | AQ42: BYE
A43: 32 | R43: =IF(AND(ISBLANK(D43),ISBLANK(K43)),"",IF(AND(H43="-",O43="-"),"-",IF(AND(H43="-",ISBLANK(K43)),"-",MIN(H43,O43)))) | W43: =IF(R43="","",COUNTIF(R12:R43,"-")) | AE43: =IF(R43="","",IF(AD43="0","0",COUNTIF(AD12:AD42,AD43))) | AL43: BYE | AM43: =COUNTIF(AS12:AS43,"W") -> 0 | AN43: =IF(AR43="","",COUNTIF(AR12:AR43,"-")) | AQ43: BYE
A44: 33 | R44: =IF(AND(ISBLANK(D44),ISBLANK(K44)),"",IF(AND(H44="-",O44="-"),"-",IF(AND(H44="-",ISBLANK(K44)),"-",MIN(H44,O44)))) | W44: =IF(R44="","",COUNTIF(R12:R44,"-")) | AE44: =IF(R44="","",IF(AD44="0","0",COUNTIF(AD12:AD43,AD44))) | AL44: BYE | AM44: =COUNTIF(AS12:AS44,"W") -> 0 | AN44: =IF(AR44="","",COUNTIF(AR12:AR44,"-")) | AQ44: BYE
A45: 34 | R45: =IF(AND(ISBLANK(D45),ISBLANK(K45)),"",IF(AND(H45="-",O45="-"),"-",IF(AND(H45="-",ISBLANK(K45)),"-",MIN(H45,O45)))) | W45: =IF(R45="","",COUNTIF(R12:R45,"-")) | AE45: =IF(R45="","",IF(AD45="0","0",COUNTIF(AD12:AD44,AD45))) | AL45: BYE | AM45: =COUNTIF(AS12:AS45,"W") -> 0 | AN45: =IF(AR45="","",COUNTIF(AR12:AR45,"-")) | AQ45: BYE
A46: 35 | R46: =IF(AND(ISBLANK(D46),ISBLANK(K46)),"",IF(AND(H46="-",O46="-"),"-",IF(AND(H46="-",ISBLANK(K46)),"-",MIN(H46,O46)))) | W46: =IF(R46="","",COUNTIF(R12:R46,"-")) | AE46: =IF(R46="","",IF(AD46="0","0",COUNTIF(AD12:AD45,AD46))) | AL46: BYE | AM46: =COUNTIF(AS12:AS46,"W") -> 0 | AN46: =IF(AR46="","",COUNTIF(AR12:AR46,"-")) | AQ46: BYE
A47: 36 | R47: =IF(AND(ISBLANK(D47),ISBLANK(K47)),"",IF(AND(H47="-",O47="-"),"-",IF(AND(H47="-",ISBLANK(K47)),"-",MIN(H47,O47)))) | W47: =IF(R47="","",COUNTIF(R12:R47,"-")) | AE47: =IF(R47="","",IF(AD47="0","0",COUNTIF(AD12:AD46,AD47))) | AL47: BYE | AM47: =COUNTIF(AS12:AS47,"W") -> 0 | AN47: =IF(AR47="","",COUNTIF(AR12:AR47,"-")) | AQ47: BYE
A48: 37 | R48: =IF(AND(ISBLANK(D48),ISBLANK(K48)),"",IF(AND(H48="-",O48="-"),"-",IF(AND(H48="-",ISBLANK(K48)),"-",MIN(H48,O48)))) | W48: =IF(R48="","",COUNTIF(R12:R48,"-")) | AE48: =IF(R48="","",IF(AD48="0","0",COUNTIF(AD12:AD47,AD48))) | AL48: BYE | AM48: =COUNTIF(AS12:AS48,"W") -> 0 | AN48: =IF(AR48="","",COUNTIF(AR12:AR48,"-")) | AQ48: BYE
A49: 38 | R49: =IF(AND(ISBLANK(D49),ISBLANK(K49)),"",IF(AND(H49="-",O49="-"),"-",IF(AND(H49="-",ISBLANK(K49)),"-",MIN(H49,O49)))) | W49: =IF(R49="","",COUNTIF(R12:R49,"-")) | AE49: =IF(R49="","",IF(AD49="0","0",COUNTIF(AD12:AD48,AD49))) | AL49: BYE | AM49: =COUNTIF(AS12:AS49,"W") -> 0 | AN49: =IF(AR49="","",COUNTIF(AR12:AR49,"-")) | AQ49: BYE
A50: 39 | R50: =IF(AND(ISBLANK(D50),ISBLANK(K50)),"",IF(AND(H50="-",O50="-"),"-",IF(AND(H50="-",ISBLANK(K50)),"-",MIN(H50,O50)))) | W50: =IF(R50="","",COUNTIF(R12:R50,"-")) | AE50: =IF(R50="","",IF(AD50="0","0",COUNTIF(AD12:AD49,AD50))) | AL50: BYE | AM50: =COUNTIF(AS12:AS50,"W") -> 0 | AN50: =IF(AR50="","",COUNTIF(AR12:AR50,"-")) | AQ50: BYE
A51: 40 | R51: =IF(AND(ISBLANK(D51),ISBLANK(K51)),"",IF(AND(H51="-",O51="-"),"-",IF(AND(H51="-",ISBLANK(K51)),"-",MIN(H51,O51)))) | W51: =IF(R51="","",COUNTIF(R12:R51,"-")) | AE51: =IF(R51="","",IF(AD51="0","0",COUNTIF(AD12:AD50,AD51))) | AL51: BYE | AM51: =COUNTIF(AS12:AS51,"W") -> 0 | AN51: =IF(AR51="","",COUNTIF(AR12:AR51,"-")) | AQ51: BYE
A52: 41 | R52: =IF(AND(ISBLANK(D52),ISBLANK(K52)),"",IF(AND(H52="-",O52="-"),"-",IF(AND(H52="-",ISBLANK(K52)),"-",MIN(H52,O52)))) | W52: =IF(R52="","",COUNTIF(R12:R52,"-")) | AE52: =IF(R52="","",IF(AD52="0","0",COUNTIF(AD12:AD51,AD52))) | AL52: BYE | AM52: =COUNTIF(AS12:AS52,"W") -> 0 | AN52: =IF(AR52="","",COUNTIF(AR12:AR52,"-")) | AQ52: BYE
A53: 42 | R53: =IF(AND(ISBLANK(D53),ISBLANK(K53)),"",IF(AND(H53="-",O53="-"),"-",IF(AND(H53="-",ISBLANK(K53)),"-",MIN(H53,O53)))) | W53: =IF(R53="","",COUNTIF(R12:R53,"-")) | AE53: =IF(R53="","",IF(AD53="0","0",COUNTIF(AD12:AD52,AD53))) | AL53: BYE | AM53: =COUNTIF(AS12:AS53,"W") -> 0 | AN53: =IF(AR53="","",COUNTIF(AR12:AR53,"-")) | AQ53: BYE
A54: 43 | R54: =IF(AND(ISBLANK(D54),ISBLANK(K54)),"",IF(AND(H54="-",O54="-"),"-",IF(AND(H54="-",ISBLANK(K54)),"-",MIN(H54,O54)))) | W54: =IF(R54="","",COUNTIF(R12:R54,"-")) | AE54: =IF(R54="","",IF(AD54="0","0",COUNTIF(AD12:AD53,AD54))) | AL54: BYE | AM54: =COUNTIF(AS12:AS54,"W") -> 0 | AN54: =IF(AR54="","",COUNTIF(AR12:AR54,"-")) | AQ54: BYE
A55: 44 | R55: =IF(AND(ISBLANK(D55),ISBLANK(K55)),"",IF(AND(H55="-",O55="-"),"-",IF(AND(H55="-",ISBLANK(K55)),"-",MIN(H55,O55)))) | W55: =IF(R55="","",COUNTIF(R12:R55,"-")) | AE55: =IF(R55="","",IF(AD55="0","0",COUNTIF(AD12:AD54,AD55))) | AL55: BYE | AM55: =COUNTIF(AS12:AS55,"W") -> 0 | AN55: =IF(AR55="","",COUNTIF(AR12:AR55,"-")) | AQ55: BYE
A56: 45 | R56: =IF(AND(ISBLANK(D56),ISBLANK(K56)),"",IF(AND(H56="-",O56="-"),"-",IF(AND(H56="-",ISBLANK(K56)),"-",MIN(H56,O56)))) | W56: =IF(R56="","",COUNTIF(R12:R56,"-")) | AE56: =IF(R56="","",IF(AD56="0","0",COUNTIF(AD12:AD55,AD56))) | AL56: BYE | AM56: =COUNTIF(AS12:AS56,"W") -> 0 | AN56: =IF(AR56="","",COUNTIF(AR12:AR56,"-")) | AQ56: BYE
A57: 46 | R57: =IF(AND(ISBLANK(D57),ISBLANK(K57)),"",IF(AND(H57="-",O57="-"),"-",IF(AND(H57="-",ISBLANK(K57)),"-",MIN(H57,O57)))) | W57: =IF(R57="","",COUNTIF(R12:R57,"-")) | AE57: =IF(R57="","",IF(AD57="0","0",COUNTIF(AD12:AD56,AD57))) | AL57: BYE | AM57: =COUNTIF(AS12:AS57,"W") -> 0 | AN57: =IF(AR57="","",COUNTIF(AR12:AR57,"-")) | AQ57: BYE
A58: 47 | R58: =IF(AND(ISBLANK(D58),ISBLANK(K58)),"",IF(AND(H58="-",O58="-"),"-",IF(AND(H58="-",ISBLANK(K58)),"-",MIN(H58,O58)))) | W58: =IF(R58="","",COUNTIF(R12:R58,"-")) | AE58: =IF(R58="","",IF(AD58="0","0",COUNTIF(AD12:AD57,AD58))) | AL58: BYE | AM58: =COUNTIF(AS12:AS58,"W") -> 0 | AN58: =IF(AR58="","",COUNTIF(AR12:AR58,"-")) | AQ58: BYE
A59: 48 | R59: =IF(AND(ISBLANK(D59),ISBLANK(K59)),"",IF(AND(H59="-",O59="-"),"-",IF(AND(H59="-",ISBLANK(K59)),"-",MIN(H59,O59)))) | W59: =IF(R59="","",COUNTIF(R12:R59,"-")) | AE59: =IF(R59="","",IF(AD59="0","0",COUNTIF(AD12:AD58,AD59))) | AL59: BYE | AM59: =COUNTIF(AS12:AS59,"W") -> 0 | AN59: =IF(AR59="","",COUNTIF(AR12:AR59,"-")) | AQ59: BYE
A60: 49 | R60: =IF(AND(ISBLANK(D60),ISBLANK(K60)),"",IF(AND(H60="-",O60="-"),"-",IF(AND(H60="-",ISBLANK(K60)),"-",MIN(H60,O60)))) | W60: =IF(R60="","",COUNTIF(R12:R60,"-")) | AE60: =IF(R60="","",IF(AD60="0","0",COUNTIF(AD12:AD59,AD60))) | AL60: BYE | AM60: =COUNTIF(AS12:AS60,"W") -> 0 | AN60: =IF(AR60="","",COUNTIF(AR12:AR60,"-")) | AQ60: BYE
A61: 50 | R61: =IF(AND(ISBLANK(D61),ISBLANK(K61)),"",IF(AND(H61="-",O61="-"),"-",IF(AND(H61="-",ISBLANK(K61)),"-",MIN(H61,O61)))) | W61: =IF(R61="","",COUNTIF(R12:R61,"-")) | AE61: =IF(R61="","",IF(AD61="0","0",COUNTIF(AD12:AD60,AD61))) | AL61: BYE | AM61: =COUNTIF(AS12:AS61,"W") -> 0 | AN61: =IF(AR61="","",COUNTIF(AR12:AR61,"-")) | AQ61: BYE
A62: 51 | R62: =IF(AND(ISBLANK(D62),ISBLANK(K62)),"",IF(AND(H62="-",O62="-"),"-",IF(AND(H62="-",ISBLANK(K62)),"-",MIN(H62,O62)))) | W62: =IF(R62="","",COUNTIF(R12:R62,"-")) | AE62: =IF(R62="","",IF(AD62="0","0",COUNTIF(AD12:AD61,AD62))) | AL62: BYE | AM62: =COUNTIF(AS12:AS62,"W") -> 0 | AN62: =IF(AR62="","",COUNTIF(AR12:AR62,"-")) | AQ62: BYE
A63: 52 | R63: =IF(AND(ISBLANK(D63),ISBLANK(K63)),"",IF(AND(H63="-",O63="-"),"-",IF(AND(H63="-",ISBLANK(K63)),"-",MIN(H63,O63)))) | W63: =IF(R63="","",COUNTIF(R12:R63,"-")) | AE63: =IF(R63="","",IF(AD63="0","0",COUNTIF(AD12:AD62,AD63))) | AL63: BYE | AM63: =COUNTIF(AS12:AS63,"W") -> 0 | AN63: =IF(AR63="","",COUNTIF(AR12:AR63,"-")) | AQ63: BYE
A64: 53 | R64: =IF(AND(ISBLANK(D64),ISBLANK(K64)),"",IF(AND(H64="-",O64="-"),"-",IF(AND(H64="-",ISBLANK(K64)),"-",MIN(H64,O64)))) | W64: =IF(R64="","",COUNTIF(R12:R64,"-")) | AE64: =IF(R64="","",IF(AD64="0","0",COUNTIF(AD12:AD63,AD64))) | AL64: BYE | AM64: =COUNTIF(AS12:AS64,"W") -> 0 | AN64: =IF(AR64="","",COUNTIF(AR12:AR64,"-")) | AQ64: BYE
A65: 54 | R65: =IF(AND(ISBLANK(D65),ISBLANK(K65)),"",IF(AND(H65="-",O65="-"),"-",IF(AND(H65="-",ISBLANK(K65)),"-",MIN(H65,O65)))) | W65: =IF(R65="","",COUNTIF(R12:R65,"-")) | AE65: =IF(R65="","",IF(AD65="0","0",COUNTIF(AD12:AD64,AD65))) | AL65: BYE | AM65: =COUNTIF(AS12:AS65,"W") -> 0 | AN65: =IF(AR65="","",COUNTIF(AR12:AR65,"-")) | AQ65: BYE
A66: 55 | R66: =IF(AND(ISBLANK(D66),ISBLANK(K66)),"",IF(AND(H66="-",O66="-"),"-",IF(AND(H66="-",ISBLANK(K66)),"-",MIN(H66,O66)))) | W66: =IF(R66="","",COUNTIF(R12:R66,"-")) | AE66: =IF(R66="","",IF(AD66="0","0",COUNTIF(AD12:AD65,AD66))) | AL66: BYE | AM66: =COUNTIF(AS12:AS66,"W") -> 0 | AN66: =IF(AR66="","",COUNTIF(AR12:AR66,"-")) | AQ66: BYE
A67: 56 | R67: =IF(AND(ISBLANK(D67),ISBLANK(K67)),"",IF(AND(H67="-",O67="-"),"-",IF(AND(H67="-",ISBLANK(K67)),"-",MIN(H67,O67)))) | W67: =IF(R67="","",COUNTIF(R12:R67,"-")) | AE67: =IF(R67="","",IF(AD67="0","0",COUNTIF(AD12:AD66,AD67))) | AL67: BYE | AM67: =COUNTIF(AS12:AS67,"W") -> 0 | AN67: =IF(AR67="","",COUNTIF(AR12:AR67,"-")) | AQ67: BYE
A68: 57 | R68: =IF(AND(ISBLANK(D68),ISBLANK(K68)),"",IF(AND(H68="-",O68="-"),"-",IF(AND(H68="-",ISBLANK(K68)),"-",MIN(H68,O68)))) | W68: =IF(R68="","",COUNTIF(R12:R68,"-")) | AE68: =IF(R68="","",IF(R68="","",IF(AD68="0","0",COUNTIF(AD12:AD67,AD68)))) | AL68: BYE | AM68: =COUNTIF(AS12:AS68,"W") -> 0 | AN68: =IF(AR68="","",COUNTIF(AR12:AR68,"-")) | AQ68: BYE
A69: 58 | R69: =IF(AND(ISBLANK(D69),ISBLANK(K69)),"",IF(AND(H69="-",O69="-"),"-",IF(AND(H69="-",ISBLANK(K69)),"-",MIN(H69,O69)))) | W69: =IF(R69="","",COUNTIF(R12:R69,"-")) | AE69: =IF(R69="","",IF(R69="","",IF(AD69="0","0",COUNTIF(AD12:AD68,AD69)))) | AL69: BYE | AM69: =COUNTIF(AS12:AS69,"W") -> 0 | AN69: =IF(AR69="","",COUNTIF(AR12:AR69,"-")) | AQ69: BYE
A70: 59 | R70: =IF(AND(ISBLANK(D70),ISBLANK(K70)),"",IF(AND(H70="-",O70="-"),"-",IF(AND(H70="-",ISBLANK(K70)),"-",MIN(H70,O70)))) | W70: =IF(R70="","",COUNTIF(R12:R70,"-")) | AE70: =IF(R70="","",IF(R70="","",IF(AD70="0","0",COUNTIF(AD12:AD69,AD70)))) | AL70: BYE | AM70: =COUNTIF(AS12:AS70,"W") -> 0 | AN70: =IF(AR70="","",COUNTIF(AR12:AR70,"-")) | AQ70: BYE
A71: 60 | R71: =IF(AND(ISBLANK(D71),ISBLANK(K71)),"",IF(AND(H71="-",O71="-"),"-",IF(AND(H71="-",ISBLANK(K71)),"-",MIN(H71,O71)))) | W71: =IF(R71="","",COUNTIF(R12:R71,"-")) | AE71: =IF(R71="","",IF(AD71="0","0",COUNTIF(AD12:AD70,AD71))) | AL71: BYE | AM71: =COUNTIF(AS12:AS71,"W") -> 0 | AN71: =IF(AR71="","",COUNTIF(AR12:AR71,"-")) | AQ71: BYE
A72: 61 | R72: =IF(AND(ISBLANK(D72),ISBLANK(K72)),"",IF(AND(H72="-",O72="-"),"-",IF(AND(H72="-",ISBLANK(K72)),"-",MIN(H72,O72)))) | W72: =IF(R72="","",COUNTIF(R12:R72,"-")) | AE72: =IF(R72="","",IF(AD72="0","0",COUNTIF(AD52:AD71,AD72))) | AL72: BYE | AM72: =COUNTIF(AS12:AS72,"W") -> 0 | AN72: =IF(AR72="","",COUNTIF(AR12:AR72,"-")) | AQ72: BYE
A73: 62 | R73: =IF(AND(ISBLANK(D73),ISBLANK(K73)),"",IF(AND(H73="-",O73="-"),"-",IF(AND(H73="-",ISBLANK(K73)),"-",MIN(H73,O73)))) | W73: =IF(R73="","",COUNTIF(R12:R73,"-")) | AE73: =IF(R73="","",IF(AD73="0","0",COUNTIF(AD12:AD72,AD73))) | AL73: BYE | AM73: =COUNTIF(AS12:AS73,"W") -> 0 | AN73: =IF(AR73="","",COUNTIF(AR12:AR73,"-")) | AQ73: BYE
A74: 63 | R74: =IF(AND(ISBLANK(D74),ISBLANK(K74)),"",IF(AND(H74="-",O74="-"),"-",IF(AND(H74="-",ISBLANK(K74)),"-",MIN(H74,O74)))) | W74: =IF(R74="","",COUNTIF(R12:R74,"-")) | AE74: =IF(R74="","",IF(AD74="0","0",COUNTIF(AD12:AD73,AD74))) | AL74: BYE | AM74: =COUNTIF(AS12:AS74,"W") -> 0 | AN74: =IF(AR74="","",COUNTIF(AR12:AR74,"-")) | AQ74: BYE
A75: 64 | R75: =IF(AND(ISBLANK(D75),ISBLANK(K75)),"",IF(AND(H75="-",O75="-"),"-",IF(AND(H75="-",ISBLANK(K75)),"-",MIN(H75,O75)))) | W75: =IF(R75="","",COUNTIF(R12:R75,"-")) | AE75: =IF(R75="","",IF(AD75="0","0",COUNTIF(AD12:AD74,AD75))) | AL75: BYE | AM75: =COUNTIF(AS12:AS75,"W") -> 0 | AN75: =IF(AR75="","",COUNTIF(AR12:AR75,"-")) | AQ75: BYE
A76: 65 | R76: =IF(AND(ISBLANK(D76),ISBLANK(K76)),"",IF(AND(H76="-",O76="-"),"-",IF(AND(H76="-",ISBLANK(K76)),"-",MIN(H76,O76)))) | W76: =IF(R76="","",COUNTIF(R12:R76,"-")) | AE76: =IF(R76="","",IF(AD76="0","0",COUNTIF(AD12:AD75,AD76))) | AL76: BYE | AM76: =COUNTIF(AS12:AS76,"W") -> 0 | AN76: =IF(AR76="","",COUNTIF(AR12:AR76,"-")) | AQ76: BYE
A77: 66 | R77: =IF(AND(ISBLANK(D77),ISBLANK(K77)),"",IF(AND(H77="-",O77="-"),"-",IF(AND(H77="-",ISBLANK(K77)),"-",MIN(H77,O77)))) | W77: =IF(R77="","",COUNTIF(R12:R77,"-")) | AE77: =IF(R77="","",IF(AD77="0","0",COUNTIF(AD12:AD76,AD77))) | AL77: BYE | AM77: =COUNTIF(AS12:AS77,"W") -> 0 | AN77: =IF(AR77="","",COUNTIF(AR12:AR77,"-")) | AQ77: BYE
A78: 67 | R78: =IF(AND(ISBLANK(D78),ISBLANK(K78)),"",IF(AND(H78="-",O78="-"),"-",IF(AND(H78="-",ISBLANK(K78)),"-",MIN(H78,O78)))) | W78: =IF(R78="","",COUNTIF(R12:R78,"-")) | AE78: =IF(R78="","",IF(AD78="0","0",COUNTIF(AD12:AD77,AD78))) | AL78: BYE | AM78: =COUNTIF(AS12:AS78,"W") -> 0 | AN78: =IF(AR78="","",COUNTIF(AR12:AR78,"-")) | AQ78: BYE
A79: 68 | R79: =IF(AND(ISBLANK(D79),ISBLANK(K79)),"",IF(AND(H79="-",O79="-"),"-",IF(AND(H79="-",ISBLANK(K79)),"-",MIN(H79,O79)))) | W79: =IF(R79="","",COUNTIF(R12:R79,"-")) | AE79: =IF(R79="","",IF(AD79="0","0",COUNTIF(AD12:AD78,AD79))) | AL79: BYE | AM79: =COUNTIF(AS12:AS79,"W") -> 0 | AN79: =IF(AR79="","",COUNTIF(AR12:AR79,"-")) | AQ79: BYE
A80: 69 | R80: =IF(AND(ISBLANK(D80),ISBLANK(K80)),"",IF(AND(H80="-",O80="-"),"-",IF(AND(H80="-",ISBLANK(K80)),"-",MIN(H80,O80)))) | W80: =IF(R80="","",COUNTIF(R12:R80,"-")) | AE80: =IF(R80="","",IF(AD80="0","0",COUNTIF(AD12:AD79,AD80))) | AL80: BYE | AM80: =COUNTIF(AS12:AS80,"W") -> 0 | AN80: =IF(AR80="","",COUNTIF(AR12:AR80,"-")) | AQ80: BYE
A81: 70 | R81: =IF(AND(ISBLANK(D81),ISBLANK(K81)),"",IF(AND(H81="-",O81="-"),"-",IF(AND(H81="-",ISBLANK(K81)),"-",MIN(H81,O81)))) | W81: =IF(R81="","",COUNTIF(R12:R81,"-")) | AE81: =IF(R81="","",IF(AD81="0","0",COUNTIF(AD12:AD80,AD81))) | AL81: BYE | AM81: =COUNTIF(AS12:AS81,"W") -> 0 | AN81: =IF(AR81="","",COUNTIF(AR12:AR81,"-")) | AQ81: BYE
A82: 71 | R82: =IF(AND(ISBLANK(D82),ISBLANK(K82)),"",IF(AND(H82="-",O82="-"),"-",IF(AND(H82="-",ISBLANK(K82)),"-",MIN(H82,O82)))) | W82: =IF(R82="","",COUNTIF(R12:R82,"-")) | AE82: =IF(R82="","",IF(AD82="0","0",COUNTIF(AD12:AD81,AD82))) | AL82: BYE | AM82: =COUNTIF(AS12:AS82,"W") -> 0 | AN82: =IF(AR82="","",COUNTIF(AR12:AR82,"-")) | AQ82: BYE
A83: 72 | R83: =IF(AND(ISBLANK(D83),ISBLANK(K83)),"",IF(AND(H83="-",O83="-"),"-",IF(AND(H83="-",ISBLANK(K83)),"-",MIN(H83,O83)))) | W83: =IF(R83="","",COUNTIF(R12:R83,"-")) | AE83: =IF(R83="","",IF(AD83="0","0",COUNTIF(AD12:AD82,AD83))) | AL83: BYE | AM83: =COUNTIF(AS12:AS83,"W") -> 0 | AN83: =IF(AR83="","",COUNTIF(AR12:AR83,"-")) | AQ83: BYE
A84: 73 | R84: =IF(AND(ISBLANK(D84),ISBLANK(K84)),"",IF(AND(H84="-",O84="-"),"-",IF(AND(H84="-",ISBLANK(K84)),"-",MIN(H84,O84)))) | W84: =IF(R84="","",COUNTIF(R12:R84,"-")) | AE84: =IF(R84="","",IF(AD84="0","0",COUNTIF(AD12:AD83,AD84))) | AL84: BYE | AM84: =COUNTIF(AS12:AS84,"W") -> 0 | AN84: =IF(AR84="","",COUNTIF(AR12:AR84,"-")) | AQ84: BYE
A85: 74 | R85: =IF(AND(ISBLANK(D85),ISBLANK(K85)),"",IF(AND(H85="-",O85="-"),"-",IF(AND(H85="-",ISBLANK(K85)),"-",MIN(H85,O85)))) | W85: =IF(R85="","",COUNTIF(R12:R85,"-")) | AE85: =IF(R85="","",IF(AD85="0","0",COUNTIF(AD12:AD84,AD85))) | AL85: BYE | AM85: =COUNTIF(AS12:AS85,"W") -> 0 | AN85: =IF(AR85="","",COUNTIF(AR12:AR85,"-")) | AQ85: BYE
A86: 75 | R86: =IF(AND(ISBLANK(D86),ISBLANK(K86)),"",IF(AND(H86="-",O86="-"),"-",IF(AND(H86="-",ISBLANK(K86)),"-",MIN(H86,O86)))) | W86: =IF(R86="","",COUNTIF(R12:R86,"-")) | AE86: =IF(R86="","",IF(AD86="0","0",COUNTIF(AD12:AD85,AD86))) | AL86: BYE | AM86: =COUNTIF(AS12:AS86,"W") -> 0 | AN86: =IF(AR86="","",COUNTIF(AR12:AR86,"-")) | AQ86: BYE
A87: 76 | R87: =IF(AND(ISBLANK(D87),ISBLANK(K87)),"",IF(AND(H87="-",O87="-"),"-",IF(AND(H87="-",ISBLANK(K87)),"-",MIN(H87,O87)))) | W87: =IF(R87="","",COUNTIF(R12:R87,"-")) | AE87: =IF(R87="","",IF(AD87="0","0",COUNTIF(AD12:AD86,AD87))) | AL87: BYE | AM87: =COUNTIF(AS12:AS87,"W") -> 0 | AN87: =IF(AR87="","",COUNTIF(AR12:AR87,"-")) | AQ87: BYE
A88: 77 | R88: =IF(AND(ISBLANK(D88),ISBLANK(K88)),"",IF(AND(H88="-",O88="-"),"-",IF(AND(H88="-",ISBLANK(K88)),"-",MIN(H88,O88)))) | W88: =IF(R88="","",COUNTIF(R12:R88,"-")) | AE88: =IF(R88="","",IF(AD88="0","0",COUNTIF(AD12:AD87,AD88))) | AL88: BYE | AM88: =COUNTIF(AS12:AS88,"W") -> 0 | AN88: =IF(AR88="","",COUNTIF(AR12:AR88,"-")) | AQ88: BYE
A89: 78 | R89: =IF(AND(ISBLANK(D89),ISBLANK(K89)),"",IF(AND(H89="-",O89="-"),"-",IF(AND(H89="-",ISBLANK(K89)),"-",MIN(H89,O89)))) | W89: =IF(R89="","",COUNTIF(R12:R89,"-")) | AE89: =IF(R89="","",IF(AD89="0","0",COUNTIF(AD12:AD88,AD89))) | AL89: BYE | AM89: =COUNTIF(AS12:AS89,"W") -> 0 | AN89: =IF(AR89="","",COUNTIF(AR12:AR89,"-")) | AQ89: BYE
A90: 79 | R90: =IF(AND(ISBLANK(D90),ISBLANK(K90)),"",IF(AND(H90="-",O90="-"),"-",IF(AND(H90="-",ISBLANK(K90)),"-",MIN(H90,O90)))) | W90: =IF(R90="","",COUNTIF(R12:R90,"-")) | AE90: =IF(R90="","",IF(AD90="0","0",COUNTIF(AD12:AD89,AD90))) | AL90: BYE | AM90: =COUNTIF(AS12:AS90,"W") -> 0 | AN90: =IF(AR90="","",COUNTIF(AR12:AR90,"-")) | AQ90: BYE
A91: 80 | R91: =IF(AND(ISBLANK(D91),ISBLANK(K91)),"",IF(AND(H91="-",O91="-"),"-",IF(AND(H91="-",ISBLANK(K91)),"-",MIN(H91,O91)))) | W91: =IF(R91="","",COUNTIF(R12:R91,"-")) | AE91: =IF(R91="","",IF(AD91="0","0",COUNTIF(AD12:AD90,AD91))) | AL91: BYE | AM91: =COUNTIF(AS12:AS91,"W") -> 0 | AN91: =IF(AR91="","",COUNTIF(AR12:AR91,"-")) | AQ91: BYE
A92: 81 | R92: =IF(AND(ISBLANK(D92),ISBLANK(K92)),"",IF(AND(H92="-",O92="-"),"-",IF(AND(H92="-",ISBLANK(K92)),"-",MIN(H92,O92)))) | W92: =IF(R92="","",COUNTIF(R12:R92,"-")) | AE92: =IF(R92="","",IF(AD92="0","0",COUNTIF(AD12:AD91,AD92))) | AL92: BYE | AM92: =COUNTIF(AS12:AS92,"W") -> 0 | AN92: =IF(AR92="","",COUNTIF(AR12:AR92,"-")) | AQ92: BYE
A93: 82 | R93: =IF(AND(ISBLANK(D93),ISBLANK(K93)),"",IF(AND(H93="-",O93="-"),"-",IF(AND(H93="-",ISBLANK(K93)),"-",MIN(H93,O93)))) | W93: =IF(R93="","",COUNTIF(R12:R93,"-")) | AE93: =IF(R93="","",IF(AD93="0","0",COUNTIF(AD12:AD92,AD93))) | AL93: BYE | AM93: =COUNTIF(AS12:AS93,"W") -> 0 | AN93: =IF(AR93="","",COUNTIF(AR12:AR93,"-")) | AQ93: BYE
A94: 83 | R94: =IF(AND(ISBLANK(D94),ISBLANK(K94)),"",IF(AND(H94="-",O94="-"),"-",IF(AND(H94="-",ISBLANK(K94)),"-",MIN(H94,O94)))) | W94: =IF(R94="","",COUNTIF(R12:R94,"-")) | AE94: =IF(R94="","",IF(AD94="0","0",COUNTIF(AD12:AD93,AD94))) | AL94: BYE | AM94: =COUNTIF(AS12:AS94,"W") -> 0 | AN94: =IF(AR94="","",COUNTIF(AR12:AR94,"-")) | AQ94: BYE
A95: 84 | R95: =IF(AND(ISBLANK(D95),ISBLANK(K95)),"",IF(AND(H95="-",O95="-"),"-",IF(AND(H95="-",ISBLANK(K95)),"-",MIN(H95,O95)))) | W95: =IF(R95="","",COUNTIF(R12:R95,"-")) | AE95: =IF(R95="","",IF(AD95="0","0",COUNTIF(AD12:AD94,AD95))) | AL95: BYE | AM95: =COUNTIF(AS12:AS95,"W") -> 0 | AN95: =IF(AR95="","",COUNTIF(AR12:AR95,"-")) | AQ95: BYE
A96: 85 | R96: =IF(AND(ISBLANK(D96),ISBLANK(K96)),"",IF(AND(H96="-",O96="-"),"-",IF(AND(H96="-",ISBLANK(K96)),"-",MIN(H96,O96)))) | W96: =IF(R96="","",COUNTIF(R12:R96,"-")) | AE96: =IF(R96="","",IF(AD96="0","0",COUNTIF(AD12:AD95,AD96))) | AL96: BYE | AM96: =COUNTIF(AS12:AS96,"W") -> 0 | AN96: =IF(AR96="","",COUNTIF(AR12:AR96,"-")) | AQ96: BYE
A97: 86 | R97: =IF(AND(ISBLANK(D97),ISBLANK(K97)),"",IF(AND(H97="-",O97="-"),"-",IF(AND(H97="-",ISBLANK(K97)),"-",MIN(H97,O97)))) | W97: =IF(R97="","",COUNTIF(R12:R97,"-")) | AE97: =IF(R97="","",IF(AD97="0","0",COUNTIF(AD12:AD96,AD97))) | AL97: BYE | AM97: =COUNTIF(AS12:AS97,"W") -> 0 | AN97: =IF(AR97="","",COUNTIF(AR12:AR97,"-")) | AQ97: BYE
A98: 87 | R98: =IF(AND(ISBLANK(D98),ISBLANK(K98)),"",IF(AND(H98="-",O98="-"),"-",IF(AND(H98="-",ISBLANK(K98)),"-",MIN(H98,O98)))) | W98: =IF(R98="","",COUNTIF(R12:R98,"-")) | AE98: =IF(R98="","",IF(AD98="0","0",COUNTIF(AD12:AD97,AD98))) | AL98: BYE | AM98: =COUNTIF(AS12:AS98,"W") -> 0 | AN98: =IF(AR98="","",COUNTIF(AR12:AR98,"-")) | AQ98: BYE
A99: 88 | R99: =IF(AND(ISBLANK(D99),ISBLANK(K99)),"",IF(AND(H99="-",O99="-"),"-",IF(AND(H99="-",ISBLANK(K99)),"-",MIN(H99,O99)))) | W99: =IF(R99="","",COUNTIF(R12:R99,"-")) | AE99: =IF(R99="","",IF(AD99="0","0",COUNTIF(AD12:AD98,AD99))) | AL99: BYE | AM99: =COUNTIF(AS12:AS99,"W") -> 0 | AN99: =IF(AR99="","",COUNTIF(AR12:AR99,"-")) | AQ99: BYE
A100: 89 | R100: =IF(AND(ISBLANK(D100),ISBLANK(K100)),"",IF(AND(H100="-",O100="-"),"-",IF(AND(H100="-",ISBLANK(K100)),"-",MIN(H100,O100)))) | W100: =IF(R100="","",COUNTIF(R12:R100,"-")) | AE100: =IF(R100="","",IF(AD100="0","0",COUNTIF(AD12:AD99,AD100))) | AL100: BYE | AM100: =COUNTIF(AS12:AS100,"W") -> 0 | AN100: =IF(AR100="","",COUNTIF(AR12:AR100,"-")) | AQ100: BYE
A101: 90 | R101: =IF(AND(ISBLANK(D101),ISBLANK(K101)),"",IF(AND(H101="-",O101="-"),"-",IF(AND(H101="-",ISBLANK(K101)),"-",MIN(H101,O101)))) | W101: =IF(R101="","",COUNTIF(R12:R101,"-")) | AE101: =IF(R101="","",IF(AD101="0","0",COUNTIF(AD12:AD100,AD101))) | AL101: BYE | AM101: =COUNTIF(AS12:AS101,"W") -> 0 | AN101: =IF(AR101="","",COUNTIF(AR12:AR101,"-")) | AQ101: BYE
...

Sheet Junior-Women Elims
C1: Moscow City Race: Afterparty | Q1: Database development by
C2: 23 May 2015 • Moscow, Krasnaya presnya park | Q2: Dan Gesmer, SeismicSK8@aol.com
A3: 32 | B3: Top Bracket (32-16-8-4-2) | C3: Tight / Junior-Women Eliminations
A5: Qualifying Position | B5: Racer No. & Name | C5: Run 1 | J5: R1 Margin | K5: Run 2 | R5: R2 Margin | S5: Round Winner & Combined Margin | T5: Loser’s Final Placement | U5: Round Loser | V5: Qualifying Time | W5: Qualifying Position
C6: Raw Time | D6: Cones | E6: Reaction Time | F6: False Start | G6: Final Time | H6: Run Rank | I6: Winner & Margin | K6: Raw Time | L6: Cones | M6: Reaction Time | N6: False Start | O6: Final Time | P6: Run Rank | Q6: Winner & Margin
B7: Round of 32
A8: 1 | B8: =IF(A3<A8,"BYE",IF(ISERROR(VLOOKUP(A8,'Junior-Women Quals'!AO12:'Junior-Women Quals'!AQ111,3,FALSE))=TRUE,"BYE",VLOOKUP(A8,'Junior-Women Quals'!AO12:'Junior-Women Quals'!AQ111,3,FALSE))) -> Nazarkin Boris | G8: {=IF(LEFT(C8:C39,1)="D","-",IF(D8:D39>'Junior-Women Quals'!A6,"-",IF(C8:C39>0,C8:C39+D8:D39*'Junior-Women Quals'!A5+F8:F39*'Junior-Women Quals'!A7,"")))} | H8: {=IF(G8:G39="","", IF(G8:G39="-","", RANK(G8:G39,G8:G39,1)))} | I8: =IF(AND(LEFT(C8,1)="D",LEFT(C9,1)="D"),"",IF(OR(C8="DNR",C9="DNR"),IF(C8="DNR",B9,B8),IF(OR(ISBLANK(C8),ISBLANK(C9)),"",IF(G8=G9,"TIE",IF(G8>G9,B9,B8))))) | O8: {=IF(LEFT(K8:K39,1)="D","-",IF(L8:L39>'Junior-Women Quals'!A6,"-",IF(K8:K39>0,K8:K39+L8:L39*'Junior-Women Quals'!A5+N8:N39*'Junior-Women Quals'!A7,"")))} | P8: {=IF(O8:O39="","",IF(O8:O39="-","", RANK(O8:O39,O8:O39,1)))} | Q8: =IF(AND(LEFT(K8,1)="D",LEFT(K9,1)="D"),"",IF(OR(K8="DNR",K9="DNR"),IF(K8="DNR",B9,B8),IF(OR(ISBLANK(K8),ISBLANK(K9)),"",IF(O8=O9,"TIE",IF(O8>O9,B9,B8))))) | S8: =IF(B9="BYE", B8, IF(ISERROR(J9+R9)=TRUE,"",IF(J9+R9=0,"TIE - HOLD RUNOFF",IF(J9+R9>0,B9,B8)))) -> Nazarkin Boris
A9: 32 | B9: =IF(A3<A9,"BYE",IF(ISERROR(VLOOKUP(A9,'Junior-Women Quals'!AO12:'Junior-Women Quals'!AQ111,3,FALSE))=TRUE,"BYE",VLOOKUP(A9,'Junior-Women Quals'!AO12:'Junior-Women Quals'!AQ111,3,FALSE))) -> BYE | I9: =IF(AND(LEFT(C8,1)="D",LEFT(C9,1)="D"),"",IF(OR(C8="DNR",C9="DNR"),"by "&ABS(J9)&" seconds",IF(OR(ISBLANK(C8),ISBLANK(C9),G8=G9),"","by "&ABS(J9)&" seconds"))) | J9: =IF(AND(LEFT(C8,1)="D",LEFT(C9,1)="D"),"0",IF(OR(C8="DNR",C9="DNR"),IF(C8="DNR",1,-1)*'Junior-Women Quals'!A8,IF(OR(ISBLANK(C8),ISBLANK(C9)),"",IF(OR(G8="-",G9="-"),IF(G8="-",1,-1)*'Junior-Women Quals'!A8,IF(ABS(G8-G9)>'Junior-Women Quals'!A9,IF(G8-G9>'Junior-Women Quals'!A9,1,-1)*'Junior-Women Quals'!A9,ROUND(G8-G9,3)))))) | Q9: =IF(AND(LEFT(K8,1)="D",LEFT(K9,1)="D"),"",IF(OR(K8="DNR",K9="DNR"),"by "&ABS(R9)&" seconds",IF(OR(ISBLANK(K8),ISBLANK(K9),O8=O9),"","by "&ABS(R9)&" seconds"))) | R9: =IF(AND(LEFT(K8,1)="D",LEFT(K9,1)="D"),"0",IF(OR(K8="DNR",K9="DNR"),IF(K8="DNR",1,-1)*'Junior-Women Quals'!A8,IF(OR(ISBLANK(K8),ISBLANK(K9)),"",IF(OR(O8="-",O9="-"),IF(O8="-",1,-1)*'Junior-Women Quals'!A8,IF(ABS(O8-O9)>'Junior-Women Quals'!A9,IF(O8-O9>'Junior-Women Quals'!A9,1,-1)*'Junior-Women Quals'!A9,ROUND(O8-O9,3)))))) | S9: =IF(B9="BYE","(BYE)",IF(ISERROR(J9+R9)=TRUE,"",IF(J9+R9=0,"","by "&ABS(J9+R9)&" seconds"))) -> (BYE) | T9: {=IF(W9:W39="","",IF(ISERROR(W9:W39)=TRUE,"",16+RANK(W9:W39,W9:W39,1)))} | U9: =IF(B9="BYE", B9, IF(ISERROR(J9+R9)=TRUE,"",IF(J9+R9>0,B8,B9))) -> BYE | V9: =IF(ISERROR(VLOOKUP(U9,'Junior-Women Quals'!U12:V111,2,FALSE))=TRUE,"",VLOOKUP(U9,'Junior-Women Quals'!U12:V111,2,FALSE)) | W9: =IF(ISERROR(VLOOKUP(U9,'Junior-Women Quals'!AL12:AO111,4,FALSE))=TRUE,"",VLOOKUP(U9,'Junior-Women Quals'!AL12:AO111,4,FALSE))
A10: 16 | B10: =IF(A3<A10,"BYE",IF(ISERROR(VLOOKUP(A10,'Junior-Women Quals'!AO12:'Junior-Women Quals'!AQ111,3,FALSE))=TRUE,"BYE",VLOOKUP(A10,'Junior-Women Quals'!AO12:'Junior-Women Quals'!AQ111,3,FALSE))) -> BYE | I10: =IF(AND(LEFT(C10,1)="D",LEFT(C11,1)="D"),"",IF(OR(C10="DNR",C11="DNR"),IF(C10="DNR",B11,B10),IF(OR(ISBLANK(C10),ISBLANK(C11)),"",IF(G10=G11,"TIE",IF(G10>G11,B11,B10))))) | Q10: =IF(AND(LEFT(K10,1)="D",LEFT(K11,1)="D"),"",IF(OR(K10="DNR",K11="DNR"),IF(K10="DNR",B11,B10),IF(OR(ISBLANK(K10),ISBLANK(K11)),"",IF(O10=O11,"TIE",IF(O10>O11,B11,B10))))) | S10: =IF(B11="BYE", B10, IF(ISERROR(J11+R11)=TRUE,"",IF(J11+R11=0,"TIE - HOLD RUNOFF",IF(J11+R11>0,B11,B10)))) -> BYE
A11: 17 | B11: =IF(A3<A11,"BYE",IF(ISERROR(VLOOKUP(A11,'Junior-Women Quals'!AO12:'Junior-Women Quals'!AQ111,3,FALSE))=TRUE,"BYE",VLOOKUP(A11,'Junior-Women Quals'!AO12:'Junior-Women Quals'!AQ111,3,FALSE))) -> BYE | I11: =IF(AND(LEFT(C10,1)="D",LEFT(C11,1)="D"),"",IF(OR(C10="DNR",C11="DNR"),"by "&ABS(J11)&" seconds",IF(OR(ISBLANK(C10),ISBLANK(C11),G10=G11),"","by "&ABS(J11)&" seconds"))) | J11: =IF(AND(LEFT(C10,1)="D",LEFT(C11,1)="D"),"0",IF(OR(C10="DNR",C11="DNR"),IF(C10="DNR",1,-1)*'Junior-Women Quals'!A8,IF(OR(ISBLANK(C10),ISBLANK(C11)),"",IF(OR(G10="-",G11="-"),IF(G10="-",1,-1)*'Junior-Women Quals'!A8,IF(ABS(G10-G11)>'Junior-Women Quals'!A9,IF(G10-G11>'Junior-Women Quals'!A9,1,-1)*'Junior-Women Quals'!A9,ROUND(G10-G11,3)))))) | Q11: =IF(AND(LEFT(K10,1)="D",LEFT(K11,1)="D"),"",IF(OR(K10="DNR",K11="DNR"),"by "&ABS(R11)&" seconds",IF(OR(ISBLANK(K10),ISBLANK(K11),O10=O11),"","by "&ABS(R11)&" seconds"))) | R11: =IF(AND(LEFT(K10,1)="D",LEFT(K11,1)="D"),"0",IF(OR(K10="DNR",K11="DNR"),IF(K10="DNR",1,-1)*'Junior-Women Quals'!A8,IF(OR(ISBLANK(K10),ISBLANK(K11)),"",IF(OR(O10="-",O11="-"),IF(O10="-",1,-1)*'Junior-Women Quals'!A8,IF(ABS(O10-O11)>'Junior-Women Quals'!A9,IF(O10-O11>'Junior-Women Quals'!A9,1,-1)*'Junior-Women Quals'!A9,ROUND(O10-O11,3)))))) | S11: =IF(B11="BYE","(BYE)",IF(ISERROR(J11+R11)=TRUE,"",IF(J11+R11=0,"","by "&ABS(J11+R11)&" seconds"))) -> (BYE) | U11: =IF(B11="BYE", B11, IF(ISERROR(J11+R11)=TRUE,"",IF(J11+R11>0,B10,B11))) -> BYE | V11: =IF(ISERROR(VLOOKUP(U11,'Junior-Women Quals'!U12:V111,2,FALSE))=TRUE,"",VLOOKUP(U11,'Junior-Women Quals'!U12:V111,2,FALSE)) | W11: =IF(ISERROR(VLOOKUP(U11,'Junior-Women Quals'!AL12:AO111,4,FALSE))=TRUE,"",VLOOKUP(U11,'Junior-Women Quals'!AL12:AO111,4,FALSE))
A12: 8 | B12: =IF(A3<A12,"BYE",IF(ISERROR(VLOOKUP(A12,'Junior-Women Quals'!AO12:'Junior-Women Quals'!AQ111,3,FALSE))=TRUE,"BYE",VLOOKUP(A12,'Junior-Women Quals'!AO12:'Junior-Women Quals'!AQ111,3,FALSE))) -> BYE | I12: =IF(AND(LEFT(C12,1)="D",LEFT(C13,1)="D"),"",IF(OR(C12="DNR",C13="DNR"),IF(C12="DNR",B13,B12),IF(OR(ISBLANK(C12),ISBLANK(C13)),"",IF(G12=G13,"TIE",IF(G12>G13,B13,B12))))) | Q12: =IF(AND(LEFT(K12,1)="D",LEFT(K13,1)="D"),"",IF(OR(K12="DNR",K13="DNR"),IF(K12="DNR",B13,B12),IF(OR(ISBLANK(K12),ISBLANK(K13)),"",IF(O12=O13,"TIE",IF(O12>O13,B13,B12))))) | S12: =IF(B13="BYE", B12, IF(ISERROR(J13+R13)=TRUE,"",IF(J13+R13=0,"TIE - HOLD RUNOFF",IF(J13+R13>0,B13,B12)))) -> BYE
A13: 25 | B13: =IF(A3<A13,"BYE",IF(ISERROR(VLOOKUP(A13,'Junior-Women Quals'!AO12:'Junior-Women Quals'!AQ111,3,FALSE))=TRUE,"BYE",VLOOKUP(A13,'Junior-Women Quals'!AO12:'Junior-Women Quals'!AQ111,3,FALSE))) -> BYE | I13: =IF(AND(LEFT(C12,1)="D",LEFT(C13,1)="D"),"",IF(OR(C12="DNR",C13="DNR"),"by "&ABS(J13)&" seconds",IF(OR(ISBLANK(C12),ISBLANK(C13),G12=G13),"","by "&ABS(J13)&" seconds"))) | J13: =IF(AND(LEFT(C12,1)="D",LEFT(C13,1)="D"),"0",IF(OR(C12="DNR",C13="DNR"),IF(C12="DNR",1,-1)*'Junior-Women Quals'!A8,IF(OR(ISBLANK(C12),ISBLANK(C13)),"",IF(OR(G12="-",G13="-"),IF(G12="-",1,-1)*'Junior-Women Quals'!A8,IF(ABS(G12-G13)>'Junior-Women Quals'!A9,IF(G12-G13>'Junior-Women Quals'!A9,1,-1)*'Junior-Women Quals'!A9,ROUND(G12-G13,3)))))) | Q13: =IF(AND(LEFT(K12,1)="D",LEFT(K13,1)="D"),"",IF(OR(K12="DNR",K13="DNR"),"by "&ABS(R13)&" seconds",IF(OR(ISBLANK(K12),ISBLANK(K13),O12=O13),"","by "&ABS(R13)&" seconds"))) | R13: =IF(AND(LEFT(K12,1)="D",LEFT(K13,1)="D"),"0",IF(OR(K12="DNR",K13="DNR"),IF(K12="DNR",1,-1)*'Junior-Women Quals'!A8,IF(OR(ISBLANK(K12),ISBLANK(K13)),"",IF(OR(O12="-",O13="-"),IF(O12="-",1,-1)*'Junior-Women Quals'!A8,IF(ABS(O12-O13)>'Junior-Women Quals'!A9,IF(O12-O13>'Junior-Women Quals'!A9,1,-1)*'Junior-Women Quals'!A9,ROUND(O12-O13,3)))))) | S13: =IF(B13="BYE","(BYE)",IF(ISERROR(J13+R13)=TRUE,"",IF(J13+R13=0,"","by "&ABS(J13+R13)&" seconds"))) -> (BYE) | U13: =IF(B13="BYE", B13, IF(ISERROR(J13+R13)=TRUE,"",IF(J13+R13>0,B12,B13))) -> BYE | V13: =IF(ISERROR(VLOOKUP(U13,'Junior-Women Quals'!U12:V111,2,FALSE))=TRUE,"",VLOOKUP(U13,'Junior-Women Quals'!U12:V111,2,FALSE)) | W13: =IF(ISERROR(VLOOKUP(U13,'Junior-Women Quals'!AL12:AO111,4,FALSE))=TRUE,"",VLOOKUP(U13,'Junior-Women Quals'!AL12:AO111,4,FALSE))
A14: 9 | B14: =IF(A3<A14,"BYE",IF(ISERROR(VLOOKUP(A14,'Junior-Women Quals'!AO12:'Junior-Women Quals'!AQ111,3,FALSE))=TRUE,"BYE",VLOOKUP(A14,'Junior-Women Quals'!AO12:'Junior-Women Quals'!AQ111,3,FALSE))) -> BYE | I14: =IF(AND(LEFT(C14,1)="D",LEFT(C15,1)="D"),"",IF(OR(C14="DNR",C15="DNR"),IF(C14="DNR",B15,B14),IF(OR(ISBLANK(C14),ISBLANK(C15)),"",IF(G14=G15,"TIE",IF(G14>G15,B15,B14))))) | Q14: =IF(AND(LEFT(K14,1)="D",LEFT(K15,1)="D"),"",IF(OR(K14="DNR",K15="DNR"),IF(K14="DNR",B15,B14),IF(OR(ISBLANK(K14),ISBLANK(K15)),"",IF(O14=O15,"TIE",IF(O14>O15,B15,B14))))) | S14: =IF(B15="BYE", B14, IF(ISERROR(J15+R15)=TRUE,"",IF(J15+R15=0,"TIE - HOLD RUNOFF",IF(J15+R15>0,B15,B14)))) -> BYE
A15: 24 | B15: =IF(A3<A15,"BYE",IF(ISERROR(VLOOKUP(A15,'Junior-Women Quals'!AO12:'Junior-Women Quals'!AQ111,3,FALSE))=TRUE,"BYE",VLOOKUP(A15,'Junior-Women Quals'!AO12:'Junior-Women Quals'!AQ111,3,FALSE))) -> BYE | I15: =IF(AND(LEFT(C14,1)="D",LEFT(C15,1)="D"),"",IF(OR(C14="DNR",C15="DNR"),"by "&ABS(J15)&" seconds",IF(OR(ISBLANK(C14),ISBLANK(C15),G14=G15),"","by "&ABS(J15)&" seconds"))) | J15: =IF(AND(LEFT(C14,1)="D",LEFT(C15,1)="D"),"0",IF(OR(C14="DNR",C15="DNR"),IF(C14="DNR",1,-1)*'Junior-Women Quals'!A8,IF(OR(ISBLANK(C14),ISBLANK(C15)),"",IF(OR(G14="-",G15="-",),IF(G14="-",1,-1)*'Junior-Women Quals'!A8,IF(ABS(G14-G15)>'Junior-Women Quals'!A9,IF(G14-G15>'Junior-Women Quals'!A9,1,-1)*'Junior-Women Quals'!A9,ROUND(G14-G15,3)))))) | Q15: =IF(AND(LEFT(K14,1)="D",LEFT(K15,1)="D"),"",IF(OR(K14="DNR",K15="DNR"),"by "&ABS(R15)&" seconds",IF(OR(ISBLANK(K14),ISBLANK(K15),O14=O15),"","by "&ABS(R15)&" seconds"))) | R15: =IF(AND(LEFT(K14,1)="D",LEFT(K15,1)="D"),"0",IF(OR(K14="DNR",K15="DNR"),IF(K14="DNR",1,-1)*'Junior-Women Quals'!A8,IF(OR(ISBLANK(K14),ISBLANK(K15)),"",IF(OR(O14="-",O15="-"),IF(O14="-",1,-1)*'Junior-Women Quals'!A8,IF(ABS(O14-O15)>'Junior-Women Quals'!A9,IF(O14-O15>'Junior-Women Quals'!A9,1,-1)*'Junior-Women Quals'!A9,ROUND(O14-O15,3)))))) | S15: =IF(B15="BYE","(BYE)",IF(ISERROR(J15+R15)=TRUE,"",IF(J15+R15=0,"","by "&ABS(J15+R15)&" seconds"))) -> (BYE) | U15: =IF(B15="BYE", B15, IF(ISERROR(J15+R15)=TRUE,"",IF(J15+R15>0,B14,B15))) -> BYE | V15: =IF(ISERROR(VLOOKUP(U15,'Junior-Women Quals'!U12:V111,2,FALSE))=TRUE,"",VLOOKUP(U15,'Junior-Women Quals'!U12:V111,2,FALSE)) | W15: =IF(ISERROR(VLOOKUP(U15,'Junior-Women Quals'!AL12:AO111,4,FALSE))=TRUE,"",VLOOKUP(U15,'Junior-Women Quals'!AL12:AO111,4,FALSE))
A16: 4 | B16: =IF(A3<A16,"BYE",IF(ISERROR(VLOOKUP(A16,'Junior-Women Quals'!AO12:'Junior-Women Quals'!AQ111,3,FALSE))=TRUE,"BYE",VLOOKUP(A16,'Junior-Women Quals'!AO12:'Junior-Women Quals'!AQ111,3,FALSE))) -> BYE | I16: =IF(AND(LEFT(C16,1)="D",LEFT(C17,1)="D"),"",IF(OR(C16="DNR",C17="DNR"),IF(C16="DNR",B17,B16),IF(OR(ISBLANK(C16),ISBLANK(C17)),"",IF(G16=G17,"TIE",IF(G16>G17,B17,B16))))) | Q16: =IF(AND(LEFT(K16,1)="D",LEFT(K17,1)="D"),"",IF(OR(K16="DNR",K17="DNR"),IF(K16="DNR",B17,B16),IF(OR(ISBLANK(K16),ISBLANK(K17)),"",IF(O16=O17,"TIE",IF(O16>O17,B17,B16))))) | S16: =IF(B17="BYE", B16, IF(ISERROR(J17+R17)=TRUE,"",IF(J17+R17=0,"TIE - HOLD RUNOFF",IF(J17+R17>0,B17,B16)))) -> BYE
A17: 29 | B17: =IF(A3<A17,"BYE",IF(ISERROR(VLOOKUP(A17,'Junior-Women Quals'!AO12:'Junior-Women Quals'!AQ111,3,FALSE))=TRUE,"BYE",VLOOKUP(A17,'Junior-Women Quals'!AO12:'Junior-Women Quals'!AQ111,3,FALSE))) -> BYE | I17: =IF(AND(LEFT(C16,1)="D",LEFT(C17,1)="D"),"",IF(OR(C16="DNR",C17="DNR"),"by "&ABS(J17)&" seconds",IF(OR(ISBLANK(C16),ISBLANK(C17),G16=G17),"","by "&ABS(J17)&" seconds"))) | J17: =IF(AND(LEFT(C16,1)="D",LEFT(C17,1)="D"),"0",IF(OR(C16="DNR",C17="DNR"),IF(C16="DNR",1,-1)*'Junior-Women Quals'!A8,IF(OR(ISBLANK(C16),ISBLANK(C17)),"",IF(OR(G16="-",G17="-"),IF(G16="-",1,-1)*'Junior-Women Quals'!A8,IF(ABS(G16-G17)>'Junior-Women Quals'!A9,IF(G16-G17>'Junior-Women Quals'!A9,1,-1)*'Junior-Women Quals'!A9,ROUND(G16-G17,3)))))) | Q17: =IF(AND(LEFT(K16,1)="D",LEFT(K17,1)="D"),"",IF(OR(K16="DNR",K17="DNR"),"by "&ABS(R17)&" seconds",IF(OR(ISBLANK(K16),ISBLANK(K17),O16=O17),"","by "&ABS(R17)&" seconds"))) | R17: =IF(AND(LEFT(K16,1)="D",LEFT(K17,1)="D"),"0",IF(OR(K16="DNR",K17="DNR"),IF(K16="DNR",1,-1)*'Junior-Women Quals'!A8,IF(OR(ISBLANK(K16),ISBLANK(K17)),"",IF(OR(O16="-",O17="-"),IF(O16="-",1,-1)*'Junior-Women Quals'!A8,IF(ABS(O16-O17)>'Junior-Women Quals'!A9,IF(O16-O17>'Junior-Women Quals'!A9,1,-1)*'Junior-Women Quals'!A9,ROUND(O16-O17,3)))))) | S17: =IF(B17="BYE","(BYE)",IF(ISERROR(J17+R17)=TRUE,"",IF(J17+R17=0,"","by "&ABS(J17+R17)&" seconds"))) -> (BYE) | U17: =IF(B17="BYE", B17, IF(ISERROR(J17+R17)=TRUE,"",IF(J17+R17>0,B16,B17))) -> BYE | V17: =IF(ISERROR(VLOOKUP(U17,'Junior-Women Quals'!U12:V111,2,FALSE))=TRUE,"",VLOOKUP(U17,'Junior-Women Quals'!U12:V111,2,FALSE)) | W17: =IF(ISERROR(VLOOKUP(U17,'Junior-Women Quals'!AL12:AO111,4,FALSE))=TRUE,"",VLOOKUP(U17,'Junior-Women Quals'!AL12:AO111,4,FALSE))
A18: 13 | B18: =IF(A3<A18,"BYE",IF(ISERROR(VLOOKUP(A18,'Junior-Women Quals'!AO12:'Junior-Women Quals'!AQ111,3,FALSE))=TRUE,"BYE",VLOOKUP(A18,'Junior-Women Quals'!AO12:'Junior-Women Quals'!AQ111,3,FALSE))) -> BYE | I18: =IF(AND(LEFT(C18,1)="D",LEFT(C19,1)="D"),"",IF(OR(C18="DNR",C19="DNR"),IF(C18="DNR",B19,B18),IF(OR(ISBLANK(C18),ISBLANK(C19)),"",IF(G18=G19,"TIE",IF(G18>G19,B19,B18))))) | Q18: =IF(AND(LEFT(K18,1)="D",LEFT(K19,1)="D"),"",IF(OR(K18="DNR",K19="DNR"),IF(K18="DNR",B19,B18),IF(OR(ISBLANK(K18),ISBLANK(K19)),"",IF(O18=O19,"TIE",IF(O18>O19,B19,B18))))) | S18: =IF(B19="BYE", B18, IF(ISERROR(J19+R19)=TRUE,"",IF(J19+R19=0,"TIE - HOLD RUNOFF",IF(J19+R19>0,B19,B18)))) -> BYE
A19: 20 | B19: =IF(A3<A19,"BYE",IF(ISERROR(VLOOKUP(A19,'Junior-Women Quals'!AO12:'Junior-Women Quals'!AQ111,3,FALSE))=TRUE,"BYE",VLOOKUP(A19,'Junior-Women Quals'!AO12:'Junior-Women Quals'!AQ111,3,FALSE))) -> BYE | I19: =IF(AND(LEFT(C18,1)="D",LEFT(C19,1)="D"),"",IF(OR(C18="DNR",C19="DNR"),"by "&ABS(J19)&" seconds",IF(OR(ISBLANK(C18),ISBLANK(C19),G18=G19),"","by "&ABS(J19)&" seconds"))) | J19: =IF(AND(LEFT(C18,1)="D",LEFT(C19,1)="D"),"0",IF(OR(C18="DNR",C19="DNR"),IF(C18="DNR",1,-1)*'Junior-Women Quals'!A8,IF(OR(ISBLANK(C18),ISBLANK(C19)),"",IF(OR(G18="-",G19="-"),IF(G18="-",1,-1)*'Junior-Women Quals'!A8,IF(ABS(G18-G19)>'Junior-Women Quals'!A9,IF(G18-G19>'Junior-Women Quals'!A9,1,-1)*'Junior-Women Quals'!A9,ROUND(G18-G19,3)))))) | Q19: =IF(AND(LEFT(K18,1)="D",LEFT(K19,1)="D"),"",IF(OR(K18="DNR",K19="DNR"),"by "&ABS(R19)&" seconds",IF(OR(ISBLANK(K18),ISBLANK(K19),O18=O19),"","by "&ABS(R19)&" seconds"))) | R19: =IF(AND(LEFT(K18,1)="D",LEFT(K19,1)="D"),"0",IF(OR(K18="DNR",K19="DNR"),IF(K18="DNR",1,-1)*'Junior-Women Quals'!A8,IF(OR(ISBLANK(K18),ISBLANK(K19)),"",IF(OR(O18="-",O19="-"),IF(O18="-",1,-1)*'Junior-Women Quals'!A8,IF(ABS(O18-O19)>'Junior-Women Quals'!A9,IF(O18-O19>'Junior-Women Quals'!A9,1,-1)*'Junior-Women Quals'!A9,ROUND(O18-O19,3)))))) | S19: =IF(B19="BYE","(BYE)",IF(ISERROR(J19+R19)=TRUE,"",IF(J19+R19=0,"","by "&ABS(J19+R19)&" seconds"))) -> (BYE) | U19: =IF(B19="BYE", B19, IF(ISERROR(J19+R19)=TRUE,"",IF(J19+R19>0,B18,B19))) -> BYE | V19: =IF(ISERROR(VLOOKUP(U19,'Junior-Women Quals'!U12:V111,2,FALSE))=TRUE,"",VLOOKUP(U19,'Junior-Women Quals'!U12:V111,2,FALSE)) | W19: =IF(ISERROR(VLOOKUP(U19,'Junior-Women Quals'!AL12:AO111,4,FALSE))=TRUE,"",VLOOKUP(U19,'Junior-Women Quals'!AL12:AO111,4,FALSE))
A20: 5 | B20: =IF(A3<A20,"BYE",IF(ISERROR(VLOOKUP(A20,'Junior-Women Quals'!AO12:'Junior-Women Quals'!AQ111,3,FALSE))=TRUE,"BYE",VLOOKUP(A20,'Junior-Women Quals'!AO12:'Junior-Women Quals'!AQ111,3,FALSE))) -> BYE | I20: =IF(AND(LEFT(C20,1)="D",LEFT(C21,1)="D"),"",IF(OR(C20="DNR",C21="DNR"),IF(C20="DNR",B21,B20),IF(OR(ISBLANK(C20),ISBLANK(C21)),"",IF(G20=G21,"TIE",IF(G20>G21,B21,B20))))) | Q20: =IF(AND(LEFT(K20,1)="D",LEFT(K21,1)="D"),"",IF(OR(K20="DNR",K21="DNR"),IF(K20="DNR",B21,B20),IF(OR(ISBLANK(K20),ISBLANK(K21)),"",IF(O20=O21,"TIE",IF(O20>O21,B21,B20))))) | S20: =IF(B21="BYE", B20, IF(ISERROR(J21+R21)=TRUE,"",IF(J21+R21=0,"TIE - HOLD RUNOFF",IF(J21+R21>0,B21,B20)))) -> BYE
A21: 28 | B21: =IF(A3<A21,"BYE",IF(ISERROR(VLOOKUP(A21,'Junior-Women Quals'!AO12:'Junior-Women Quals'!AQ111,3,FALSE))=TRUE,"BYE",VLOOKUP(A21,'Junior-Women Quals'!AO12:'Junior-Women Quals'!AQ111,3,FALSE))) -> BYE | I21: =IF(AND(LEFT(C20,1)="D",LEFT(C21,1)="D"),"",IF(OR(C20="DNR",C21="DNR"),"by "&ABS(J21)&" seconds",IF(OR(ISBLANK(C20),ISBLANK(C21),G20=G21),"","by "&ABS(J21)&" seconds"))) | J21: =IF(AND(LEFT(C20,1)="D",LEFT(C21,1)="D"),"0",IF(OR(C20="DNR",C21="DNR"),IF(C20="DNR",1,-1)*'Junior-Women Quals'!A8,IF(OR(ISBLANK(C20),ISBLANK(C21)),"",IF(OR(G20="-",G21="-"),IF(G20="-",1,-1)*'Junior-Women Quals'!A8,IF(ABS(G20-G21)>'Junior-Women Quals'!A9,IF(G20-G21>'Junior-Women Quals'!A9,1,-1)*'Junior-Women Quals'!A9,ROUND(G20-G21,3)))))) | Q21: =IF(AND(LEFT(K20,1)="D",LEFT(K21,1)="D"),"",IF(OR(K20="DNR",K21="DNR"),"by "&ABS(R21)&" seconds",IF(OR(ISBLANK(K20),ISBLANK(K21),O20=O21),"","by "&ABS(R21)&" seconds"))) | R21: =IF(AND(LEFT(K20,1)="D",LEFT(K21,1)="D"),"0",IF(OR(K20="DNR",K21="DNR"),IF(K20="DNR",1,-1)*'Junior-Women Quals'!A8,IF(OR(ISBLANK(K20),ISBLANK(K21)),"",IF(OR(O20="-",O21="-"),IF(O20="-",1,-1)*'Junior-Women Quals'!A8,IF(ABS(O20-O21)>'Junior-Women Quals'!A9,IF(O20-O21>'Junior-Women Quals'!A9,1,-1)*'Junior-Women Quals'!A9,ROUND(O20-O21,3)))))) | S21: =IF(B21="BYE","(BYE)",IF(ISERROR(J21+R21)=TRUE,"",IF(J21+R21=0,"","by "&ABS(J21+R21)&" seconds"))) -> (BYE) | U21: =IF(B21="BYE", B21, IF(ISERROR(J21+R21)=TRUE,"",IF(J21+R21>0,B20,B21))) -> BYE | V21: =IF(ISERROR(VLOOKUP(U21,'Junior-Women Quals'!U12:V111,2,FALSE))=TRUE,"",VLOOKUP(U21,'Junior-Women Quals'!U12:V111,2,FALSE)) | W21: =IF(ISERROR(VLOOKUP(U21,'Junior-Women Quals'!AL12:AO111,4,FALSE))=TRUE,"",VLOOKUP(U21,'Junior-Women Quals'!AL12:AO111,4,FALSE))
A22: 12 | B22: =IF(A3<A22,"BYE",IF(ISERROR(VLOOKUP(A22,'Junior-Women Quals'!AO12:'Junior-Women Quals'!AQ111,3,FALSE))=TRUE,"BYE",VLOOKUP(A22,'Junior-Women Quals'!AO12:'Junior-Women Quals'!AQ111,3,FALSE))) -> BYE | I22: =IF(AND(LEFT(C22,1)="D",LEFT(C23,1)="D"),"",IF(OR(C22="DNR",C23="DNR"),IF(C22="DNR",B23,B22),IF(OR(ISBLANK(C22),ISBLANK(C23)),"",IF(G22=G23,"TIE",IF(G22>G23,B23,B22))))) | Q22: =IF(AND(LEFT(K22,1)="D",LEFT(K23,1)="D"),"",IF(OR(K22="DNR",K23="DNR"),IF(K22="DNR",B23,B22),IF(OR(ISBLANK(K22),ISBLANK(K23)),"",IF(O22=O23,"TIE",IF(O22>O23,B23,B22))))) | S22: =IF(B23="BYE", B22, IF(ISERROR(J23+R23)=TRUE,"",IF(J23+R23=0,"TIE - HOLD RUNOFF",IF(J23+R23>0,B23,B22)))) -> BYE
A23: 21 | B23: =IF(A3<A23,"BYE",IF(ISERROR(VLOOKUP(A23,'Junior-Women Quals'!AO12:'Junior-Women Quals'!AQ111,3,FALSE))=TRUE,"BYE",VLOOKUP(A23,'Junior-Women Quals'!AO12:'Junior-Women Quals'!AQ111,3,FALSE))) -> BYE | I23: =IF(AND(LEFT(C22,1)="D",LEFT(C23,1)="D"),"",IF(OR(C22="DNR",C23="DNR"),"by "&ABS(J23)&" seconds",IF(OR(ISBLANK(C22),ISBLANK(C23),G22=G23),"","by "&ABS(J23)&" seconds"))) | J23: =IF(AND(LEFT(C22,1)="D",LEFT(C23,1)="D"),"0",IF(OR(C22="DNR",C23="DNR"),IF(C22="DNR",1,-1)*'Junior-Women Quals'!A8,IF(OR(ISBLANK(C22),ISBLANK(C23)),"",IF(OR(G22="-",G23="-"),IF(G22="-",1,-1)*'Junior-Women Quals'!A8,IF(ABS(G22-G23)>'Junior-Women Quals'!A9,IF(G22-G23>'Junior-Women Quals'!A9,1,-1)*'Junior-Women Quals'!A9,ROUND(G22-G23,3)))))) | Q23: =IF(AND(LEFT(K22,1)="D",LEFT(K23,1)="D"),"",IF(OR(K22="DNR",K23="DNR"),"by "&ABS(R23)&" seconds",IF(OR(ISBLANK(K22),ISBLANK(K23),O22=O23),"","by "&ABS(R23)&" seconds"))) | R23: =IF(AND(LEFT(K22,1)="D",LEFT(K23,1)="D"),"0",IF(OR(K22="DNR",K23="DNR"),IF(K22="DNR",1,-1)*'Junior-Women Quals'!A8,IF(OR(ISBLANK(K22),ISBLANK(K23)),"",IF(OR(O22="-",O23="-"),IF(O22="-",1,-1)*'Junior-Women Quals'!A8,IF(ABS(O22-O23)>'Junior-Women Quals'!A9,IF(O22-O23>'Junior-Women Quals'!A9,1,-1)*'Junior-Women Quals'!A9,ROUND(O22-O23,3)))))) | S23: =IF(B23="BYE","(BYE)",IF(ISERROR(J23+R23)=TRUE,"",IF(J23+R23=0,"","by "&ABS(J23+R23)&" seconds"))) -> (BYE) | U23: =IF(B23="BYE", B23, IF(ISERROR(J23+R23)=TRUE,"",IF(J23+R23>0,B22,B23))) -> BYE | V23: =IF(ISERROR(VLOOKUP(U23,'Junior-Women Quals'!U12:V111,2,FALSE))=TRUE,"",VLOOKUP(U23,'Junior-Women Quals'!U12:V111,2,FALSE)) | W23: =IF(ISERROR(VLOOKUP(U23,'Junior-Women Quals'!AL12:AO111,4,FALSE))=TRUE,"",VLOOKUP(U23,'Junior-Women Quals'!AL12:AO111,4,FALSE))
A24: 2 | B24: =IF(A3<A24,"BYE",IF(ISERROR(VLOOKUP(A24,'Junior-Women Quals'!AO12:'Junior-Women Quals'!AQ111,3,FALSE))=TRUE,"BYE",VLOOKUP(A24,'Junior-Women Quals'!AO12:'Junior-Women Quals'!AQ111,3,FALSE))) -> Hohlova Elizaveta | I24: =IF(AND(LEFT(C24,1)="D",LEFT(C25,1)="D"),"",IF(OR(C24="DNR",C25="DNR"),IF(C24="DNR",B25,B24),IF(OR(ISBLANK(C24),ISBLANK(C25)),"",IF(G24=G25,"TIE",IF(G24>G25,B25,B24))))) | Q24: =IF(AND(LEFT(K24,1)="D",LEFT(K25,1)="D"),"",IF(OR(K24="DNR",K25="DNR"),IF(K24="DNR",B25,B24),IF(OR(ISBLANK(K24),ISBLANK(K25)),"",IF(O24=O25,"TIE",IF(O24>O25,B25,B24))))) | S24: =IF(B25="BYE", B24, IF(ISERROR(J25+R25)=TRUE,"",IF(J25+R25=0,"TIE - HOLD RUNOFF",IF(J25+R25>0,B25,B24)))) -> Hohlova Elizaveta
A25: 31 | B25: =IF(A3<A25,"BYE",IF(ISERROR(VLOOKUP(A25,'Junior-Women Quals'!AO12:'Junior-Women Quals'!AQ111,3,FALSE))=TRUE,"BYE",VLOOKUP(A25,'Junior-Women Quals'!AO12:'Junior-Women Quals'!AQ111,3,FALSE))) -> BYE | I25: =IF(AND(LEFT(C24,1)="D",LEFT(C25,1)="D"),"",IF(OR(C24="DNR",C25="DNR"),"by "&ABS(J25)&" seconds",IF(OR(ISBLANK(C24),ISBLANK(C25),G24=G25),"","by "&ABS(J25)&" seconds"))) | J25: =IF(AND(LEFT(C24,1)="D",LEFT(C25,1)="D"),"0",IF(OR(C24="DNR",C25="DNR"),IF(C24="DNR",1,-1)*'Junior-Women Quals'!A8,IF(OR(ISBLANK(C24),ISBLANK(C25)),"",IF(OR(G24="-",G25="-"),IF(G24="-",1,-1)*'Junior-Women Quals'!A8,IF(ABS(G24-G25)>'Junior-Women Quals'!A9,IF(G24-G25>'Junior-Women Quals'!A9,1,-1)*'Junior-Women Quals'!A9,ROUND(G24-G25,3)))))) | Q25: =IF(AND(LEFT(K24,1)="D",LEFT(K25,1)="D"),"",IF(OR(K24="DNR",K25="DNR"),"by "&ABS(R25)&" seconds",IF(OR(ISBLANK(K24),ISBLANK(K25),O24=O25),"","by "&ABS(R25)&" seconds"))) | R25: =IF(AND(LEFT(K24,1)="D",LEFT(K25,1)="D"),"0",IF(OR(K24="DNR",K25="DNR"),IF(K24="DNR",1,-1)*'Junior-Women Quals'!A8,IF(OR(ISBLANK(K24),ISBLANK(K25)),"",IF(OR(O24="-",O25="-"),IF(O24="-",1,-1)*'Junior-Women Quals'!A8,IF(ABS(O24-O25)>'Junior-Women Quals'!A9,IF(O24-O25>'Junior-Women Quals'!A9,1,-1)*'Junior-Women Quals'!A9,ROUND(O24-O25,3)))))) | S25: =IF(B25="BYE","(BYE)",IF(ISERROR(J25+R25)=TRUE,"",IF(J25+R25=0,"","by "&ABS(J25+R25)&" seconds"))) -> (BYE) | U25: =IF(B25="BYE", B25, IF(ISERROR(J25+R25)=TRUE,"",IF(J25+R25>0,B24,B25))) -> BYE | V25: =IF(ISERROR(VLOOKUP(U25,'Junior-Women Quals'!U12:V111,2,FALSE))=TRUE,"",VLOOKUP(U25,'Junior-Women Quals'!U12:V111,2,FALSE)) | W25: =IF(ISERROR(VLOOKUP(U25,'Junior-Women Quals'!AL12:AO111,4,FALSE))=TRUE,"",VLOOKUP(U25,'Junior-Women Quals'!AL12:AO111,4,FALSE))
A26: 15 | B26: =IF(A3<A26,"BYE",IF(ISERROR(VLOOKUP(A26,'Junior-Women Quals'!AO12:'Junior-Women Quals'!AQ111,3,FALSE))=TRUE,"BYE",VLOOKUP(A26,'Junior-Women Quals'!AO12:'Junior-Women Quals'!AQ111,3,FALSE))) -> BYE | I26: =IF(AND(LEFT(C26,1)="D",LEFT(C27,1)="D"),"",IF(OR(C26="DNR",C27="DNR"),IF(C26="DNR",B27,B26),IF(OR(ISBLANK(C26),ISBLANK(C27)),"",IF(G26=G27,"TIE",IF(G26>G27,B27,B26))))) | Q26: =IF(AND(LEFT(K26,1)="D",LEFT(K27,1)="D"),"",IF(OR(K26="DNR",K27="DNR"),IF(K26="DNR",B27,B26),IF(OR(ISBLANK(K26),ISBLANK(K27)),"",IF(O26=O27,"TIE",IF(O26>O27,B27,B26))))) | S26: =IF(B27="BYE", B26, IF(ISERROR(J27+R27)=TRUE,"",IF(J27+R27=0,"TIE - HOLD RUNOFF",IF(J27+R27>0,B27,B26)))) -> BYE
A27: 18 | B27: =IF(A3<A27,"BYE",IF(ISERROR(VLOOKUP(A27,'Junior-Women Quals'!AO12:'Junior-Women Quals'!AQ111,3,FALSE))=TRUE,"BYE",VLOOKUP(A27,'Junior-Women Quals'!AO12:'Junior-Women Quals'!AQ111,3,FALSE))) -> BYE | I27: =IF(AND(LEFT(C26,1)="D",LEFT(C27,1)="D"),"",IF(OR(C26="DNR",C27="DNR"),"by "&ABS(J27)&" seconds",IF(OR(ISBLANK(C26),ISBLANK(C27),G26=G27),"","by "&ABS(J27)&" seconds"))) | J27: =IF(AND(LEFT(C26,1)="D",LEFT(C27,1)="D"),"0",IF(OR(C26="DNR",C27="DNR"),IF(C26="DNR",1,-1)*'Junior-Women Quals'!A8,IF(OR(ISBLANK(C26),ISBLANK(C27)),"",IF(OR(G26="-",G27="-"),IF(G26="-",1,-1)*'Junior-Women Quals'!A8,IF(ABS(G26-G27)>'Junior-Women Quals'!A9,IF(G26-G27>'Junior-Women Quals'!A9,1,-1)*'Junior-Women Quals'!A9,ROUND(G26-G27,3)))))) | Q27: =IF(AND(LEFT(K26,1)="D",LEFT(K27,1)="D"),"",IF(OR(K26="DNR",K27="DNR"),"by "&ABS(R27)&" seconds",IF(OR(ISBLANK(K26),ISBLANK(K27),O26=O27),"","by "&ABS(R27)&" seconds"))) | R27: =IF(AND(LEFT(K26,1)="D",LEFT(K27,1)="D"),"0",IF(OR(K26="DNR",K27="DNR"),IF(K26="DNR",1,-1)*'Junior-Women Quals'!A8,IF(OR(ISBLANK(K26),ISBLANK(K27)),"",IF(OR(O26="-",O27="-"),IF(O26="-",1,-1)*'Junior-Women Quals'!A8,IF(ABS(O26-O27)>'Junior-Women Quals'!A9,IF(O26-O27>'Junior-Women Quals'!A9,1,-1)*'Junior-Women Quals'!A9,ROUND(O26-O27,3)))))) | S27: =IF(B27="BYE","(BYE)",IF(ISERROR(J27+R27)=TRUE,"",IF(J27+R27=0,"","by "&ABS(J27+R27)&" seconds"))) -> (BYE) | U27: =IF(B27="BYE", B27, IF(ISERROR(J27+R27)=TRUE,"",IF(J27+R27>0,B26,B27))) -> BYE | V27: =IF(ISERROR(VLOOKUP(U27,'Junior-Women Quals'!U12:V111,2,FALSE))=TRUE,"",VLOOKUP(U27,'Junior-Women Quals'!U12:V111,2,FALSE)) | W27: =IF(ISERROR(VLOOKUP(U27,'Junior-Women Quals'!AL12:AO111,4,FALSE))=TRUE,"",VLOOKUP(U27,'Junior-Women Quals'!AL12:AO111,4,FALSE))
A28: 7 | B28: =IF(A3<A28,"BYE",IF(ISERROR(VLOOKUP(A28,'Junior-Women Quals'!AO12:'Junior-Women Quals'!AQ111,3,FALSE))=TRUE,"BYE",VLOOKUP(A28,'Junior-Women Quals'!AO12:'Junior-Women Quals'!AQ111,3,FALSE))) -> BYE | I28: =IF(AND(LEFT(C28,1)="D",LEFT(C29,1)="D"),"",IF(OR(C28="DNR",C29="DNR"),IF(C28="DNR",B29,B28),IF(OR(ISBLANK(C28),ISBLANK(C29)),"",IF(G28=G29,"TIE",IF(G28>G29,B29,B28))))) | Q28: =IF(AND(LEFT(K28,1)="D",LEFT(K29,1)="D"),"",IF(OR(K28="DNR",K29="DNR"),IF(K28="DNR",B29,B28),IF(OR(ISBLANK(K28),ISBLANK(K29)),"",IF(O28=O29,"TIE",IF(O28>O29,B29,B28))))) | S28: =IF(B29="BYE", B28, IF(ISERROR(J29+R29)=TRUE,"",IF(J29+R29=0,"TIE - HOLD RUNOFF",IF(J29+R29>0,B29,B28)))) -> BYE
A29: 26 | B29: =IF(A3<A29,"BYE",IF(ISERROR(VLOOKUP(A29,'Junior-Women Quals'!AO12:'Junior-Women Quals'!AQ111,3,FALSE))=TRUE,"BYE",VLOOKUP(A29,'Junior-Women Quals'!AO12:'Junior-Women Quals'!AQ111,3,FALSE))) -> BYE | I29: =IF(AND(LEFT(C28,1)="D",LEFT(C29,1)="D"),"",IF(OR(C28="DNR",C29="DNR"),"by "&ABS(J29)&" seconds",IF(OR(ISBLANK(C28),ISBLANK(C29),G28=G29),"","by "&ABS(J29)&" seconds"))) | J29: =IF(AND(LEFT(C28,1)="D",LEFT(C29,1)="D"),"0",IF(OR(C28="DNR",C29="DNR"),IF(C28="DNR",1,-1)*'Junior-Women Quals'!A8,IF(OR(ISBLANK(C28),ISBLANK(C29)),"",IF(OR(G28="-",G29="-"),IF(G28="-",1,-1)*'Junior-Women Quals'!A8,IF(ABS(G28-G29)>'Junior-Women Quals'!A9,IF(G28-G29>'Junior-Women Quals'!A9,1,-1)*'Junior-Women Quals'!A9,ROUND(G28-G29,3)))))) | Q29: =IF(AND(LEFT(K28,1)="D",LEFT(K29,1)="D"),"",IF(OR(K28="DNR",K29="DNR"),"by "&ABS(R29)&" seconds",IF(OR(ISBLANK(K28),ISBLANK(K29),O28=O29),"","by "&ABS(R29)&" seconds"))) | R29: =IF(AND(LEFT(K28,1)="D",LEFT(K29,1)="D"),"0",IF(OR(K28="DNR",K29="DNR"),IF(K28="DNR",1,-1)*'Junior-Women Quals'!A8,IF(OR(ISBLANK(K28),ISBLANK(K29)),"",IF(OR(O28="-",O29="-"),IF(O28="-",1,-1)*'Junior-Women Quals'!A8,IF(ABS(O28-O29)>'Junior-Women Quals'!A9,IF(O28-O29>'Junior-Women Quals'!A9,1,-1)*'Junior-Women Quals'!A9,ROUND(O28-O29,3)))))) | S29: =IF(B29="BYE","(BYE)",IF(ISERROR(J29+R29)=TRUE,"",IF(J29+R29=0,"","by "&ABS(J29+R29)&" seconds"))) -> (BYE) | U29: =IF(B29="BYE", B29, IF(ISERROR(J29+R29)=TRUE,"",IF(J29+R29>0,B28,B29))) -> BYE | V29: =IF(ISERROR(VLOOKUP(U29,'Junior-Women Quals'!U12:V111,2,FALSE))=TRUE,"",VLOOKUP(U29,'Junior-Women Quals'!U12:V111,2,FALSE)) | W29: =IF(ISERROR(VLOOKUP(U29,'Junior-Women Quals'!AL12:AO111,4,FALSE))=TRUE,"",VLOOKUP(U29,'Junior-Women Quals'!AL12:AO111,4,FALSE))
A30: 10 | B30: =IF(A3<A30,"BYE",IF(ISERROR(VLOOKUP(A30,'Junior-Women Quals'!AO12:'Junior-Women Quals'!AQ111,3,FALSE))=TRUE,"BYE",VLOOKUP(A30,'Junior-Women Quals'!AO12:'Junior-Women Quals'!AQ111,3,FALSE))) -> BYE | I30: =IF(AND(LEFT(C30,1)="D",LEFT(C31,1)="D"),"",IF(OR(C30="DNR",C31="DNR"),IF(C30="DNR",B31,B30),IF(OR(ISBLANK(C30),ISBLANK(C31)),"",IF(G30=G31,"TIE",IF(G30>G31,B31,B30))))) | Q30: =IF(AND(LEFT(K30,1)="D",LEFT(K31,1)="D"),"",IF(OR(K30="DNR",K31="DNR"),IF(K30="DNR",B31,B30),IF(OR(ISBLANK(K30),ISBLANK(K31)),"",IF(O30=O31,"TIE",IF(O30>O31,B31,B30))))) | S30: =IF(B31="BYE", B30, IF(ISERROR(J31+R31)=TRUE,"",IF(J31+R31=0,"TIE - HOLD RUNOFF",IF(J31+R31>0,B31,B30)))) -> BYE
A31: 23 | B31: =IF(A3<A31,"BYE",IF(ISERROR(VLOOKUP(A31,'Junior-Women Quals'!AO12:'Junior-Women Quals'!AQ111,3,FALSE))=TRUE,"BYE",VLOOKUP(A31,'Junior-Women Quals'!AO12:'Junior-Women Quals'!AQ111,3,FALSE))) -> BYE | I31: =IF(AND(LEFT(C30,1)="D",LEFT(C31,1)="D"),"",IF(OR(C30="DNR",C31="DNR"),"by "&ABS(J31)&" seconds",IF(OR(ISBLANK(C30),ISBLANK(C31),G30=G31),"","by "&ABS(J31)&" seconds"))) | J31: =IF(AND(LEFT(C30,1)="D",LEFT(C31,1)="D"),"0",IF(OR(C30="DNR",C31="DNR"),IF(C30="DNR",1,-1)*'Junior-Women Quals'!A8,IF(OR(ISBLANK(C30),ISBLANK(C31)),"",IF(OR(G30="-",G31="-"),IF(G30="-",1,-1)*'Junior-Women Quals'!A8,IF(ABS(G30-G31)>'Junior-Women Quals'!A9,IF(G30-G31>'Junior-Women Quals'!A9,1,-1)*'Junior-Women Quals'!A9,ROUND(G30-G31,3)))))) | Q31: =IF(AND(LEFT(K30,1)="D",LEFT(K31,1)="D"),"",IF(OR(K30="DNR",K31="DNR"),"by "&ABS(R31)&" seconds",IF(OR(ISBLANK(K30),ISBLANK(K31),O30=O31),"","by "&ABS(R31)&" seconds"))) | R31: =IF(AND(LEFT(K30,1)="D",LEFT(K31,1)="D"),"0",IF(OR(K30="DNR",K31="DNR"),IF(K30="DNR",1,-1)*'Junior-Women Quals'!A8,IF(OR(ISBLANK(K30),ISBLANK(K31)),"",IF(OR(O30="-",O31="-"),IF(O30="-",1,-1)*'Junior-Women Quals'!A8,IF(ABS(O30-O31)>'Junior-Women Quals'!A9,IF(O30-O31>'Junior-Women Quals'!A9,1,-1)*'Junior-Women Quals'!A9,ROUND(O30-O31,3)))))) | S31: =IF(B31="BYE","(BYE)",IF(ISERROR(J31+R31)=TRUE,"",IF(J31+R31=0,"","by "&ABS(J31+R31)&" seconds"))) -> (BYE) | U31: =IF(B31="BYE", B31, IF(ISERROR(J31+R31)=TRUE,"",IF(J31+R31>0,B30,B31))) -> BYE | V31: =IF(ISERROR(VLOOKUP(U31,'Junior-Women Quals'!U12:V111,2,FALSE))=TRUE,"",VLOOKUP(U31,'Junior-Women Quals'!U12:V111,2,FALSE)) | W31: =IF(ISERROR(VLOOKUP(U31,'Junior-Women Quals'!AL12:AO111,4,FALSE))=TRUE,"",VLOOKUP(U31,'Junior-Women Quals'!AL12:AO111,4,FALSE))
A32: 3 | B32: =IF(A3<A32,"BYE",IF(ISERROR(VLOOKUP(A32,'Junior-Women Quals'!AO12:'Junior-Women Quals'!AQ111,3,FALSE))=TRUE,"BYE",VLOOKUP(A32,'Junior-Women Quals'!AO12:'Junior-Women Quals'!AQ111,3,FALSE))) -> Stroganova Ekaterina | I32: =IF(AND(LEFT(C32,1)="D",LEFT(C33,1)="D"),"",IF(OR(C32="DNR",C33="DNR"),IF(C32="DNR",B33,B32),IF(OR(ISBLANK(C32),ISBLANK(C33)),"",IF(G32=G33,"TIE",IF(G32>G33,B33,B32))))) | Q32: =IF(AND(LEFT(K32,1)="D",LEFT(K33,1)="D"),"",IF(OR(K32="DNR",K33="DNR"),IF(K32="DNR",B33,B32),IF(OR(ISBLANK(K32),ISBLANK(K33)),"",IF(O32=O33,"TIE",IF(O32>O33,B33,B32))))) | S32: =IF(B33="BYE", B32, IF(ISERROR(J33+R33)=TRUE,"",IF(J33+R33=0,"TIE - HOLD RUNOFF",IF(J33+R33>0,B33,B32)))) -> Stroganova Ekaterina
A33: 30 | B33: =IF(A3<A33,"BYE",IF(ISERROR(VLOOKUP(A33,'Junior-Women Quals'!AO12:'Junior-Women Quals'!AQ111,3,FALSE))=TRUE,"BYE",VLOOKUP(A33,'Junior-Women Quals'!AO12:'Junior-Women Quals'!AQ111,3,FALSE))) -> BYE | I33: =IF(AND(LEFT(C32,1)="D",LEFT(C33,1)="D"),"",IF(OR(C32="DNR",C33="DNR"),"by "&ABS(J33)&" seconds",IF(OR(ISBLANK(C32),ISBLANK(C33),G32=G33),"","by "&ABS(J33)&" seconds"))) | J33: =IF(AND(LEFT(C32,1)="D",LEFT(C33,1)="D"),"0",IF(OR(C32="DNR",C33="DNR"),IF(C32="DNR",1,-1)*'Junior-Women Quals'!A8,IF(OR(ISBLANK(C32),ISBLANK(C33)),"",IF(OR(G32="-",G33="-"),IF(G32="-",1,-1)*'Junior-Women Quals'!A8,IF(ABS(G32-G33)>'Junior-Women Quals'!A9,IF(G32-G33>'Junior-Women Quals'!A9,1,-1)*'Junior-Women Quals'!A9,ROUND(G32-G33,3)))))) | Q33: =IF(AND(LEFT(K32,1)="D",LEFT(K33,1)="D"),"",IF(OR(K32="DNR",K33="DNR"),"by "&ABS(R33)&" seconds",IF(OR(ISBLANK(K32),ISBLANK(K33),O32=O33),"","by "&ABS(R33)&" seconds"))) | R33: =IF(AND(LEFT(K32,1)="D",LEFT(K33,1)="D"),"0",IF(OR(K32="DNR",K33="DNR"),IF(K32="DNR",1,-1)*'Junior-Women Quals'!A8,IF(OR(ISBLANK(K32),ISBLANK(K33)),"",IF(OR(O32="-",O33="-"),IF(O32="-",1,-1)*'Junior-Women Quals'!A8,IF(ABS(O32-O33)>'Junior-Women Quals'!A9,IF(O32-O33>'Junior-Women Quals'!A9,1,-1)*'Junior-Women Quals'!A9,ROUND(O32-O33,3)))))) | S33: =IF(B33="BYE","(BYE)",IF(ISERROR(J33+R33)=TRUE,"",IF(J33+R33=0,"","by "&ABS(J33+R33)&" seconds"))) -> (BYE) | U33: =IF(B33="BYE", B33, IF(ISERROR(J33+R33)=TRUE,"",IF(J33+R33>0,B32,B33))) -> BYE | V33: =IF(ISERROR(VLOOKUP(U33,'Junior-Women Quals'!U12:V111,2,FALSE))=TRUE,"",VLOOKUP(U33,'Junior-Women Quals'!U12:V111,2,FALSE)) | W33: =IF(ISERROR(VLOOKUP(U33,'Junior-Women Quals'!AL12:AO111,4,FALSE))=TRUE,"",VLOOKUP(U33,'Junior-Women Quals'!AL12:AO111,4,FALSE))
A34: 14 | B34: =IF(A3<A34,"BYE",IF(ISERROR(VLOOKUP(A34,'Junior-Women Quals'!AO12:'Junior-Women Quals'!AQ111,3,FALSE))=TRUE,"BYE",VLOOKUP(A34,'Junior-Women Quals'!AO12:'Junior-Women Quals'!AQ111,3,FALSE))) -> BYE | I34: =IF(AND(LEFT(C34,1)="D",LEFT(C35,1)="D"),"",IF(OR(C34="DNR",C35="DNR"),IF(C34="DNR",B35,B34),IF(OR(ISBLANK(C34),ISBLANK(C35)),"",IF(G34=G35,"TIE",IF(G34>G35,B35,B34))))) | Q34: =IF(AND(LEFT(K34,1)="D",LEFT(K35,1)="D"),"",IF(OR(K34="DNR",K35="DNR"),IF(K34="DNR",B35,B34),IF(OR(ISBLANK(K34),ISBLANK(K35)),"",IF(O34=O35,"TIE",IF(O34>O35,B35,B34))))) | S34: =IF(B35="BYE", B34, IF(ISERROR(J35+R35)=TRUE,"",IF(J35+R35=0,"TIE - HOLD RUNOFF",IF(J35+R35>0,B35,B34)))) -> BYE
A35: 19 | B35: =IF(A3<A35,"BYE",IF(ISERROR(VLOOKUP(A35,'Junior-Women Quals'!AO12:'Junior-Women Quals'!AQ111,3,FALSE))=TRUE,"BYE",VLOOKUP(A35,'Junior-Women Quals'!AO12:'Junior-Women Quals'!AQ111,3,FALSE))) -> BYE | I35: =IF(AND(LEFT(C34,1)="D",LEFT(C35,1)="D"),"",IF(OR(C34="DNR",C35="DNR"),"by "&ABS(J35)&" seconds",IF(OR(ISBLANK(C34),ISBLANK(C35),G34=G35),"","by "&ABS(J35)&" seconds"))) | J35: =IF(AND(LEFT(C34,1)="D",LEFT(C35,1)="D"),"0",IF(OR(C34="DNR",C35="DNR"),IF(C34="DNR",1,-1)*'Junior-Women Quals'!A8,IF(OR(ISBLANK(C34),ISBLANK(C35)),"",IF(OR(G34="-",G35="-"),IF(G34="-",1,-1)*'Junior-Women Quals'!A8,IF(ABS(G34-G35)>'Junior-Women Quals'!A9,IF(G34-G35>'Junior-Women Quals'!A9,1,-1)*'Junior-Women Quals'!A9,ROUND(G34-G35,3)))))) | Q35: =IF(AND(LEFT(K34,1)="D",LEFT(K35,1)="D"),"",IF(OR(K34="DNR",K35="DNR"),"by "&ABS(R35)&" seconds",IF(OR(ISBLANK(K34),ISBLANK(K35),O34=O35),"","by "&ABS(R35)&" seconds"))) | R35: =IF(AND(LEFT(K34,1)="D",LEFT(K35,1)="D"),"0",IF(OR(K34="DNR",K35="DNR"),IF(K34="DNR",1,-1)*'Junior-Women Quals'!A8,IF(OR(ISBLANK(K34),ISBLANK(K35)),"",IF(OR(O34="-",O35="-"),IF(O34="-",1,-1)*'Junior-Women Quals'!A8,IF(ABS(O34-O35)>'Junior-Women Quals'!A9,IF(O34-O35>'Junior-Women Quals'!A9,1,-1)*'Junior-Women Quals'!A9,ROUND(O34-O35,3)))))) | S35: =IF(B35="BYE","(BYE)",IF(ISERROR(J35+R35)=TRUE,"",IF(J35+R35=0,"","by "&ABS(J35+R35)&" seconds"))) -> (BYE) | U35: =IF(B35="BYE", B35, IF(ISERROR(J35+R35)=TRUE,"",IF(J35+R35>0,B34,B35))) -> BYE | V35: =IF(ISERROR(VLOOKUP(U35,'Junior-Women Quals'!U12:V111,2,FALSE))=TRUE,"",VLOOKUP(U35,'Junior-Women Quals'!U12:V111,2,FALSE)) | W35: =IF(ISERROR(VLOOKUP(U35,'Junior-Women Quals'!AL12:AO111,4,FALSE))=TRUE,"",VLOOKUP(U35,'Junior-Women Quals'!AL12:AO111,4,FALSE))
A36: 6 | B36: =IF(A3<A36,"BYE",IF(ISERROR(VLOOKUP(A36,'Junior-Women Quals'!AO12:'Junior-Women Quals'!AQ111,3,FALSE))=TRUE,"BYE",VLOOKUP(A36,'Junior-Women Quals'!AO12:'Junior-Women Quals'!AQ111,3,FALSE))) -> BYE | I36: =IF(AND(LEFT(C36,1)="D",LEFT(C37,1)="D"),"",IF(OR(C36="DNR",C37="DNR"),IF(C36="DNR",B37,B36),IF(OR(ISBLANK(C36),ISBLANK(C37)),"",IF(G36=G37,"TIE",IF(G36>G37,B37,B36))))) | Q36: =IF(AND(LEFT(K36,1)="D",LEFT(K37,1)="D"),"",IF(OR(K36="DNR",K37="DNR"),IF(K36="DNR",B37,B36),IF(OR(ISBLANK(K36),ISBLANK(K37)),"",IF(O36=O37,"TIE",IF(O36>O37,B37,B36))))) | S36: =IF(B37="BYE", B36, IF(ISERROR(J37+R37)=TRUE,"",IF(J37+R37=0,"TIE - HOLD RUNOFF",IF(J37+R37>0,B37,B36)))) -> BYE
A37: 27 | B37: =IF(A3<A37,"BYE",IF(ISERROR(VLOOKUP(A37,'Junior-Women Quals'!AO12:'Junior-Women Quals'!AQ111,3,FALSE))=TRUE,"BYE",VLOOKUP(A37,'Junior-Women Quals'!AO12:'Junior-Women Quals'!AQ111,3,FALSE))) -> BYE | I37: =IF(AND(LEFT(C36,1)="D",LEFT(C37,1)="D"),"",IF(OR(C36="DNR",C37="DNR"),"by "&ABS(J37)&" seconds",IF(OR(ISBLANK(C36),ISBLANK(C37),G36=G37),"","by "&ABS(J37)&" seconds"))) | J37: =IF(AND(LEFT(C36,1)="D",LEFT(C37,1)="D"),"0",IF(OR(C36="DNR",C37="DNR"),IF(C36="DNR",1,-1)*'Junior-Women Quals'!A8,IF(OR(ISBLANK(C36),ISBLANK(C37)),"",IF(OR(G36="-",G37="-"),IF(G36="-",1,-1)*'Junior-Women Quals'!A8,IF(ABS(G36-G37)>'Junior-Women Quals'!A9,IF(G36-G37>'Junior-Women Quals'!A9,1,-1)*'Junior-Women Quals'!A9,ROUND(G36-G37,3)))))) | Q37: =IF(AND(LEFT(K36,1)="D",LEFT(K37,1)="D"),"",IF(OR(K36="DNR",K37="DNR"),"by "&ABS(R37)&" seconds",IF(OR(ISBLANK(K36),ISBLANK(K37),O36=O37),"","by "&ABS(R37)&" seconds"))) | R37: =IF(AND(LEFT(K36,1)="D",LEFT(K37,1)="D"),"0",IF(OR(K36="DNR",K37="DNR"),IF(K36="DNR",1,-1)*'Junior-Women Quals'!A8,IF(OR(ISBLANK(K36),ISBLANK(K37)),"",IF(OR(O36="-",O37="-"),IF(O36="-",1,-1)*'Junior-Women Quals'!A8,IF(ABS(O36-O37)>'Junior-Women Quals'!A9,IF(O36-O37>'Junior-Women Quals'!A9,1,-1)*'Junior-Women Quals'!A9,ROUND(O36-O37,3)))))) | S37: =IF(B37="BYE","(BYE)",IF(ISERROR(J37+R37)=TRUE,"",IF(J37+R37=0,"","by "&ABS(J37+R37)&" seconds"))) -> (BYE) | U37: =IF(B37="BYE", B37, IF(ISERROR(J37+R37)=TRUE,"",IF(J37+R37>0,B36,B37))) -> BYE | V37: =IF(ISERROR(VLOOKUP(U37,'Junior-Women Quals'!U12:V111,2,FALSE))=TRUE,"",VLOOKUP(U37,'Junior-Women Quals'!U12:V111,2,FALSE)) | W37: =IF(ISERROR(VLOOKUP(U37,'Junior-Women Quals'!AL12:AO111,4,FALSE))=TRUE,"",VLOOKUP(U37,'Junior-Women Quals'!AL12:AO111,4,FALSE))
A38: 11 | B38: =IF(A3<A38,"BYE",IF(ISERROR(VLOOKUP(A38,'Junior-Women Quals'!AO12:'Junior-Women Quals'!AQ111,3,FALSE))=TRUE,"BYE",VLOOKUP(A38,'Junior-Women Quals'!AO12:'Junior-Women Quals'!AQ111,3,FALSE))) -> BYE | I38: =IF(AND(LEFT(C38,1)="D",LEFT(C39,1)="D"),"",IF(OR(C38="DNR",C39="DNR"),IF(C38="DNR",B39,B38),IF(OR(ISBLANK(C38),ISBLANK(C39)),"",IF(G38=G39,"TIE",IF(G38>G39,B39,B38))))) | Q38: =IF(AND(LEFT(K38,1)="D",LEFT(K39,1)="D"),"",IF(OR(K38="DNR",K39="DNR"),IF(K38="DNR",B39,B38),IF(OR(ISBLANK(K38),ISBLANK(K39)),"",IF(O38=O39,"TIE",IF(O38>O39,B39,B38))))) | S38: =IF(B39="BYE", B38, IF(ISERROR(J39+R39)=TRUE,"",IF(J39+R39=0,"TIE - HOLD RUNOFF",IF(J39+R39>0,B39,B38)))) -> BYE
A39: 22 | B39: =IF(A3<A39,"BYE",IF(ISERROR(VLOOKUP(A39,'Junior-Women Quals'!AO12:'Junior-Women Quals'!AQ111,3,FALSE))=TRUE,"BYE",VLOOKUP(A39,'Junior-Women Quals'!AO12:'Junior-Women Quals'!AQ111,3,FALSE))) -> BYE | I39: =IF(AND(LEFT(C38,1)="D",LEFT(C39,1)="D"),"",IF(OR(C38="DNR",C39="DNR"),"by "&ABS(J39)&" seconds",IF(OR(ISBLANK(C38),ISBLANK(C39),G38=G39),"","by "&ABS(J39)&" seconds"))) | J39: =IF(AND(LEFT(C38,1)="D",LEFT(C39,1)="D"),"0",IF(OR(C38="DNR",C39="DNR"),IF(C38="DNR",1,-1)*'Junior-Women Quals'!A8,IF(OR(ISBLANK(C38),ISBLANK(C39)),"",IF(OR(G38="-",G39="-"),IF(G38="-",1,-1)*'Junior-Women Quals'!A8,IF(ABS(G38-G39)>'Junior-Women Quals'!A9,IF(G38-G39>'Junior-Women Quals'!A9,1,-1)*'Junior-Women Quals'!A9,ROUND(G38-G39,3)))))) | Q39: =IF(AND(LEFT(K38,1)="D",LEFT(K39,1)="D"),"",IF(OR(K38="DNR",K39="DNR"),"by "&ABS(R39)&" seconds",IF(OR(ISBLANK(K38),ISBLANK(K39),O38=O39),"","by "&ABS(R39)&" seconds"))) | R39: =IF(AND(LEFT(K38,1)="D",LEFT(K39,1)="D"),"0",IF(OR(K38="DNR",K39="DNR"),IF(K38="DNR",1,-1)*'Junior-Women Quals'!A8,IF(OR(ISBLANK(K38),ISBLANK(K39)),"",IF(OR(O38="-",O39="-"),IF(O38="-",1,-1)*'Junior-Women Quals'!A8,IF(ABS(O38-O39)>'Junior-Women Quals'!A9,IF(O38-O39>'Junior-Women Quals'!A9,1,-1)*'Junior-Women Quals'!A9,ROUND(O38-O39,3)))))) | S39: =IF(B39="BYE","(BYE)",IF(ISERROR(J39+R39)=TRUE,"",IF(J39+R39=0,"","by "&ABS(J39+R39)&" seconds"))) -> (BYE) | U39: =IF(B39="BYE", B39, IF(ISERROR(J39+R39)=TRUE,"",IF(J39+R39>0,B38,B39))) -> BYE | V39: =IF(ISERROR(VLOOKUP(U39,'Junior-Women Quals'!U12:V111,2,FALSE))=TRUE,"",VLOOKUP(U39,'Junior-Women Quals'!U12:V111,2,FALSE)) | W39: =IF(ISERROR(VLOOKUP(U39,'Junior-Women Quals'!AL12:AO111,4,FALSE))=TRUE,"",VLOOKUP(U39,'Junior-Women Quals'!AL12:AO111,4,FALSE))
B42: Round of 16
