Workbook

Sheet Am Quals
D1: Moscow City Race 2015 | AP1: Database development by
D2: 16 May 2015 • Yaroslavskoe shosse 124 | AP2: Dan Gesmer, SeismicSK8@aol.com
D3: Tight / Open Qualifications
A5: 0.1 | B5: secs penalty per hit cone
A6: 20 | B6: maximum hit cones before DQ
A7: 2 | B7: false start multiplication factor | D7: Under "Raw Time," enter "DQ" or"DNF" for | AP7: Advance Racers who DQ | AS7: Y
A8: =IF(ISERROR(0.1*AR12)=TRUE,"",ROUND(0.1*AR12,2)) -> 1.3 | B8: secs head-to-head DQ/DNR penalty | D8: "Disqualified" and "DNR" for "Did Not Race." | AP8: all Qualifying Runs? (Y/N)
A9: =IF(ISERROR(0.1*AR12)=TRUE,"",ROUND(0.1*AR12,2)) -> 1.3 | B9: secs max head-to-head victory margin
B10: Bib Number | C10: Racer Name | D10: Run 1 | K10: Run 2 | Q10: Qual Rank (w/out DQs) | R10: Best Time | S10: Qualifying Position | T10: Qual Rank (w/DQs sequenced) | U10: Racer No. & Name | V10: Best Time | W10: Double DQ Place Factor | X10: No. of Ties per Best Time | Y10: Tied-at Time | Z10: Tied-at Time Rank | AA10: Run 1 Time w/DQ Adjust | AB10: Run 2 Time w/DQ Adjust | AC10: Total Time w/DQ Adjust | AD10: Total Time Rank | AE10: Total Tie Place Factor | AF10: Tie 1 Total Time Rank | AG10: Tie 1 Place Factor | AH10: Tie 2 Total Time Rank | AI10: Tie 2 Place Factor | AJ10: Tie 3 Total Time Rank | AK10: Tie 3 Place Factor | AL10: Placed Racer No. & Name | AM10: Withdrawal Place Factor | AN10: Double DQ Place Factor 2 | AO10: Final Spot - Withdrawals | AP10: Qualifying Position | AQ10: Racer No. & Name | AR10: Best Time | AS10: Withdraw (W)
D11: Raw Time | E11: Cones | F11: Reaction Time | G11: False Start | H11: Final Time | I11: Run Rank | K11: Raw Time | L11: Cones | M11: Reaction Time | N11: False Start | O11: Final Time | P11: Run Rank
A12: 1 | B12: 15 | C12: POPOV IGOR | D12: DQ | E12: 0 | F12: 0.882 | H12: {=IF(LEFT(D12:D111,1)="D","-",IF(E12:E111>A6,"-",IF(D12:D111>0,D12:D111+E12:E111*A5+G12:G111*A7,"")))} -> - | I12: {=IF(H12:H111="","",IF(H12:H111="-","",RANK(H12:H111,H12:H111,1)))} | K12: 18.786 | L12: 0 | M12: 0.742 | O12: {=IF(LEFT(K12:K111,1)="D","-",IF(L12:L111>A6,"-",IF(K12:K111>0,K12:K111+L12:L111*A5+N12:N111*A7,"")))} -> 18.786 | P12: {=IF(O12:O111="","",IF(O12:O111="-","",RANK(O12:O111,O12:O111,1)))} -> 8 | Q12: {=IF(R12:R111="","",IF(R12:R111="-","",RANK(R12:R111,R12:R111,1)))} -> 10 | R12: =IF(AND(ISBLANK(D12),ISBLANK(K12)),"",IF(AND(H12="-",O12="-"),"-",IF(AND(H12="-",ISBLANK(K12)),"-",MIN(H12,O12)))) -> 18.786 | S12: {=IF(R12:R111="","",VLOOKUP(U12:U111,AL12:AP111,5,FALSE))} -> 10 | T12: {=IF(R12:R111="","",IF(R12:R111="-",COUNT(Q12:Q111)+W12:W111,Q12:Q111+AE12:AE111+AG12:AG111+AI12:AI111+AK12:AK111))} -> 10 | U12: {=IF(B12:B111 ="","",B12:B111 & " ")&C12:C111} -> 15 POPOV IGOR | V12: {=R12:R111} -> 18.786 | W12: =IF(R12="","",COUNTIF(R12:R12,"-")) -> 0 | X12: {=IF(Q12:Q111="","",COUNTIF(Q12:Q111,Q12:Q111)-1)} -> 0 | Y12: {=IF(R12:R111="-","",IF(X12:X111=0,"",R12:R111))} | Z12: {=IF(Y12:Y111="","",RANK(Y12:Y111,Y12:Y111,1))} | AA12: {=IF(X12:X111="","",IF(X12:X111=0,"",IF(LEFT(H12:H111,1)="-","199",H12:H111)))} | AB12: {=IF(X12:X111="","",IF(X12:X111=0,"",IF(LEFT(O12:O111,1)="-","199",O12:O111)))} | AC12: {=IF(ISERROR(AA12:AA111+AB12:AB111)=TRUE,AA12:AA111,AA12:AA111+AB12:AB111)} | AD12: {=IF(R12:R111="","",IF(X12:X111=0,"0",IF(ISERROR(RANK(AC12:AC111,AC12:AC111,1))=TRUE,"0",RANK(AC12:AC111,AC12:AC111,1))))} -> 0 | AE12: 0 | AF12: {=IF(ISERROR(X12:X111)=TRUE,"",IF(Z12:Z111=1,AD12:AD111,""))} | AG12: {=IF(R12:R111="","",IF(AF12:AF111="","0",RANK(AF12:AF111,AF12:AF111,1)-1))} -> 0 | AH12: {=IF(ISERROR(X12:X111)=TRUE,"",IF(Z12:Z111=COUNT(AF12:AF111)+1,AD12:AD111,""))} | AI12: {=IF(R12:R111="","",IF(AH12:AH111="","0",RANK(AH12:AH111,AH12:AH111,1)-1))} -> 0 | AJ12: {=IF(ISERROR(X12:X111)=TRUE,"",IF(Z12:Z111=COUNT(AF12:AF111)+COUNT(AH12:AH111)+1,AD12:AD111,""))} | AK12: {=IF(R12:R111="","",IF(AJ12:AJ111="","0",RANK(AJ12:AJ111,AJ12:AJ111,1)-1))} -> 0 | AL12: {=AQ12:AQ111} -> 27 KOLESOV ANTON | AM12: =COUNTIF(AS12:AS12,"W") -> 0 | AN12: =IF(AR12="","",COUNTIF(AR12:AR12,"-")) -> 0 | AO12: {=IF(AQ12:AQ111="BYE","",IF(AS12:AS111="W","",IF(AS7="N",IF(AP12:AP111<=COUNT(Q12:Q111),AP12:AP111-AM12:AM111,""),IF(AP12:AP111<=COUNT(Q12:Q111),AP12:AP111-AM12:AM111,AP12:AP111-AM12:AM111+AN12:AN111-1))))} -> 1 | AP12: {=IF(R12:R111="","",IF(AP11:AP110+1<=COUNT(Q12:Q111),AP11:AP110+1,COUNT(Q12:Q111)+1))} -> 1 | AQ12: {=IF(R12:R111="","BYE",IF(ISERROR(VLOOKUP(A12:A111,T12:U111,2,FALSE))=TRUE,"",VLOOKUP(A12:A111,T12:U111,2,FALSE)))} -> 27 KOLESOV ANTON | AR12: {=IF(C12:C111="BYE", "",IF(A12:A111="","",IF(ISERROR(VLOOKUP(A12:A111,T12:V111,3,FALSE))=TRUE,"",VLOOKUP(A12:A111,T12:V111,3,FALSE))))} -> 13.01
A13: 2 | B13: 16 | C13: BLYNSKY ANATOLY | D13: DNR | H13: - | K13: DNR | O13: - | R13: =IF(AND(ISBLANK(D13),ISBLANK(K13)),"",IF(AND(H13="-",O13="-"),"-",IF(AND(H13="-",ISBLANK(K13)),"-",MIN(H13,O13)))) -> - | S13: 13 | T13: 13 | U13: 16 BLYNSKY ANATOLY | V13: - | W13: =IF(R13="","",COUNTIF(R12:R13,"-")) -> 1 | AD13: 0 | AE13: =IF(R13="","",IF(AD13="0","0",COUNTIF(AD12:AD12,AD13))) -> 0 | AG13: 0 | AI13: 0 | AK13: 0 | AL13: 28 GLUSHKO OLEG | AM13: =COUNTIF(AS12:AS13,"W") -> 0 | AN13: =IF(AR13="","",COUNTIF(AR12:AR13,"-")) -> 0 | AO13: 2 | AP13: 2 | AQ13: 28 GLUSHKO OLEG | AR13: 13.467
A14: 3 | B14: 17 | C14: KOSOVSKII ANDREI | D14: 20.522 | E14: 4 | F14: 0.937 | H14: 20.922 | I14: 10 | K14: 19.977 | L14: 2 | M14: 1.158 | O14: 20.177 | P14: 11 | Q14: 12 | R14: =IF(AND(ISBLANK(D14),ISBLANK(K14)),"",IF(AND(H14="-",O14="-"),"-",IF(AND(H14="-",ISBLANK(K14)),"-",MIN(H14,O14)))) -> 20.177 | S14: 12 | T14: 12 | U14: 17 KOSOVSKII ANDREI | V14: 20.177 | W14: =IF(R14="","",COUNTIF(R12:R14,"-")) -> 1 | X14: 0 | AD14: 0 | AE14: =IF(R14="","",IF(AD14="0","0",COUNTIF(AD12:AD13,AD14))) -> 0 | AG14: 0 | AI14: 0 | AK14: 0 | AL14: 25 NIKULIN ANTON | AM14: =COUNTIF(AS12:AS14,"W") -> 0 | AN14: =IF(AR14="","",COUNTIF(AR12:AR14,"-")) -> 0 | AO14: 3 | AP14: 3 | AQ14: 25 NIKULIN ANTON | AR14: 13.846
A15: 4 | B15: 18 | C15: RYCHKOV SVYATOSLAV | D15: 18.861 | E15: 1 | F15: 1.262 | H15: 18.961 | I15: 8 | K15: 18.918 | L15: 3 | M15: 1.614 | O15: 19.218 | P15: 10 | Q15: 11 | R15: =IF(AND(ISBLANK(D15),ISBLANK(K15)),"",IF(AND(H15="-",O15="-"),"-",IF(AND(H15="-",ISBLANK(K15)),"-",MIN(H15,O15)))) -> 18.961 | S15: 11 | T15: 11 | U15: 18 RYCHKOV SVYATOSLAV | V15: 18.961 | W15: =IF(R15="","",COUNTIF(R12:R15,"-")) -> 1 | X15: 0 | AD15: 0 | AE15: =IF(R15="","",IF(AD15="0","0",COUNTIF(AD12:AD14,AD15))) -> 0 | AG15: 0 | AI15: 0 | AK15: 0 | AL15: 24 PIGIDA MICHAIL | AM15: =COUNTIF(AS12:AS15,"W") -> 0 | AN15: =IF(AR15="","",COUNTIF(AR12:AR15,"-")) -> 0 | AO15: 4 | AP15: 4 | AQ15: 24 PIGIDA MICHAIL | AR15: 14.29
A16: 5 | B16: 19 | C16: SHERSHNEV ARTEM | D16: 16.808 | E16: 6 | F16: 0.702 | H16: 17.408 | I16: 7 | K16: 18.281 | L16: 8 | M16: 1.053 | O16: 19.081 | P16: 9 | Q16: 9 | R16: =IF(AND(ISBLANK(D16),ISBLANK(K16)),"",IF(AND(H16="-",O16="-"),"-",IF(AND(H16="-",ISBLANK(K16)),"-",MIN(H16,O16)))) -> 17.408 | S16: 9 | T16: 9 | U16: 19 SHERSHNEV ARTEM | V16: 17.408 | W16: =IF(R16="","",COUNTIF(R12:R16,"-")) -> 1 | X16: 0 | AD16: 0 | AE16: =IF(R16="","",IF(AD16="0","0",COUNTIF(AD12:AD15,AD16))) -> 0 | AG16: 0 | AI16: 0 | AK16: 0 | AL16: 21 YABLOKOV ARTEM | AM16: =COUNTIF(AS12:AS16,"W") -> 0 | AN16: =IF(AR16="","",COUNTIF(AR12:AR16,"-")) -> 0 | AO16: 5 | AP16: 5 | AQ16: 21 YABLOKOV ARTEM | AR16: 14.441
A17: 6 | B17: 20 | C17: YAKUSHKIN ANTON | D17: 19.72 | E17: 3 | F17: 1.015 | H17: 20.02 | I17: 9 | K17: 16.37 | L17: 3 | M17: 0.719 | O17: 16.67 | P17: 7 | Q17: 8 | R17: =IF(AND(ISBLANK(D17),ISBLANK(K17)),"",IF(AND(H17="-",O17="-"),"-",IF(AND(H17="-",ISBLANK(K17)),"-",MIN(H17,O17)))) -> 16.67 | S17: 8 | T17: 8 | U17: 20 YAKUSHKIN ANTON | V17: 16.67 | W17: =IF(R17="","",COUNTIF(R12:R17,"-")) -> 1 | X17: 0 | AD17: 0 | AE17: =IF(R17="","",IF(AD17="0","0",COUNTIF(AD12:AD16,AD17))) -> 0 | AG17: 0 | AI17: 0 | AK17: 0 | AL17: 22 SAVIN ALEKSANR | AM17: =COUNTIF(AS12:AS17,"W") -> 0 | AN17: =IF(AR17="","",COUNTIF(AR12:AR17,"-")) -> 0 | AO17: 6 | AP17: 6 | AQ17: 22 SAVIN ALEKSANR | AR17: 14.969
A18: 7 | B18: 21 | C18: YABLOKOV ARTEM | D18: DQ | E18: 0 | F18: 0.634 | H18: - | K18: 13.741 | L18: 7 | M18: 0.553 | O18: 14.441 | P18: 4 | Q18: 5 | R18: =IF(AND(ISBLANK(D18),ISBLANK(K18)),"",IF(AND(H18="-",O18="-"),"-",IF(AND(H18="-",ISBLANK(K18)),"-",MIN(H18,O18)))) -> 14.441 | S18: 5 | T18: 5 | U18: 21 YABLOKOV ARTEM | V18: 14.441 | W18: =IF(R18="","",COUNTIF(R12:R18,"-")) -> 1 | X18: 0 | AD18: 0 | AE18: =IF(R18="","",IF(R18="","",IF(AD18="0","0",COUNTIF(AD12:AD17,AD18)))) -> 0 | AG18: 0 | AI18: 0 | AK18: 0 | AL18: 23 MATSUKEVICH ANATOLY | AM18: =COUNTIF(AS12:AS18,"W") -> 0 | AN18: =IF(AR18="","",COUNTIF(AR12:AR18,"-")) -> 0 | AO18: 7 | AP18: 7 | AQ18: 23 MATSUKEVICH ANATOLY | AR18: 15.209
A19: 8 | B19: 22 | C19: SAVIN ALEKSANR | D19: 14.669 | E19: 3 | F19: 1.069 | H19: 14.969 | I19: 5 | K19: 14.552 | L19: 6 | M19: 0.983 | O19: 15.152 | P19: 5 | Q19: 6 | R19: =IF(AND(ISBLANK(D19),ISBLANK(K19)),"",IF(AND(H19="-",O19="-"),"-",IF(AND(H19="-",ISBLANK(K19)),"-",MIN(H19,O19)))) -> 14.969 | S19: 6 | T19: 6 | U19: 22 SAVIN ALEKSANR | V19: 14.969 | W19: =IF(R19="","",COUNTIF(R12:R19,"-")) -> 1 | X19: 0 | AD19: 0 | AE19: =IF(R19="","",IF(R19="","",IF(AD19="0","0",COUNTIF(AD12:AD18,AD19)))) -> 0 | AG19: 0 | AI19: 0 | AK19: 0 | AL19: 20 YAKUSHKIN ANTON | AM19: =COUNTIF(AS12:AS19,"W") -> 0 | AN19: =IF(AR19="","",COUNTIF(AR12:AR19,"-")) -> 0 | AO19: 8 | AP19: 8 | AQ19: 20 YAKUSHKIN ANTON | AR19: 16.67
A20: 9 | B20: 23 | C20: MATSUKEVICH ANATOLY | D20: 14.709 | E20: 5 | F20: 0.87 | H20: 15.209 | I20: 6 | K20: 15.762 | L20: 5 | M20: 1.386 | O20: 16.262 | P20: 6 | Q20: 7 | R20: =IF(AND(ISBLANK(D20),ISBLANK(K20)),"",IF(AND(H20="-",O20="-"),"-",IF(AND(H20="-",ISBLANK(K20)),"-",MIN(H20,O20)))) -> 15.209 | S20: 7 | T20: 7 | U20: 23 MATSUKEVICH ANATOLY | V20: 15.209 | W20: =IF(R20="","",COUNTIF(R12:R20,"-")) -> 1 | X20: 0 | AD20: 0 | AE20: =IF(R20="","",IF(R20="","",IF(AD20="0","0",COUNTIF(AD12:AD19,AD20)))) -> 0 | AG20: 0 | AI20: 0 | AK20: 0 | AL20: 19 SHERSHNEV ARTEM | AM20: =COUNTIF(AS12:AS20,"W") -> 0 | AN20: =IF(AR20="","",COUNTIF(AR12:AR20,"-")) -> 0 | AO20: 9 | AP20: 9 | AQ20: 19 SHERSHNEV ARTEM | AR20: 17.408
A21: 10 | B21: 24 | C21: PIGIDA MICHAIL | D21: 14.09 | E21: 2 | F21: 1.154 | H21: 14.29 | I21: 3 | K21: DQ | L21: 0 | M21: 0.907 | O21: - | Q21: 4 | R21: =IF(AND(ISBLANK(D21),ISBLANK(K21)),"",IF(AND(H21="-",O21="-"),"-",IF(AND(H21="-",ISBLANK(K21)),"-",MIN(H21,O21)))) -> 14.29 | S21: 4 | T21: 4 | U21: 24 PIGIDA MICHAIL | V21: 14.29 | W21: =IF(R21="","",COUNTIF(R12:R21,"-")) -> 1 | X21: 0 | AD21: 0 | AE21: =IF(R21="","",IF(AD21="0","0",COUNTIF(AD12:AD20,AD21))) -> 0 | AG21: 0 | AI21: 0 | AK21: 0 | AL21: 15 POPOV IGOR | AM21: =COUNTIF(AS12:AS21,"W") -> 0 | AN21: =IF(AR21="","",COUNTIF(AR12:AR21,"-")) -> 0 | AO21: 10 | AP21: 10 | AQ21: 15 POPOV IGOR | AR21: 18.786
A22: 11 | B22: 25 | C22: NIKULIN ANTON | D22: 14.005 | E22: 3 | F22: 0.81 | H22: 14.305 | I22: 4 | K22: 12.946 | L22: 9 | M22: 0.579 | O22: 13.846 | P22: 3 | Q22: 3 | R22: =IF(AND(ISBLANK(D22),ISBLANK(K22)),"",IF(AND(H22="-",O22="-"),"-",IF(AND(H22="-",ISBLANK(K22)),"-",MIN(H22,O22)))) -> 13.846 | S22: 3 | T22: 3 | U22: 25 NIKULIN ANTON | V22: 13.846 | W22: =IF(R22="","",COUNTIF(R12:R22,"-")) -> 1 | X22: 0 | AD22: 0 | AE22: =IF(R22="","",IF(AD22="0","0",COUNTIF(AD1:AD21,AD22))) -> 0 | AG22: 0 | AI22: 0 | AK22: 0 | AL22: 18 RYCHKOV SVYATOSLAV | AM22: =COUNTIF(AS12:AS22,"W") -> 0 | AN22: =IF(AR22="","",COUNTIF(AR12:AR22,"-")) -> 0 | AO22: 11 | AP22: 11 | AQ22: 18 RYCHKOV SVYATOSLAV | AR22: 18.961
A23: 12 | B23: 26 | C23: ARTEMOV GEORGY | D23: DNR | H23: - | K23: DNR | O23: - | R23: =IF(AND(ISBLANK(D23),ISBLANK(K23)),"",IF(AND(H23="-",O23="-"),"-",IF(AND(H23="-",ISBLANK(K23)),"-",MIN(H23,O23)))) -> - | S23: 13 | T23: 14 | U23: 26 ARTEMOV GEORGY | V23: - | W23: =IF(R23="","",COUNTIF(R12:R23,"-")) -> 2 | AD23: 0 | AE23: =IF(R23="","",IF(AD23="0","0",COUNTIF(AD12:AD22,AD23))) -> 0 | AG23: 0 | AI23: 0 | AK23: 0 | AL23: 17 KOSOVSKII ANDREI | AM23: =COUNTIF(AS12:AS23,"W") -> 0 | AN23: =IF(AR23="","",COUNTIF(AR12:AR23,"-")) -> 0 | AO23: 12 | AP23: 12 | AQ23: 17 KOSOVSKII ANDREI | AR23: 20.177
A24: 13 | B24: 27 | C24: KOLESOV ANTON | D24: 12.91 | E24: 1 | F24: 0.627 | H24: 13.01 | I24: 1 | K24: 12.788 | L24: 3 | M24: 0.599 | O24: 13.088 | P24: 1 | Q24: 1 | R24: =IF(AND(ISBLANK(D24),ISBLANK(K24)),"",IF(AND(H24="-",O24="-"),"-",IF(AND(H24="-",ISBLANK(K24)),"-",MIN(H24,O24)))) -> 13.01 | S24: 1 | T24: 1 | U24: 27 KOLESOV ANTON | V24: 13.01 | W24: =IF(R24="","",COUNTIF(R12:R24,"-")) -> 2 | X24: 0 | AD24: 0 | AE24: =IF(R24="","",IF(AD24="0","0",COUNTIF(AD12:AD23,AD24))) -> 0 | AG24: 0 | AI24: 0 | AK24: 0 | AL24: 16 BLYNSKY ANATOLY | AM24: =COUNTIF(AS12:AS24,"W") -> 0 | AN24: =IF(AR24="","",COUNTIF(AR12:AR24,"-")) -> 1 | AO24: 13 | AP24: 13 | AQ24: 16 BLYNSKY ANATOLY | AR24: -
A25: 14 | B25: 28 | C25: GLUSHKO OLEG | D25: 13.513 | E25: 3 | F25: 0.595 | H25: 13.813 | I25: 2 | K25: 13.467 | L25: 0 | M25: 0.58 | O25: 13.467 | P25: 2 | Q25: 2 | R25: =IF(AND(ISBLANK(D25),ISBLANK(K25)),"",IF(AND(H25="-",O25="-"),"-",IF(AND(H25="-",ISBLANK(K25)),"-",MIN(H25,O25)))) -> 13.467 | S25: 2 | T25: 2 | U25: 28 GLUSHKO OLEG | V25: 13.467 | W25: =IF(R25="","",COUNTIF(R12:R25,"-")) -> 2 | X25: 0 | AD25: 0 | AE25: =IF(R25="","",IF(AD25="0","0",COUNTIF(AD12:AD24,AD25))) -> 0 | AG25: 0 | AI25: 0 | AK25: 0 | AL25: 26 ARTEMOV GEORGY | AM25: =COUNTIF(AS12:AS25,"W") -> 0 | AN25: =IF(AR25="","",COUNTIF(AR12:AR25,"-")) -> 2 | AO25: 14 | AP25: 13 | AQ25: 26 ARTEMOV GEORGY | AR25: -
A26: 15 | R26: =IF(AND(ISBLANK(D26),ISBLANK(K26)),"",IF(AND(H26="-",O26="-"),"-",IF(AND(H26="-",ISBLANK(K26)),"-",MIN(H26,O26)))) | W26: =IF(R26="","",COUNTIF(R12:R26,"-")) | AE26: =IF(R26="","",IF(AD26="0","0",COUNTIF(AD12:AD25,AD26))) | AL26: BYE | AM26: =COUNTIF(AS12:AS26,"W") -> 0 | AN26: =IF(AR26="","",COUNTIF(AR12:AR26,"-")) | AQ26: BYE
A27: 16 | R27: =IF(AND(ISBLANK(D27),ISBLANK(K27)),"",IF(AND(H27="-",O27="-"),"-",IF(AND(H27="-",ISBLANK(K27)),"-",MIN(H27,O27)))) | W27: =IF(R27="","",COUNTIF(R12:R27,"-")) | AE27: =IF(R27="","",IF(AD27="0","0",COUNTIF(AD12:AD26,AD27))) | AL27: BYE | AM27: =COUNTIF(AS12:AS27,"W") -> 0 | AN27: =IF(AR27="","",COUNTIF(AR12:AR27,"-")) | AQ27: BYE
A28: 17 | R28: =IF(AND(ISBLANK(D28),ISBLANK(K28)),"",IF(AND(H28="-",O28="-"),"-",IF(AND(H28="-",ISBLANK(K28)),"-",MIN(H28,O28)))) | W28: =IF(R28="","",COUNTIF(R12:R28,"-")) | AE28: =IF(R28="","",IF(AD28="0","0",COUNTIF(AD12:AD27,AD28))) | AL28: BYE | AM28: =COUNTIF(AS12:AS28,"W") -> 0 | AN28: =IF(AR28="","",COUNTIF(AR12:AR28,"-")) | AQ28: BYE
A29: 18 | R29: =IF(AND(ISBLANK(D29),ISBLANK(K29)),"",IF(AND(H29="-",O29="-"),"-",IF(AND(H29="-",ISBLANK(K29)),"-",MIN(H29,O29)))) | W29: =IF(R29="","",COUNTIF(R12:R29,"-")) | AE29: =IF(R29="","",IF(AD29="0","0",COUNTIF(AD12:AD28,AD29))) | AL29: BYE | AM29: =COUNTIF(AS12:AS29,"W") -> 0 | AN29: =IF(AR29="","",COUNTIF(AR12:AR29,"-")) | AQ29: BYE
A30: 19 | R30: =IF(AND(ISBLANK(D30),ISBLANK(K30)),"",IF(AND(H30="-",O30="-"),"-",IF(AND(H30="-",ISBLANK(K30)),"-",MIN(H30,O30)))) | W30: =IF(R30="","",COUNTIF(R12:R30,"-")) | AE30: =IF(R30="","",IF(AD30="0","0",COUNTIF(AD12:AD29,AD30))) | AL30: BYE | AM30: =COUNTIF(AS12:AS30,"W") -> 0 | AN30: =IF(AR30="","",COUNTIF(AR12:AR30,"-")) | AQ30: BYE
A31: 20 | R31: =IF(AND(ISBLANK(D31),ISBLANK(K31)),"",IF(AND(H31="-",O31="-"),"-",IF(AND(H31="-",ISBLANK(K31)),"-",MIN(H31,O31)))) | W31: =IF(R31="","",COUNTIF(R12:R31,"-")) | AE31: =IF(R31="","",IF(AD31="0","0",COUNTIF(AD12:AD30,AD31))) | AL31: BYE | AM31: =COUNTIF(AS12:AS31,"W") -> 0 | AN31: =IF(AR31="","",COUNTIF(AR12:AR31,"-")) | AQ31: BYE
A32: 21 | R32: =IF(AND(ISBLANK(D32),ISBLANK(K32)),"",IF(AND(H32="-",O32="-"),"-",IF(AND(H32="-",ISBLANK(K32)),"-",MIN(H32,O32)))) | W32: =IF(R32="","",COUNTIF(R12:R32,"-")) | AE32: =IF(R32="","",IF(AD32="0","0",COUNTIF(AD12:AD31,AD32))) | AL32: BYE | AM32: =COUNTIF(AS12:AS32,"W") -> 0 | AN32: =IF(AR32="","",COUNTIF(AR12:AR32,"-")) | AQ32: BYE
A33: 22 | R33: =IF(AND(ISBLANK(D33),ISBLANK(K33)),"",IF(AND(H33="-",O33="-"),"-",IF(AND(H33="-",ISBLANK(K33)),"-",MIN(H33,O33)))) | W33: =IF(R33="","",COUNTIF(R12:R33,"-")) | AE33: =IF(R33="","",IF(AD33="0","0",COUNTIF(AD12:AD32,AD33))) | AL33: BYE | AM33: =COUNTIF(AS12:AS33,"W") -> 0 | AN33: =IF(AR33="","",COUNTIF(AR12:AR33,"-")) | AQ33: BYE
A34: 23 | R34: =IF(AND(ISBLANK(D34),ISBLANK(K34)),"",IF(AND(H34="-",O34="-"),"-",IF(AND(H34="-",ISBLANK(K34)),"-",MIN(H34,O34)))) | W34: =IF(R34="","",COUNTIF(R12:R34,"-")) | AE34: =IF(R34="","",IF(AD34="0","0",COUNTIF(AD12:AD33,AD34))) | AL34: BYE | AM34: =COUNTIF(AS12:AS34,"W") -> 0 | AN34: =IF(AR34="","",COUNTIF(AR12:AR34,"-")) | AQ34: BYE
A35: 24 | R35: =IF(AND(ISBLANK(D35),ISBLANK(K35)),"",IF(AND(H35="-",O35="-"),"-",IF(AND(H35="-",ISBLANK(K35)),"-",MIN(H35,O35)))) | W35: =IF(R35="","",COUNTIF(R12:R35,"-")) | AE35: =IF(R35="","",IF(AD35="0","0",COUNTIF(AD12:AD34,AD35))) | AL35: BYE | AM35: =COUNTIF(AS12:AS35,"W") -> 0 | AN35: =IF(AR35="","",COUNTIF(AR12:AR35,"-")) | AQ35: BYE
A36: 25 | R36: =IF(AND(ISBLANK(D36),ISBLANK(K36)),"",IF(AND(H36="-",O36="-"),"-",IF(AND(H36="-",ISBLANK(K36)),"-",MIN(H36,O36)))) | W36: =IF(R36="","",COUNTIF(R12:R36,"-")) | AE36: =IF(R36="","",IF(AD36="0","0",COUNTIF(AD12:AD35,AD36))) | AL36: BYE | AM36: =COUNTIF(AS12:AS36,"W") -> 0 | AN36: =IF(AR36="","",COUNTIF(AR12:AR36,"-")) | AQ36: BYE
A37: 26 | R37: =IF(AND(ISBLANK(D37),ISBLANK(K37)),"",IF(AND(H37="-",O37="-"),"-",IF(AND(H37="-",ISBLANK(K37)),"-",MIN(H37,O37)))) | W37: =IF(R37="","",COUNTIF(R12:R37,"-")) | AE37: =IF(R37="","",IF(AD37="0","0",COUNTIF(AD12:AD36,AD37))) | AL37: BYE | AM37: =COUNTIF(AS12:AS37,"W") -> 0 | AN37: =IF(AR37="","",COUNTIF(AR12:AR37,"-")) | AQ37: BYE
A38: 27 | R38: =IF(AND(ISBLANK(D38),ISBLANK(K38)),"",IF(AND(H38="-",O38="-"),"-",IF(AND(H38="-",ISBLANK(K38)),"-",MIN(H38,O38)))) | W38: =IF(R38="","",COUNTIF(R12:R38,"-")) | AE38: =IF(R38="","",IF(AD38="0","0",COUNTIF(AD12:AD37,AD38))) | AL38: BYE | AM38: =COUNTIF(AS12:AS38,"W") -> 0 | AN38: =IF(AR38="","",COUNTIF(AR12:AR38,"-")) | AQ38: BYE
A39: 28 | R39: =IF(AND(ISBLANK(D39),ISBLANK(K39)),"",IF(AND(H39="-",O39="-"),"-",IF(AND(H39="-",ISBLANK(K39)),"-",MIN(H39,O39)))) | W39: =IF(R39="","",COUNTIF(R12:R39,"-")) | AE39: =IF(R39="","",IF(AD39="0","0",COUNTIF(AD12:AD38,AD39))) | AL39: BYE | AM39: =COUNTIF(AS12:AS39,"W") -> 0 | AN39: =IF(AR39="","",COUNTIF(AR12:AR39,"-")) | AQ39: BYE
A40: 29 | R40: =IF(AND(ISBLANK(D40),ISBLANK(K40)),"",IF(AND(H40="-",O40="-"),"-",IF(AND(H40="-",ISBLANK(K40)),"-",MIN(H40,O40)))) | W40: =IF(R40="","",COUNTIF(R12:R40,"-")) | AE40: =IF(R40="","",IF(AD40="0","0",COUNTIF(AD12:AD39,AD40))) | AL40: BYE | AM40: =COUNTIF(AS12:AS40,"W") -> 0 | AN40: =IF(AR40="","",COUNTIF(AR12:AR40,"-")) | AQ40: BYE
A41: 30 | R41: =IF(AND(ISBLANK(D41),ISBLANK(K41)),"",IF(AND(H41="-",O41="-"),"-",IF(AND(H41="-",ISBLANK(K41)),"-",MIN(H41,O41)))) | W41: =IF(R41="","",COUNTIF(R12:R41,"-")) | AE41: =IF(R41="","",IF(AD41="0","0",COUNTIF(AD12:AD40,AD41))) | AL41: BYE | AM41: =COUNTIF(AS12:AS41,"W") -> 0 | AN41: =IF(AR41="","",COUNTIF(AR12:AR41,"-")) | AQ41: BYE
...

Sheet Wo Quals
D1: Moscow City Race 2015 | AP1: Database development by
D2: 16 May 2015 • Yaroslavskoe shosse 124 | AP2: Dan Gesmer, SeismicSK8@aol.com
D3: Tight / Women Qualifications
A5: 0.1 | B5: secs penalty per hit cone
A6: 20 | B6: maximum hit cones before DQ
A7: 2 | B7: false start multiplication factor | D7: Under "Raw Time," enter "DQ" or"DNF" for | AP7: Advance Racers who DQ | AS7: Y
A8: =IF(ISERROR(0.1*AR12)=TRUE,"",ROUND(0.1*AR12,2)) -> 1.71 | B8: secs head-to-head DQ/DNR penalty | D8: "Disqualified" and "DNR" for "Did Not Race." | AP8: all Qualifying Runs? (Y/N)
A9: =IF(ISERROR(0.1*AR12)=TRUE,"",ROUND(0.1*AR12,2)) -> 1.71 | B9: secs max head-to-head victory margin
B10: Bib Number | C10: Racer Name | D10: Run 1 | K10: Run 2 | Q10: Qual Rank (w/out DQs) | R10: Best Time | S10: Qualifying Position | T10: Qual Rank (w/DQs sequenced) | U10: Racer No. & Name | V10: Best Time | W10: Double DQ Place Factor | X10: No. of Ties per Best Time | Y10: Tied-at Time | Z10: Tied-at Time Rank | AA10: Run 1 Time w/DQ Adjust | AB10: Run 2 Time w/DQ Adjust | AC10: Total Time w/DQ Adjust | AD10: Total Time Rank | AE10: Total Tie Place Factor | AF10: Tie 1 Total Time Rank | AG10: Tie 1 Place Factor | AH10: Tie 2 Total Time Rank | AI10: Tie 2 Place Factor | AJ10: Tie 3 Total Time Rank | AK10: Tie 3 Place Factor | AL10: Placed Racer No. & Name | AM10: Withdrawal Place Factor | AN10: Double DQ Place Factor 2 | AO10: Final Spot - Withdrawals | AP10: Qualifying Position | AQ10: Racer No. & Name | AR10: Best Time | AS10: Withdraw (W)
D11: Raw Time | E11: Cones | F11: Reaction Time | G11: False Start | H11: Final Time | I11: Run Rank | K11: Raw Time | L11: Cones | M11: Reaction Time | N11: False Start | O11: Final Time | P11: Run Rank
A12: 1 | B12: 11 | C12: STROGANOVA EKATERINA | D12: DQ | E12: 0 | F12: 0.53 | H12: {=IF(LEFT(D12:D111,1)="D","-",IF(E12:E111>A6,"-",IF(D12:D111>0,D12:D111+E12:E111*A5+G12:G111*A7,"")))} -> - | I12: {=IF(H12:H111="","",IF(H12:H111="-","",RANK(H12:H111,H12:H111,1)))} | K12: DQ | L12: 0 | M12: 0.744 | O12: {=IF(LEFT(K12:K111,1)="D","-",IF(L12:L111>A6,"-",IF(K12:K111>0,K12:K111+L12:L111*A5+N12:N111*A7,"")))} -> - | P12: {=IF(O12:O111="","",IF(O12:O111="-","",RANK(O12:O111,O12:O111,1)))} | Q12: {=IF(R12:R111="","",IF(R12:R111="-","",RANK(R12:R111,R12:R111,1)))} | R12: =IF(AND(ISBLANK(D12),ISBLANK(K12)),"",IF(AND(H12="-",O12="-"),"-",IF(AND(H12="-",ISBLANK(K12)),"-",MIN(H12,O12)))) -> - | S12: {=IF(R12:R111="","",VLOOKUP(U12:U111,AL12:AP111,5,FALSE))} -> 4 | T12: {=IF(R12:R111="","",IF(R12:R111="-",COUNT(Q12:Q111)+W12:W111,Q12:Q111+AE12:AE111+AG12:AG111+AI12:AI111+AK12:AK111))} -> 4 | U12: {=IF(B12:B111 ="","",B12:B111 & " ")&C12:C111} -> 11 STROGANOVA EKATERINA | V12: {=R12:R111} -> - | W12: =IF(R12="","",COUNTIF(R12:R12,"-")) -> 1 | X12: {=IF(Q12:Q111="","",COUNTIF(Q12:Q111,Q12:Q111)-1)} | Y12: {=IF(R12:R111="-","",IF(X12:X111=0,"",R12:R111))} | Z12: {=IF(Y12:Y111="","",RANK(Y12:Y111,Y12:Y111,1))} | AA12: {=IF(X12:X111="","",IF(X12:X111=0,"",IF(LEFT(H12:H111,1)="-","199",H12:H111)))} | AB12: {=IF(X12:X111="","",IF(X12:X111=0,"",IF(LEFT(O12:O111,1)="-","199",O12:O111)))} | AC12: {=IF(ISERROR(AA12:AA111+AB12:AB111)=TRUE,AA12:AA111,AA12:AA111+AB12:AB111)} | AD12: {=IF(R12:R111="","",IF(X12:X111=0,"0",IF(ISERROR(RANK(AC12:AC111,AC12:AC111,1))=TRUE,"0",RANK(AC12:AC111,AC12:AC111,1))))} -> 0 | AE12: 0 | AF12: {=IF(ISERROR(X12:X111)=TRUE,"",IF(Z12:Z111=1,AD12:AD111,""))} | AG12: {=IF(R12:R111="","",IF(AF12:AF111="","0",RANK(AF12:AF111,AF12:AF111,1)-1))} -> 0 | AH12: {=IF(ISERROR(X12:X111)=TRUE,"",IF(Z12:Z111=COUNT(AF12:AF111)+1,AD12:AD111,""))} | AI12: {=IF(R12:R111="","",IF(AH12:AH111="","0",RANK(AH12:AH111,AH12:AH111,1)-1))} -> 0 | AJ12: {=IF(ISERROR(X12:X111)=TRUE,"",IF(Z12:Z111=COUNT(AF12:AF111)+COUNT(AH12:AH111)+1,AD12:AD111,""))} | AK12: {=IF(R12:R111="","",IF(AJ12:AJ111="","0",RANK(AJ12:AJ111,AJ12:AJ111,1)-1))} -> 0 | AL12: {=AQ12:AQ111} -> 13 KISELEVA OLGA | AM12: =COUNTIF(AS12:AS12,"W") -> 0 | AN12: =IF(AR12="","",COUNTIF(AR12:AR12,"-")) -> 0 | AO12: {=IF(AQ12:AQ111="BYE","",IF(AS12:AS111="W","",IF(AS7="N",IF(AP12:AP111<=COUNT(Q12:Q111),AP12:AP111-AM12:AM111,""),IF(AP12:AP111<=COUNT(Q12:Q111),AP12:AP111-AM12:AM111,AP12:AP111-AM12:AM111+AN12:AN111-1))))} -> 1 | AP12: {=IF(R12:R111="","",IF(AP11:AP110+1<=COUNT(Q12:Q111),AP11:AP110+1,COUNT(Q12:Q111)+1))} -> 1 | AQ12: {=IF(R12:R111="","BYE",IF(ISERROR(VLOOKUP(A12:A111,T12:U111,2,FALSE))=TRUE,"",VLOOKUP(A12:A111,T12:U111,2,FALSE)))} -> 13 KISELEVA OLGA | AR12: {=IF(C12:C111="BYE", "",IF(A12:A111="","",IF(ISERROR(VLOOKUP(A12:A111,T12:V111,3,FALSE))=TRUE,"",VLOOKUP(A12:A111,T12:V111,3,FALSE))))} -> 17.127
A13: 2 | B13: 12 | C13: HOHLOVA ELIZAVETA | D13: 20.929 | E13: 1 | F13: 0.612 | H13: 21.029 | I13: 2 | K13: DQ | L13: 0 | M13: 0.504 | O13: - | Q13: 2 | R13: =IF(AND(ISBLANK(D13),ISBLANK(K13)),"",IF(AND(H13="-",O13="-"),"-",IF(AND(H13="-",ISBLANK(K13)),"-",MIN(H13,O13)))) -> 21.029 | S13: 2 | T13: 2 | U13: 12 HOHLOVA ELIZAVETA | V13: 21.029 | W13: =IF(R13="","",COUNTIF(R12:R13,"-")) -> 1 | X13: 0 | AD13: 0 | AE13: =IF(R13="","",IF(AD13="0","0",COUNTIF(AD12:AD12,AD13))) -> 0 | AG13: 0 | AI13: 0 | AK13: 0 | AL13: 12 HOHLOVA ELIZAVETA | AM13: =COUNTIF(AS12:AS13,"W") -> 0 | AN13: =IF(AR13="","",COUNTIF(AR12:AR13,"-")) -> 0 | AO13: 2 | AP13: 2 | AQ13: 12 HOHLOVA ELIZAVETA | AR13: 21.029
A14: 3 | B14: 13 | C14: KISELEVA OLGA | D14: 17.52 | E14: 0 | F14: 1.001 | H14: 17.52 | I14: 1 | K14: 17.127 | L14: 0 | M14: 1.091 | O14: 17.127 | P14: 1 | Q14: 1 | R14: =IF(AND(ISBLANK(D14),ISBLANK(K14)),"",IF(AND(H14="-",O14="-"),"-",IF(AND(H14="-",ISBLANK(K14)),"-",MIN(H14,O14)))) -> 17.127 | S14: 1 | T14: 1 | U14: 13 KISELEVA OLGA | V14: 17.127 | W14: =IF(R14="","",COUNTIF(R12:R14,"-")) -> 1 | X14: 0 | AD14: 0 | AE14: =IF(R14="","",IF(AD14="0","0",COUNTIF(AD12:AD13,AD14))) -> 0 | AG14: 0 | AI14: 0 | AK14: 0 | AL14: 14 SHERSHNEVA ANNA | AM14: =COUNTIF(AS12:AS14,"W") -> 0 | AN14: =IF(AR14="","",COUNTIF(AR12:AR14,"-")) -> 0 | AO14: 3 | AP14: 3 | AQ14: 14 SHERSHNEVA ANNA | AR14: 21.319
A15: 4 | B15: 14 | C15: SHERSHNEVA ANNA | D15: 21.392 | E15: 2 | F15: 0.908 | H15: 21.592 | I15: 3 | K15: 21.219 | L15: 1 | M15: 0.831 | O15: 21.319 | P15: 2 | Q15: 3 | R15: =IF(AND(ISBLANK(D15),ISBLANK(K15)),"",IF(AND(H15="-",O15="-"),"-",IF(AND(H15="-",ISBLANK(K15)),"-",MIN(H15,O15)))) -> 21.319 | S15: 3 | T15: 3 | U15: 14 SHERSHNEVA ANNA | V15: 21.319 | W15: =IF(R15="","",COUNTIF(R12:R15,"-")) -> 1 | X15: 0 | AD15: 0 | AE15: =IF(R15="","",IF(AD15="0","0",COUNTIF(AD12:AD14,AD15))) -> 0 | AG15: 0 | AI15: 0 | AK15: 0 | AL15: 11 STROGANOVA EKATERINA | AM15: =COUNTIF(AS12:AS15,"W") -> 0 | AN15: =IF(AR15="","",COUNTIF(AR12:AR15,"-")) -> 1 | AO15: 4 | AP15: 4 | AQ15: 11 STROGANOVA EKATERINA | AR15: -
A16: 5 | R16: =IF(AND(ISBLANK(D16),ISBLANK(K16)),"",IF(AND(H16="-",O16="-"),"-",IF(AND(H16="-",ISBLANK(K16)),"-",MIN(H16,O16)))) | W16: =IF(R16="","",COUNTIF(R12:R16,"-")) | AE16: =IF(R16="","",IF(AD16="0","0",COUNTIF(AD12:AD15,AD16))) | AL16: BYE | AM16: =COUNTIF(AS12:AS16,"W") -> 0 | AN16: =IF(AR16="","",COUNTIF(AR12:AR16,"-")) | AQ16: BYE
A17: 6 | R17: =IF(AND(ISBLANK(D17),ISBLANK(K17)),"",IF(AND(H17="-",O17="-"),"-",IF(AND(H17="-",ISBLANK(K17)),"-",MIN(H17,O17)))) | W17: =IF(R17="","",COUNTIF(R12:R17,"-")) | AE17: =IF(R17="","",IF(AD17="0","0",COUNTIF(AD12:AD16,AD17))) | AL17: BYE | AM17: =COUNTIF(AS12:AS17,"W") -> 0 | AN17: =IF(AR17="","",COUNTIF(AR12:AR17,"-")) | AQ17: BYE
A18: 7 | R18: =IF(AND(ISBLANK(D18),ISBLANK(K18)),"",IF(AND(H18="-",O18="-"),"-",IF(AND(H18="-",ISBLANK(K18)),"-",MIN(H18,O18)))) | W18: =IF(R18="","",COUNTIF(R12:R18,"-")) | AE18: =IF(R18="","",IF(R18="","",IF(AD18="0","0",COUNTIF(AD12:AD17,AD18)))) | AL18: BYE | AM18: =COUNTIF(AS12:AS18,"W") -> 0 | AN18: =IF(AR18="","",COUNTIF(AR12:AR18,"-")) | AQ18: BYE
A19: 8 | R19: =IF(AND(ISBLANK(D19),ISBLANK(K19)),"",IF(AND(H19="-",O19="-"),"-",IF(AND(H19="-",ISBLANK(K19)),"-",MIN(H19,O19)))) | W19: =IF(R19="","",COUNTIF(R12:R19,"-")) | AE19: =IF(R19="","",IF(R19="","",IF(AD19="0","0",COUNTIF(AD12:AD18,AD19)))) | AL19: BYE | AM19: =COUNTIF(AS12:AS19,"W") -> 0 | AN19: =IF(AR19="","",COUNTIF(AR12:AR19,"-")) | AQ19: BYE
A20: 9 | R20: =IF(AND(ISBLANK(D20),ISBLANK(K20)),"",IF(AND(H20="-",O20="-"),"-",IF(AND(H20="-",ISBLANK(K20)),"-",MIN(H20,O20)))) | W20: =IF(R20="","",COUNTIF(R12:R20,"-")) | AE20: =IF(R20="","",IF(R20="","",IF(AD20="0","0",COUNTIF(AD12:AD19,AD20)))) | AL20: BYE | AM20: =COUNTIF(AS12:AS20,"W") -> 0 | AN20: =IF(AR20="","",COUNTIF(AR12:AR20,"-")) | AQ20: BYE
A21: 10 | R21: =IF(AND(ISBLANK(D21),ISBLANK(K21)),"",IF(AND(H21="-",O21="-"),"-",IF(AND(H21="-",ISBLANK(K21)),"-",MIN(H21,O21)))) | W21: =IF(R21="","",COUNTIF(R12:R21,"-")) | AE21: =IF(R21="","",IF(AD21="0","0",COUNTIF(AD12:AD20,AD21))) | AL21: BYE | AM21: =COUNTIF(AS12:AS21,"W") -> 0 | AN21: =IF(AR21="","",COUNTIF(AR12:AR21,"-")) | AQ21: BYE
A22: 11 | R22: =IF(AND(ISBLANK(D22),ISBLANK(K22)),"",IF(AND(H22="-",O22="-"),"-",IF(AND(H22="-",ISBLANK(K22)),"-",MIN(H22,O22)))) | W22: =IF(R22="","",COUNTIF(R12:R22,"-")) | AE22: =IF(R22="","",IF(AD22="0","0",COUNTIF(AD1:AD21,AD22))) | AL22: BYE | AM22: =COUNTIF(AS12:AS22,"W") -> 0 | AN22: =IF(AR22="","",COUNTIF(AR12:AR22,"-")) | AQ22: BYE
A23: 12 | R23: =IF(AND(ISBLANK(D23),ISBLANK(K23)),"",IF(AND(H23="-",O23="-"),"-",IF(AND(H23="-",ISBLANK(K23)),"-",MIN(H23,O23)))) | W23: =IF(R23="","",COUNTIF(R12:R23,"-")) | AE23: =IF(R23="","",IF(AD23="0","0",COUNTIF(AD12:AD22,AD23))) | AL23: BYE | AM23: =COUNTIF(AS12:AS23,"W") -> 0 | AN23: =IF(AR23="","",COUNTIF(AR12:AR23,"-")) | AQ23: BYE
A24: 13 | R24: =IF(AND(ISBLANK(D24),ISBLANK(K24)),"",IF(AND(H24="-",O24="-"),"-",IF(AND(H24="-",ISBLANK(K24)),"-",MIN(H24,O24)))) | W24: =IF(R24="","",COUNTIF(R12:R24,"-")) | AE24: =IF(R24="","",IF(AD24="0","0",COUNTIF(AD12:AD23,AD24))) | AL24: BYE | AM24: =COUNTIF(AS12:AS24,"W") -> 0 | AN24: =IF(AR24="","",COUNTIF(AR12:AR24,"-")) | AQ24: BYE
A25: 14 | R25: =IF(AND(ISBLANK(D25),ISBLANK(K25)),"",IF(AND(H25="-",O25="-"),"-",IF(AND(H25="-",ISBLANK(K25)),"-",MIN(H25,O25)))) | W25: =IF(R25="","",COUNTIF(R12:R25,"-")) | AE25: =IF(R25="","",IF(AD25="0","0",COUNTIF(AD12:AD24,AD25))) | AL25: BYE | AM25: =COUNTIF(AS12:AS25,"W") -> 0 | AN25: =IF(AR25="","",COUNTIF(AR12:AR25,"-")) | AQ25: BYE
A26: 15 | R26: =IF(AND(ISBLANK(D26),ISBLANK(K26)),"",IF(AND(H26="-",O26="-"),"-",IF(AND(H26="-",ISBLANK(K26)),"-",MIN(H26,O26)))) | W26: =IF(R26="","",COUNTIF(R12:R26,"-")) | AE26: =IF(R26="","",IF(AD26="0","0",COUNTIF(AD12:AD25,AD26))) | AL26: BYE | AM26: =COUNTIF(AS12:AS26,"W") -> 0 | AN26: =IF(AR26="","",COUNTIF(AR12:AR26,"-")) | AQ26: BYE
A27: 16 | R27: =IF(AND(ISBLANK(D27),ISBLANK(K27)),"",IF(AND(H27="-",O27="-"),"-",IF(AND(H27="-",ISBLANK(K27)),"-",MIN(H27,O27)))) | W27: =IF(R27="","",COUNTIF(R12:R27,"-")) | AE27: =IF(R27="","",IF(AD27="0","0",COUNTIF(AD12:AD26,AD27))) | AL27: BYE | AM27: =COUNTIF(AS12:AS27,"W") -> 0 | AN27: =IF(AR27="","",COUNTIF(AR12:AR27,"-")) | AQ27: BYE
A28: 17 | R28: =IF(AND(ISBLANK(D28),ISBLANK(K28)),"",IF(AND(H28="-",O28="-"),"-",IF(AND(H28="-",ISBLANK(K28)),"-",MIN(H28,O28)))) | W28: =IF(R28="","",COUNTIF(R12:R28,"-")) | AE28: =IF(R28="","",IF(AD28="0","0",COUNTIF(AD12:AD27,AD28))) | AL28: BYE | AM28: =COUNTIF(AS12:AS28,"W") -> 0 | AN28: =IF(AR28="","",COUNTIF(AR12:AR28,"-")) | AQ28: BYE
A29: 18 | R29: =IF(AND(ISBLANK(D29),ISBLANK(K29)),"",IF(AND(H29="-",O29="-"),"-",IF(AND(H29="-",ISBLANK(K29)),"-",MIN(H29,O29)))) | W29: =IF(R29="","",COUNTIF(R12:R29,"-")) | AE29: =IF(R29="","",IF(AD29="0","0",COUNTIF(AD12:AD28,AD29))) | AL29: BYE | AM29: =COUNTIF(AS12:AS29,"W") -> 0 | AN29: =IF(AR29="","",COUNTIF(AR12:AR29,"-")) | AQ29: BYE
A30: 19 | R30: =IF(AND(ISBLANK(D30),ISBLANK(K30)),"",IF(AND(H30="-",O30="-"),"-",IF(AND(H30="-",ISBLANK(K30)),"-",MIN(H30,O30)))) | W30: =IF(R30="","",COUNTIF(R12:R30,"-")) | AE30: =IF(R30="","",IF(AD30="0","0",COUNTIF(AD12:AD29,AD30))) | AL30: BYE | AM30: =COUNTIF(AS12:AS30,"W") -> 0 | AN30: =IF(AR30="","",COUNTIF(AR12:AR30,"-")) | AQ30: BYE
A31: 20 | R31: =IF(AND(ISBLANK(D31),ISBLANK(K31)),"",IF(AND(H31="-",O31="-"),"-",IF(AND(H31="-",ISBLANK(K31)),"-",MIN(H31,O31)))) | W31: =IF(R31="","",COUNTIF(R12:R31,"-")) | AE31: =IF(R31="","",IF(AD31="0","0",COUNTIF(AD12:AD30,AD31))) | AL31: BYE | AM31: =COUNTIF(AS12:AS31,"W") -> 0 | AN31: =IF(AR31="","",COUNTIF(AR12:AR31,"-")) | AQ31: BYE
A32: 21 | R32: =IF(AND(ISBLANK(D32),ISBLANK(K32)),"",IF(AND(H32="-",O32="-"),"-",IF(AND(H32="-",ISBLANK(K32)),"-",MIN(H32,O32)))) | W32: =IF(R32="","",COUNTIF(R12:R32,"-")) | AE32: =IF(R32="","",IF(AD32="0","0",COUNTIF(AD12:AD31,AD32))) | AL32: BYE | AM32: =COUNTIF(AS12:AS32,"W") -> 0 | AN32: =IF(AR32="","",COUNTIF(AR12:AR32,"-")) | AQ32: BYE
A33: 22 | R33: =IF(AND(ISBLANK(D33),ISBLANK(K33)),"",IF(AND(H33="-",O33="-"),"-",IF(AND(H33="-",ISBLANK(K33)),"-",MIN(H33,O33)))) | W33: =IF(R33="","",COUNTIF(R12:R33,"-")) | AE33: =IF(R33="","",IF(AD33="0","0",COUNTIF(AD12:AD32,AD33))) | AL33: BYE | AM33: =COUNTIF(AS12:AS33,"W") -> 0 | AN33: =IF(AR33="","",COUNTIF(AR12:AR33,"-")) | AQ33: BYE
A34: 23 | R34: =IF(AND(ISBLANK(D34),ISBLANK(K34)),"",IF(AND(H34="-",O34="-"),"-",IF(AND(H34="-",ISBLANK(K34)),"-",MIN(H34,O34)))) | W34: =IF(R34="","",COUNTIF(R12:R34,"-")) | AE34: =IF(R34="","",IF(AD34="0","0",COUNTIF(AD12:AD33,AD34))) | AL34: BYE | AM34: =COUNTIF(AS12:AS34,"W") -> 0 | AN34: =IF(AR34="","",COUNTIF(AR12:AR34,"-")) | AQ34: BYE
A35: 24 | R35: =IF(AND(ISBLANK(D35),ISBLANK(K35)),"",IF(AND(H35="-",O35="-"),"-",IF(AND(H35="-",ISBLANK(K35)),"-",MIN(H35,O35)))) | W35: =IF(R35="","",COUNTIF(R12:R35,"-")) | AE35: =IF(R35="","",IF(AD35="0","0",COUNTIF(AD12:AD34,AD35))) | AL35: BYE | AM35: =COUNTIF(AS12:AS35,"W") -> 0 | AN35: =IF(AR35="","",COUNTIF(AR12:AR35,"-")) | AQ35: BYE
A36: 25 | R36: =IF(AND(ISBLANK(D36),ISBLANK(K36)),"",IF(AND(H36="-",O36="-"),"-",IF(AND(H36="-",ISBLANK(K36)),"-",MIN(H36,O36)))) | W36: =IF(R36="","",COUNTIF(R12:R36,"-")) | AE36: =IF(R36="","",IF(AD36="0","0",COUNTIF(AD12:AD35,AD36))) | AL36: BYE | AM36: =COUNTIF(AS12:AS36,"W") -> 0 | AN36: =IF(AR36="","",COUNTIF(AR12:AR36,"-")) | AQ36: BYE
A37: 26 | R37: =IF(AND(ISBLANK(D37),ISBLANK(K37)),"",IF(AND(H37="-",O37="-"),"-",IF(AND(H37="-",ISBLANK(K37)),"-",MIN(H37,O37)))) | W37: =IF(R37="","",COUNTIF(R12:R37,"-")) | AE37: =IF(R37="","",IF(AD37="0","0",COUNTIF(AD12:AD36,AD37))) | AL37: BYE | AM37: =COUNTIF(AS12:AS37,"W") -> 0 | AN37: =IF(AR37="","",COUNTIF(AR12:AR37,"-")) | AQ37: BYE
A38: 27 | R38: =IF(AND(ISBLANK(D38),ISBLANK(K38)),"",IF(AND(H38="-",O38="-"),"-",IF(AND(H38="-",ISBLANK(K38)),"-",MIN(H38,O38)))) | W38: =IF(R38="","",COUNTIF(R12:R38,"-")) | AE38: =IF(R38="","",IF(AD38="0","0",COUNTIF(AD12:AD37,AD38))) | AL38: BYE | AM38: =COUNTIF(AS12:AS38,"W") -> 0 | AN38: =IF(AR38="","",COUNTIF(AR12:AR38,"-")) | AQ38: BYE
A39: 28 | R39: =IF(AND(ISBLANK(D39),ISBLANK(K39)),"",IF(AND(H39="-",O39="-"),"-",IF(AND(H39="-",ISBLANK(K39)),"-",MIN(H39,O39)))) | W39: =IF(R39="","",COUNTIF(R12:R39,"-")) | AE39: =IF(R39="","",IF(AD39="0","0",COUNTIF(AD12:AD38,AD39))) | AL39: BYE | AM39: =COUNTIF(AS12:AS39,"W") -> 0 | AN39: =IF(AR39="","",COUNTIF(AR12:AR39,"-")) | AQ39: BYE
A40: 29 | R40: =IF(AND(ISBLANK(D40),ISBLANK(K40)),"",IF(AND(H40="-",O40="-"),"-",IF(AND(H40="-",ISBLANK(K40)),"-",MIN(H40,O40)))) | W40: =IF(R40="","",COUNTIF(R12:R40,"-")) | AE40: =IF(R40="","",IF(AD40="0","0",COUNTIF(AD12:AD39,AD40))) | AL40: BYE | AM40: =COUNTIF(AS12:AS40,"W") -> 0 | AN40: =IF(AR40="","",COUNTIF(AR12:AR40,"-")) | AQ40: BYE
A41: 30 | R41: =IF(AND(ISBLANK(D41),ISBLANK(K41)),"",IF(AND(H41="-",O41="-"),"-",IF(AND(H41="-",ISBLANK(K41)),"-",MIN(H41,O41)))) | W41: =IF(R41="","",COUNTIF(R12:R41,"-")) | AE41: =IF(R41="","",IF(AD41="0","0",COUNTIF(AD12:AD40,AD41))) | AL41: BYE | AM41: =COUNTIF(AS12:AS41,"W") -> 0 | AN41: =IF(AR41="","",COUNTIF(AR12:AR41,"-")) | AQ41: BYE
...

Sheet Jr Quals
D1: Moscow City Race 2015 | AP1: Database development by
D2: 16 May 2015 • Yaroslavskoe shosse 124 | AP2: Dan Gesmer, SeismicSK8@aol.com
D3: Tight / Junior Qualifications
A5: 0.1 | B5: secs penalty per hit cone
A6: 20 | B6: maximum hit cones before DQ
A7: 2 | B7: false start multiplication factor | D7: Under "Raw Time," enter "DQ" or"DNF" for | AP7: Advance Racers who DQ | AS7: Y
A8: =IF(ISERROR(0.1*AR12)=TRUE,"",ROUND(0.1*AR12,2)) -> 1.85 | B8: secs head-to-head DQ/DNR penalty | D8: "Disqualified" and "DNR" for "Did Not Race." | AP8: all Qualifying Runs? (Y/N)
A9: =IF(ISERROR(0.1*AR12)=TRUE,"",ROUND(0.1*AR12,2)) -> 1.85 | B9: secs max head-to-head victory margin
B10: Bib Number | C10: Racer Name | D10: Run 1 | K10: Run 2 | Q10: Qual Rank (w/out DQs) | R10: Best Time | S10: Qualifying Position | T10: Qual Rank (w/DQs sequenced) | U10: Racer No. & Name | V10: Best Time | W10: Double DQ Place Factor | X10: No. of Ties per Best Time | Y10: Tied-at Time | Z10: Tied-at Time Rank | AA10: Run 1 Time w/DQ Adjust | AB10: Run 2 Time w/DQ Adjust | AC10: Total Time w/DQ Adjust | AD10: Total Time Rank | AE10: Total Tie Place Factor | AF10: Tie 1 Total Time Rank | AG10: Tie 1 Place Factor | AH10: Tie 2 Total Time Rank | AI10: Tie 2 Place Factor | AJ10: Tie 3 Total Time Rank | AK10: Tie 3 Place Factor | AL10: Placed Racer No. & Name | AM10: Withdrawal Place Factor | AN10: Double DQ Place Factor 2 | AO10: Final Spot - Withdrawals | AP10: Qualifying Position | AQ10: Racer No. & Name | AR10: Best Time | AS10: Withdraw (W)
D11: Raw Time | E11: Cones | F11: Reaction Time | G11: False Start | H11: Final Time | I11: Run Rank | K11: Raw Time | L11: Cones | M11: Reaction Time | N11: False Start | O11: Final Time | P11: Run Rank
A12: 1 | B12: 1 | C12: BARDAKOV GLEB | D12: DQ | H12: {=IF(LEFT(D12:D111,1)="D","-",IF(E12:E111>A6,"-",IF(D12:D111>0,D12:D111+E12:E111*A5+G12:G111*A7,"")))} -> - | I12: {=IF(H12:H111="","",IF(H12:H111="-","",RANK(H12:H111,H12:H111,1)))} | K12: DQ | O12: {=IF(LEFT(K12:K111,1)="D","-",IF(L12:L111>A6,"-",IF(K12:K111>0,K12:K111+L12:L111*A5+N12:N111*A7,"")))} -> - | P12: {=IF(O12:O111="","",IF(O12:O111="-","",RANK(O12:O111,O12:O111,1)))} | Q12: {=IF(R12:R111="","",IF(R12:R111="-","",RANK(R12:R111,R12:R111,1)))} | R12: =IF(AND(ISBLANK(D12),ISBLANK(K12)),"",IF(AND(H12="-",O12="-"),"-",IF(AND(H12="-",ISBLANK(K12)),"-",MIN(H12,O12)))) -> - | S12: {=IF(R12:R111="","",VLOOKUP(U12:U111,AL12:AP111,5,FALSE))} -> 7 | T12: {=IF(R12:R111="","",IF(R12:R111="-",COUNT(Q12:Q111)+W12:W111,Q12:Q111+AE12:AE111+AG12:AG111+AI12:AI111+AK12:AK111))} -> 7 | U12: {=IF(B12:B111 ="","",B12:B111 & " ")&C12:C111} -> 1 BARDAKOV GLEB | V12: {=R12:R111} -> - | W12: =IF(R12="","",COUNTIF(R12:R12,"-")) -> 1 | X12: {=IF(Q12:Q111="","",COUNTIF(Q12:Q111,Q12:Q111)-1)} | Y12: {=IF(R12:R111="-","",IF(X12:X111=0,"",R12:R111))} | Z12: {=IF(Y12:Y111="","",RANK(Y12:Y111,Y12:Y111,1))} | AA12: {=IF(X12:X111="","",IF(X12:X111=0,"",IF(LEFT(H12:H111,1)="-","199",H12:H111)))} | AB12: {=IF(X12:X111="","",IF(X12:X111=0,"",IF(LEFT(O12:O111,1)="-","199",O12:O111)))} | AC12: {=IF(ISERROR(AA12:AA111+AB12:AB111)=TRUE,AA12:AA111,AA12:AA111+AB12:AB111)} | AD12: {=IF(R12:R111="","",IF(X12:X111=0,"0",IF(ISERROR(RANK(AC12:AC111,AC12:AC111,1))=TRUE,"0",RANK(AC12:AC111,AC12:AC111,1))))} -> 0 | AE12: 0 | AF12: {=IF(ISERROR(X12:X111)=TRUE,"",IF(Z12:Z111=1,AD12:AD111,""))} | AG12: {=IF(R12:R111="","",IF(AF12:AF111="","0",RANK(AF12:AF111,AF12:AF111,1)-1))} -> 0 | AH12: {=IF(ISERROR(X12:X111)=TRUE,"",IF(Z12:Z111=COUNT(AF12:AF111)+1,AD12:AD111,""))} | AI12: {=IF(R12:R111="","",IF(AH12:AH111="","0",RANK(AH12:AH111,AH12:AH111,1)-1))} -> 0 | AJ12: {=IF(ISERROR(X12:X111)=TRUE,"",IF(Z12:Z111=COUNT(AF12:AF111)+COUNT(AH12:AH111)+1,AD12:AD111,""))} | AK12: {=IF(R12:R111="","",IF(AJ12:AJ111="","0",RANK(AJ12:AJ111,AJ12:AJ111,1)-1))} -> 0 | AL12: {=AQ12:AQ111} -> 9 KULIKOVA ELENA | AM12: =COUNTIF(AS12:AS12,"W") -> 0 | AN12: =IF(AR12="","",COUNTIF(AR12:AR12,"-")) -> 0 | AO12: {=IF(AQ12:AQ111="BYE","",IF(AS12:AS111="W","",IF(AS7="N",IF(AP12:AP111<=COUNT(Q12:Q111),AP12:AP111-AM12:AM111,""),IF(AP12:AP111<=COUNT(Q12:Q111),AP12:AP111-AM12:AM111,AP12:AP111-AM12:AM111+AN12:AN111-1))))} -> 1 | AP12: {=IF(R12:R111="","",IF(AP11:AP110+1<=COUNT(Q12:Q111),AP11:AP110+1,COUNT(Q12:Q111)+1))} -> 1 | AQ12: {=IF(R12:R111="","BYE",IF(ISERROR(VLOOKUP(A12:A111,T12:U111,2,FALSE))=TRUE,"",VLOOKUP(A12:A111,T12:U111,2,FALSE)))} -> 9 KULIKOVA ELENA | AR12: {=IF(C12:C111="BYE", "",IF(A12:A111="","",IF(ISERROR(VLOOKUP(A12:A111,T12:V111,3,FALSE))=TRUE,"",VLOOKUP(A12:A111,T12:V111,3,FALSE))))} -> 18.493
A13: 2 | B13: 2 | C13: MIHAILOVSKY FOMA | D13: DQ | E13: 0 | F13: 0.966 | H13: - | K13: 22.037 | L13: 3 | M13: 0.912 | O13: 22.337 | P13: 6 | Q13: 6 | R13: =IF(AND(ISBLANK(D13),ISBLANK(K13)),"",IF(AND(H13="-",O13="-"),"-",IF(AND(H13="-",ISBLANK(K13)),"-",MIN(H13,O13)))) -> 22.337 | S13: 6 | T13: 6 | U13: 2 MIHAILOVSKY FOMA | V13: 22.337 | W13: =IF(R13="","",COUNTIF(R12:R13,"-")) -> 1 | X13: 0 | AD13: 0 | AE13: =IF(R13="","",IF(AD13="0","0",COUNTIF(AD12:AD12,AD13))) -> 0 | AG13: 0 | AI13: 0 | AK13: 0 | AL13: 7 NEHOROSHIH MAKAR | AM13: =COUNTIF(AS12:AS13,"W") -> 0 | AN13: =IF(AR13="","",COUNTIF(AR12:AR13,"-")) -> 0 | AO13: 2 | AP13: 2 | AQ13: 7 NEHOROSHIH MAKAR | AR13: 19.543
A14: 3 | B14: 3 | C14: MAMONTOV TIMOFEI | D14: DQ | E14: 0 | F14: 1.564 | H14: - | K14: DQ | L14: 0 | M14: 1.247 | O14: - | R14: =IF(AND(ISBLANK(D14),ISBLANK(K14)),"",IF(AND(H14="-",O14="-"),"-",IF(AND(H14="-",ISBLANK(K14)),"-",MIN(H14,O14)))) -> - | S14: 7 | T14: 8 | U14: 3 MAMONTOV TIMOFEI | V14: - | W14: =IF(R14="","",COUNTIF(R12:R14,"-")) -> 2 | AD14: 0 | AE14: =IF(R14="","",IF(AD14="0","0",COUNTIF(AD12:AD13,AD14))) -> 0 | AG14: 0 | AI14: 0 | AK14: 0 | AL14: 8 NAZARKIN BORIS | AM14: =COUNTIF(AS12:AS14,"W") -> 0 | AN14: =IF(AR14="","",COUNTIF(AR12:AR14,"-")) -> 0 | AO14: 3 | AP14: 3 | AQ14: 8 NAZARKIN BORIS | AR14: 20.024
A15: 4 | B15: 4 | C15: KOSOVSKII SEMEN | D15: DQ | E15: 0 | F15: 0.672 | H15: - | K15: DQ | L15: 0 | M15: 1.08 | O15: - | R15: =IF(AND(ISBLANK(D15),ISBLANK(K15)),"",IF(AND(H15="-",O15="-"),"-",IF(AND(H15="-",ISBLANK(K15)),"-",MIN(H15,O15)))) -> - | S15: 7 | T15: 9 | U15: 4 KOSOVSKII SEMEN | V15: - | W15: =IF(R15="","",COUNTIF(R12:R15,"-")) -> 3 | AD15: 0 | AE15: =IF(R15="","",IF(AD15="0","0",COUNTIF(AD12:AD14,AD15))) -> 0 | AG15: 0 | AI15: 0 | AK15: 0 | AL15: 6 KUVSHINOVA MARIA | AM15: =COUNTIF(AS12:AS15,"W") -> 0 | AN15: =IF(AR15="","",COUNTIF(AR12:AR15,"-")) -> 0 | AO15: 4 | AP15: 4 | AQ15: 6 KUVSHINOVA MARIA | AR15: 21.377
A16: 5 | B16: 5 | C16: MOROZOVA EKATERINA | D16: 21.698 | E16: 2 | F16: 1.256 | H16: 21.898 | I16: 3 | K16: 21.421 | L16: 3 | M16: 1.015 | O16: 21.721 | P16: 5 | Q16: 5 | R16: =IF(AND(ISBLANK(D16),ISBLANK(K16)),"",IF(AND(H16="-",O16="-"),"-",IF(AND(H16="-",ISBLANK(K16)),"-",MIN(H16,O16)))) -> 21.721 | S16: 5 | T16: 5 | U16: 5 MOROZOVA EKATERINA | V16: 21.721 | W16: =IF(R16="","",COUNTIF(R12:R16,"-")) -> 3 | X16: 0 | AD16: 0 | AE16: =IF(R16="","",IF(AD16="0","0",COUNTIF(AD12:AD15,AD16))) -> 0 | AG16: 0 | AI16: 0 | AK16: 0 | AL16: 5 MOROZOVA EKATERINA | AM16: =COUNTIF(AS12:AS16,"W") -> 0 | AN16: =IF(AR16="","",COUNTIF(AR12:AR16,"-")) -> 0 | AO16: 5 | AP16: 5 | AQ16: 5 MOROZOVA EKATERINA | AR16: 21.721
A17: 6 | B17: 6 | C17: KUVSHINOVA MARIA | D17: 21.589 | E17: 0 | F17: 1.113 | H17: 21.589 | I17: 2 | K17: 21.077 | L17: 3 | M17: 1.337 | O17: 21.377 | P17: 4 | Q17: 4 | R17: =IF(AND(ISBLANK(D17),ISBLANK(K17)),"",IF(AND(H17="-",O17="-"),"-",IF(AND(H17="-",ISBLANK(K17)),"-",MIN(H17,O17)))) -> 21.377 | S17: 4 | T17: 4 | U17: 6 KUVSHINOVA MARIA | V17: 21.377 | W17: =IF(R17="","",COUNTIF(R12:R17,"-")) -> 3 | X17: 0 | AD17: 0 | AE17: =IF(R17="","",IF(AD17="0","0",COUNTIF(AD12:AD16,AD17))) -> 0 | AG17: 0 | AI17: 0 | AK17: 0 | AL17: 2 MIHAILOVSKY FOMA | AM17: =COUNTIF(AS12:AS17,"W") -> 0 | AN17: =IF(AR17="","",COUNTIF(AR12:AR17,"-")) -> 0 | AO17: 6 | AP17: 6 | AQ17: 2 MIHAILOVSKY FOMA | AR17: 22.337
A18: 7 | B18: 7 | C18: NEHOROSHIH MAKAR | D18: DQ | E18: 0 | F18: 1.117 | H18: - | K18: 19.343 | L18: 2 | M18: 1.094 | O18: 19.543 | P18: 2 | Q18: 2 | R18: =IF(AND(ISBLANK(D18),ISBLANK(K18)),"",IF(AND(H18="-",O18="-"),"-",IF(AND(H18="-",ISBLANK(K18)),"-",MIN(H18,O18)))) -> 19.543 | S18: 2 | T18: 2 | U18: 7 NEHOROSHIH MAKAR | V18: 19.543 | W18: =IF(R18="","",COUNTIF(R12:R18,"-")) -> 3 | X18: 0 | AD18: 0 | AE18: =IF(R18="","",IF(R18="","",IF(AD18="0","0",COUNTIF(AD12:AD17,AD18)))) -> 0 | AG18: 0 | AI18: 0 | AK18: 0 | AL18: 1 BARDAKOV GLEB | AM18: =COUNTIF(AS12:AS18,"W") -> 0 | AN18: =IF(AR18="","",COUNTIF(AR12:AR18,"-")) -> 1 | AO18: 7 | AP18: 7 | AQ18: 1 BARDAKOV GLEB | AR18: -
A19: 8 | B19: 8 | C19: NAZARKIN BORIS | D19: DQ | E19: 0 | F19: 0.995 | H19: - | K19: 20.024 | L19: 0 | M19: 0.567 | O19: 20.024 | P19: 3 | Q19: 3 | R19: =IF(AND(ISBLANK(D19),ISBLANK(K19)),"",IF(AND(H19="-",O19="-"),"-",IF(AND(H19="-",ISBLANK(K19)),"-",MIN(H19,O19)))) -> 20.024 | S19: 3 | T19: 3 | U19: 8 NAZARKIN BORIS | V19: 20.024 | W19: =IF(R19="","",COUNTIF(R12:R19,"-")) -> 3 | X19: 0 | AD19: 0 | AE19: =IF(R19="","",IF(R19="","",IF(AD19="0","0",COUNTIF(AD12:AD18,AD19)))) -> 0 | AG19: 0 | AI19: 0 | AK19: 0 | AL19: 3 MAMONTOV TIMOFEI | AM19: =COUNTIF(AS12:AS19,"W") -> 0 | AN19: =IF(AR19="","",COUNTIF(AR12:AR19,"-")) -> 2 | AO19: 8 | AP19: 7 | AQ19: 3 MAMONTOV TIMOFEI | AR19: -
A20: 9 | B20: 9 | C20: KULIKOVA ELENA | D20: 18.493 | E20: 0 | F20: 0.749 | H20: 18.493 | I20: 1 | K20: 19.084 | L20: 0 | M20: 1.44 | O20: 19.084 | P20: 1 | Q20: 1 | R20: =IF(AND(ISBLANK(D20),ISBLANK(K20)),"",IF(AND(H20="-",O20="-"),"-",IF(AND(H20="-",ISBLANK(K20)),"-",MIN(H20,O20)))) -> 18.493 | S20: 1 | T20: 1 | U20: 9 KULIKOVA ELENA | V20: 18.493 | W20: =IF(R20="","",COUNTIF(R12:R20,"-")) -> 3 | X20: 0 | AD20: 0 | AE20: =IF(R20="","",IF(R20="","",IF(AD20="0","0",COUNTIF(AD12:AD19,AD20)))) -> 0 | AG20: 0 | AI20: 0 | AK20: 0 | AL20: 4 KOSOVSKII SEMEN | AM20: =COUNTIF(AS12:AS20,"W") -> 0 | AN20: =IF(AR20="","",COUNTIF(AR12:AR20,"-")) -> 3 | AO20: 9 | AP20: 7 | AQ20: 4 KOSOVSKII SEMEN | AR20: -
A21: 10 | B21: 10 | C21: SAMUTICHEVA ANNA | D21: DQ | E21: 0 | F21: 0.739 | H21: - | K21: DQ | L21: 0 | M21: 0.666 | O21: - | R21: =IF(AND(ISBLANK(D21),ISBLANK(K21)),"",IF(AND(H21="-",O21="-"),"-",IF(AND(H21="-",ISBLANK(K21)),"-",MIN(H21,O21)))) -> - | S21: 7 | T21: 10 | U21: 10 SAMUTICHEVA ANNA | V21: - | W21: =IF(R21="","",COUNTIF(R12:R21,"-")) -> 4 | AD21: 0 | AE21: =IF(R21="","",IF(AD21="0","0",COUNTIF(AD12:AD20,AD21))) -> 0 | AG21: 0 | AI21: 0 | AK21: 0 | AL21: 10 SAMUTICHEVA ANNA | AM21: =COUNTIF(AS12:AS21,"W") -> 0 | AN21: =IF(AR21="","",COUNTIF(AR12:AR21,"-")) -> 4 | AO21: 10 | AP21: 7 | AQ21: 10 SAMUTICHEVA ANNA | AR21: -
A22: 11 | R22: =IF(AND(ISBLANK(D22),ISBLANK(K22)),"",IF(AND(H22="-",O22="-"),"-",IF(AND(H22="-",ISBLANK(K22)),"-",MIN(H22,O22)))) | W22: =IF(R22="","",COUNTIF(R12:R22,"-")) | AE22: =IF(R22="","",IF(AD22="0","0",COUNTIF(AD1:AD21,AD22))) | AL22: BYE | AM22: =COUNTIF(AS12:AS22,"W") -> 0 | AN22: =IF(AR22="","",COUNTIF(AR12:AR22,"-")) | AQ22: BYE
A23: 12 | R23: =IF(AND(ISBLANK(D23),ISBLANK(K23)),"",IF(AND(H23="-",O23="-"),"-",IF(AND(H23="-",ISBLANK(K23)),"-",MIN(H23,O23)))) | W23: =IF(R23="","",COUNTIF(R12:R23,"-")) | AE23: =IF(R23="","",IF(AD23="0","0",COUNTIF(AD12:AD22,AD23))) | AL23: BYE | AM23: =COUNTIF(AS12:AS23,"W") -> 0 | AN23: =IF(AR23="","",COUNTIF(AR12:AR23,"-")) | AQ23: BYE
A24: 13 | R24: =IF(AND(ISBLANK(D24),ISBLANK(K24)),"",IF(AND(H24="-",O24="-"),"-",IF(AND(H24="-",ISBLANK(K24)),"-",MIN(H24,O24)))) | W24: =IF(R24="","",COUNTIF(R12:R24,"-")) | AE24: =IF(R24="","",IF(AD24="0","0",COUNTIF(AD12:AD23,AD24))) | AL24: BYE | AM24: =COUNTIF(AS12:AS24,"W") -> 0 | AN24: =IF(AR24="","",COUNTIF(AR12:AR24,"-")) | AQ24: BYE
A25: 14 | R25: =IF(AND(ISBLANK(D25),ISBLANK(K25)),"",IF(AND(H25="-",O25="-"),"-",IF(AND(H25="-",ISBLANK(K25)),"-",MIN(H25,O25)))) | W25: =IF(R25="","",COUNTIF(R12:R25,"-")) | AE25: =IF(R25="","",IF(AD25="0","0",COUNTIF(AD12:AD24,AD25))) | AL25: BYE | AM25: =COUNTIF(AS12:AS25,"W") -> 0 | AN25: =IF(AR25="","",COUNTIF(AR12:AR25,"-")) | AQ25: BYE
A26: 15 | R26: =IF(AND(ISBLANK(D26),ISBLANK(K26)),"",IF(AND(H26="-",O26="-"),"-",IF(AND(H26="-",ISBLANK(K26)),"-",MIN(H26,O26)))) | W26: =IF(R26="","",COUNTIF(R12:R26,"-")) | AE26: =IF(R26="","",IF(AD26="0","0",COUNTIF(AD12:AD25,AD26))) | AL26: BYE | AM26: =COUNTIF(AS12:AS26,"W") -> 0 | AN26: =IF(AR26="","",COUNTIF(AR12:AR26,"-")) | AQ26: BYE
A27: 16 | R27: =IF(AND(ISBLANK(D27),ISBLANK(K27)),"",IF(AND(H27="-",O27="-"),"-",IF(AND(H27="-",ISBLANK(K27)),"-",MIN(H27,O27)))) | W27: =IF(R27="","",COUNTIF(R12:R27,"-")) | AE27: =IF(R27="","",IF(AD27="0","0",COUNTIF(AD12:AD26,AD27))) | AL27: BYE | AM27: =COUNTIF(AS12:AS27,"W") -> 0 | AN27: =IF(AR27="","",COUNTIF(AR12:AR27,"-")) | AQ27: BYE
A28: 17 | R28: =IF(AND(ISBLANK(D28),ISBLANK(K28)),"",IF(AND(H28="-",O28="-"),"-",IF(AND(H28="-",ISBLANK(K28)),"-",MIN(H28,O28)))) | W28: =IF(R28="","",COUNTIF(R12:R28,"-")) | AE28: =IF(R28="","",IF(AD28="0","0",COUNTIF(AD12:AD27,AD28))) | AL28: BYE | AM28: =COUNTIF(AS12:AS28,"W") -> 0 | AN28: =IF(AR28="","",COUNTIF(AR12:AR28,"-")) | AQ28: BYE
A29: 18 | R29: =IF(AND(ISBLANK(D29),ISBLANK(K29)),"",IF(AND(H29="-",O29="-"),"-",IF(AND(H29="-",ISBLANK(K29)),"-",MIN(H29,O29)))) | W29: =IF(R29="","",COUNTIF(R12:R29,"-")) | AE29: =IF(R29="","",IF(AD29="0","0",COUNTIF(AD12:AD28,AD29))) | AL29: BYE | AM29: =COUNTIF(AS12:AS29,"W") -> 0 | AN29: =IF(AR29="","",COUNTIF(AR12:AR29,"-")) | AQ29: BYE
A30: 19 | R30: =IF(AND(ISBLANK(D30),ISBLANK(K30)),"",IF(AND(H30="-",O30="-"),"-",IF(AND(H30="-",ISBLANK(K30)),"-",MIN(H30,O30)))) | W30: =IF(R30="","",COUNTIF(R12:R30,"-")) | AE30: =IF(R30="","",IF(AD30="0","0",COUNTIF(AD12:AD29,AD30))) | AL30: BYE | AM30: =COUNTIF(AS12:AS30,"W") -> 0 | AN30: =IF(AR30="","",COUNTIF(AR12:AR30,"-")) | AQ30: BYE
A31: 20 | R31: =IF(AND(ISBLANK(D31),ISBLANK(K31)),"",IF(AND(H31="-",O31="-"),"-",IF(AND(H31="-",ISBLANK(K31)),"-",MIN(H31,O31)))) | W31: =IF(R31="","",COUNTIF(R12:R31,"-")) | AE31: =IF(R31="","",IF(AD31="0","0",COUNTIF(AD12:AD30,AD31))) | AL31: BYE | AM31: =COUNTIF(AS12:AS31,"W") -> 0 | AN31: =IF(AR31="","",COUNTIF(AR12:AR31,"-")) | AQ31: BYE
A32: 21 | R32: =IF(AND(ISBLANK(D32),ISBLANK(K32)),"",IF(AND(H32="-",O32="-"),"-",IF(AND(H32="-",ISBLANK(K32)),"-",MIN(H32,O32)))) | W32: =IF(R32="","",COUNTIF(R12:R32,"-")) | AE32: =IF(R32="","",IF(AD32="0","0",COUNTIF(AD12:AD31,AD32))) | AL32: BYE | AM32: =COUNTIF(AS12:AS32,"W") -> 0 | AN32: =IF(AR32="","",COUNTIF(AR12:AR32,"-")) | AQ32: BYE
A33: 22 | R33: =IF(AND(ISBLANK(D33),ISBLANK(K33)),"",IF(AND(H33="-",O33="-"),"-",IF(AND(H33="-",ISBLANK(K33)),"-",MIN(H33,O33)))) | W33: =IF(R33="","",COUNTIF(R12:R33,"-")) | AE33: =IF(R33="","",IF(AD33="0","0",COUNTIF(AD12:AD32,AD33))) | AL33: BYE | AM33: =COUNTIF(AS12:AS33,"W") -> 0 | AN33: =IF(AR33="","",COUNTIF(AR12:AR33,"-")) | AQ33: BYE
A34: 23 | R34: =IF(AND(ISBLANK(D34),ISBLANK(K34)),"",IF(AND(H34="-",O34="-"),"-",IF(AND(H34="-",ISBLANK(K34)),"-",MIN(H34,O34)))) | W34: =IF(R34="","",COUNTIF(R12:R34,"-")) | AE34: =IF(R34="","",IF(AD34="0","0",COUNTIF(AD12:AD33,AD34))) | AL34: BYE | AM34: =COUNTIF(AS12:AS34,"W") -> 0 | AN34: =IF(AR34="","",COUNTIF(AR12:AR34,"-")) | AQ34: BYE
A35: 24 | R35: =IF(AND(ISBLANK(D35),ISBLANK(K35)),"",IF(AND(H35="-",O35="-"),"-",IF(AND(H35="-",ISBLANK(K35)),"-",MIN(H35,O35)))) | W35: =IF(R35="","",COUNTIF(R12:R35,"-")) | AE35: =IF(R35="","",IF(AD35="0","0",COUNTIF(AD12:AD34,AD35))) | AL35: BYE | AM35: =COUNTIF(AS12:AS35,"W") -> 0 | AN35: =IF(AR35="","",COUNTIF(AR12:AR35,"-")) | AQ35: BYE
A36: 25 | R36: =IF(AND(ISBLANK(D36),ISBLANK(K36)),"",IF(AND(H36="-",O36="-"),"-",IF(AND(H36="-",ISBLANK(K36)),"-",MIN(H36,O36)))) | W36: =IF(R36="","",COUNTIF(R12:R36,"-")) | AE36: =IF(R36="","",IF(AD36="0","0",COUNTIF(AD12:AD35,AD36))) | AL36: BYE | AM36: =COUNTIF(AS12:AS36,"W") -> 0 | AN36: =IF(AR36="","",COUNTIF(AR12:AR36,"-")) | AQ36: BYE
A37: 26 | R37: =IF(AND(ISBLANK(D37),ISBLANK(K37)),"",IF(AND(H37="-",O37="-"),"-",IF(AND(H37="-",ISBLANK(K37)),"-",MIN(H37,O37)))) | W37: =IF(R37="","",COUNTIF(R12:R37,"-")) | AE37: =IF(R37="","",IF(AD37="0","0",COUNTIF(AD12:AD36,AD37))) | AL37: BYE | AM37: =COUNTIF(AS12:AS37,"W") -> 0 | AN37: =IF(AR37="","",COUNTIF(AR12:AR37,"-")) | AQ37: BYE
A38: 27 | R38: =IF(AND(ISBLANK(D38),ISBLANK(K38)),"",IF(AND(H38="-",O38="-"),"-",IF(AND(H38="-",ISBLANK(K38)),"-",MIN(H38,O38)))) | W38: =IF(R38="","",COUNTIF(R12:R38,"-")) | AE38: =IF(R38="","",IF(AD38="0","0",COUNTIF(AD12:AD37,AD38))) | AL38: BYE | AM38: =COUNTIF(AS12:AS38,"W") -> 0 | AN38: =IF(AR38="","",COUNTIF(AR12:AR38,"-")) | AQ38: BYE
A39: 28 | R39: =IF(AND(ISBLANK(D39),ISBLANK(K39)),"",IF(AND(H39="-",O39="-"),"-",IF(AND(H39="-",ISBLANK(K39)),"-",MIN(H39,O39)))) | W39: =IF(R39="","",COUNTIF(R12:R39,"-")) | AE39: =IF(R39="","",IF(AD39="0","0",COUNTIF(AD12:AD38,AD39))) | AL39: BYE | AM39: =COUNTIF(AS12:AS39,"W") -> 0 | AN39: =IF(AR39="","",COUNTIF(AR12:AR39,"-")) | AQ39: BYE
A40: 29 | R40: =IF(AND(ISBLANK(D40),ISBLANK(K40)),"",IF(AND(H40="-",O40="-"),"-",IF(AND(H40="-",ISBLANK(K40)),"-",MIN(H40,O40)))) | W40: =IF(R40="","",COUNTIF(R12:R40,"-")) | AE40: =IF(R40="","",IF(AD40="0","0",COUNTIF(AD12:AD39,AD40))) | AL40: BYE | AM40: =COUNTIF(AS12:AS40,"W") -> 0 | AN40: =IF(AR40="","",COUNTIF(AR12:AR40,"-")) | AQ40: BYE
A41: 30 | R41: =IF(AND(ISBLANK(D41),ISBLANK(K41)),"",IF(AND(H41="-",O41="-"),"-",IF(AND(H41="-",ISBLANK(K41)),"-",MIN(H41,O41)))) | W41: =IF(R41="","",COUNTIF(R12:R41,"-")) | AE41: =IF(R41="","",IF(AD41="0","0",COUNTIF(AD12:AD40,AD41))) | AL41: BYE | AM41: =COUNTIF(AS12:AS41,"W") -> 0 | AN41: =IF(AR41="","",COUNTIF(AR12:AR41,"-")) | AQ41: BYE
...

Sheet Am Elims
C1: Event Name | Q1: Database development by
C2: Date • Place | Q2: Dan Gesmer, SeismicSK8@aol.com
A3: 32 | B3: Top Bracket (32-16-8-4-2) | C3: Discipline / Open Eliminations
A5: Qualifying Position | B5: Racer No. & Name | C5: Run 1 | J5: R1 Margin | K5: Run 2 | R5: R2 Margin | S5: Round Winner & Combined Margin | T5: Loser’s Final Placement | U5: Round Loser | V5: Qualifying Time | W5: Qualifying Position
C6: Raw Time | D6: Cones | E6: Reaction Time | F6: False Start | G6: Final Time | H6: Run Rank | I6: Winner & Margin | K6: Raw Time | L6: Cones | M6: Reaction Time | N6: False Start | O6: Final Time | P6: Run Rank | Q6: Winner & Margin
B7: Round of 32
A8: 1 | B8: =IF(A3<A8,"BYE",IF(ISERROR(VLOOKUP(A8,'Am Quals'!AO12:'Am Quals'!AQ111,3,FALSE))=TRUE,"BYE",VLOOKUP(A8,'Am Quals'!AO12:'Am Quals'!AQ111,3,FALSE))) -> 27 KOLESOV ANTON | G8: {=IF(LEFT(C8:C39,1)="D","-",IF(D8:D39>'Am Quals'!A6,"-",IF(C8:C39>0,C8:C39+D8:D39*'Am Quals'!A5+F8:F39*'Am Quals'!A7,"")))} | H8: {=IF(G8:G39="","", IF(G8:G39="-","", RANK(G8:G39,G8:G39,1)))} | I8: =IF(AND(LEFT(C8,1)="D",LEFT(C9,1)="D"),"",IF(OR(C8="DNR",C9="DNR"),IF(C8="DNR",B9,B8),IF(OR(ISBLANK(C8),ISBLANK(C9)),"",IF(G8=G9,"TIE",IF(G8>G9,B9,B8))))) | O8: {=IF(LEFT(K8:K39,1)="D","-",IF(L8:L39>'Am Quals'!A6,"-",IF(K8:K39>0,K8:K39+L8:L39*'Am Quals'!A5+N8:N39*'Am Quals'!A7,"")))} | P8: {=IF(O8:O39="","",IF(O8:O39="-","", RANK(O8:O39,O8:O39,1)))} | Q8: =IF(AND(LEFT(K8,1)="D",LEFT(K9,1)="D"),"",IF(OR(K8="DNR",K9="DNR"),IF(K8="DNR",B9,B8),IF(OR(ISBLANK(K8),ISBLANK(K9)),"",IF(O8=O9,"TIE",IF(O8>O9,B9,B8))))) | S8: =IF(B9="BYE", B8, IF(ISERROR(J9+R9)=TRUE,"",IF(J9+R9=0,"TIE - HOLD RUNOFF",IF(J9+R9>0,B9,B8)))) -> 27 KOLESOV ANTON
A9: 32 | B9: =IF(A3<A9,"BYE",IF(ISERROR(VLOOKUP(A9,'Am Quals'!AO12:'Am Quals'!AQ111,3,FALSE))=TRUE,"BYE",VLOOKUP(A9,'Am Quals'!AO12:'Am Quals'!AQ111,3,FALSE))) -> BYE | I9: =IF(AND(LEFT(C8,1)="D",LEFT(C9,1)="D"),"",IF(OR(C8="DNR",C9="DNR"),"by "&ABS(J9)&" seconds",IF(OR(ISBLANK(C8),ISBLANK(C9),G8=G9),"","by "&ABS(J9)&" seconds"))) | J9: =IF(AND(LEFT(C8,1)="D",LEFT(C9,1)="D"),"0",IF(OR(C8="DNR",C9="DNR"),IF(C8="DNR",1,-1)*'Am Quals'!A8,IF(OR(ISBLANK(C8),ISBLANK(C9)),"",IF(OR(G8="-",G9="-"),IF(G8="-",1,-1)*'Am Quals'!A8,IF(ABS(G8-G9)>'Am Quals'!A9,IF(G8-G9>'Am Quals'!A9,1,-1)*'Am Quals'!A9,ROUND(G8-G9,3)))))) | Q9: =IF(AND(LEFT(K8,1)="D",LEFT(K9,1)="D"),"",IF(OR(K8="DNR",K9="DNR"),"by "&ABS(R9)&" seconds",IF(OR(ISBLANK(K8),ISBLANK(K9),O8=O9),"","by "&ABS(R9)&" seconds"))) | R9: =IF(AND(LEFT(K8,1)="D",LEFT(K9,1)="D"),"0",IF(OR(K8="DNR",K9="DNR"),IF(K8="DNR",1,-1)*'Am Quals'!A8,IF(OR(ISBLANK(K8),ISBLANK(K9)),"",IF(OR(O8="-",O9="-"),IF(O8="-",1,-1)*'Am Quals'!A8,IF(ABS(O8-O9)>'Am Quals'!A9,IF(O8-O9>'Am Quals'!A9,1,-1)*'Am Quals'!A9,ROUND(O8-O9,3)))))) | S9: =IF(B9="BYE","(BYE)",IF(ISERROR(J9+R9)=TRUE,"",IF(J9+R9=0,"","by "&ABS(J9+R9)&" seconds"))) -> (BYE) | T9: {=IF(W9:W39="","",IF(ISERROR(W9:W39)=TRUE,"",16+RANK(W9:W39,W9:W39,1)))} | U9: =IF(B9="BYE", B9, IF(ISERROR(J9+R9)=TRUE,"",IF(J9+R9>0,B8,B9))) -> BYE | V9: =IF(ISERROR(VLOOKUP(U9,'Am Quals'!U12:V111,2,FALSE))=TRUE,"",VLOOKUP(U9,'Am Quals'!U12:V111,2,FALSE)) | W9: =IF(ISERROR(VLOOKUP(U9,'Am Quals'!AL12:AO111,4,FALSE))=TRUE,"",VLOOKUP(U9,'Am Quals'!AL12:AO111,4,FALSE))
A10: 16 | B10: =IF(A3<A10,"BYE",IF(ISERROR(VLOOKUP(A10,'Am Quals'!AO12:'Am Quals'!AQ111,3,FALSE))=TRUE,"BYE",VLOOKUP(A10,'Am Quals'!AO12:'Am Quals'!AQ111,3,FALSE))) -> BYE | I10: =IF(AND(LEFT(C10,1)="D",LEFT(C11,1)="D"),"",IF(OR(C10="DNR",C11="DNR"),IF(C10="DNR",B11,B10),IF(OR(ISBLANK(C10),ISBLANK(C11)),"",IF(G10=G11,"TIE",IF(G10>G11,B11,B10))))) | Q10: =IF(AND(LEFT(K10,1)="D",LEFT(K11,1)="D"),"",IF(OR(K10="DNR",K11="DNR"),IF(K10="DNR",B11,B10),IF(OR(ISBLANK(K10),ISBLANK(K11)),"",IF(O10=O11,"TIE",IF(O10>O11,B11,B10))))) | S10: =IF(B11="BYE", B10, IF(ISERROR(J11+R11)=TRUE,"",IF(J11+R11=0,"TIE - HOLD RUNOFF",IF(J11+R11>0,B11,B10)))) -> BYE
A11: 17 | B11: =IF(A3<A11,"BYE",IF(ISERROR(VLOOKUP(A11,'Am Quals'!AO12:'Am Quals'!AQ111,3,FALSE))=TRUE,"BYE",VLOOKUP(A11,'Am Quals'!AO12:'Am Quals'!AQ111,3,FALSE))) -> BYE | I11: =IF(AND(LEFT(C10,1)="D",LEFT(C11,1)="D"),"",IF(OR(C10="DNR",C11="DNR"),"by "&ABS(J11)&" seconds",IF(OR(ISBLANK(C10),ISBLANK(C11),G10=G11),"","by "&ABS(J11)&" seconds"))) | J11: =IF(AND(LEFT(C10,1)="D",LEFT(C11,1)="D"),"0",IF(OR(C10="DNR",C11="DNR"),IF(C10="DNR",1,-1)*'Am Quals'!A8,IF(OR(ISBLANK(C10),ISBLANK(C11)),"",IF(OR(G10="-",G11="-"),IF(G10="-",1,-1)*'Am Quals'!A8,IF(ABS(G10-G11)>'Am Quals'!A9,IF(G10-G11>'Am Quals'!A9,1,-1)*'Am Quals'!A9,ROUND(G10-G11,3)))))) | Q11: =IF(AND(LEFT(K10,1)="D",LEFT(K11,1)="D"),"",IF(OR(K10="DNR",K11="DNR"),"by "&ABS(R11)&" seconds",IF(OR(ISBLANK(K10),ISBLANK(K11),O10=O11),"","by "&ABS(R11)&" seconds"))) | R11: =IF(AND(LEFT(K10,1)="D",LEFT(K11,1)="D"),"0",IF(OR(K10="DNR",K11="DNR"),IF(K10="DNR",1,-1)*'Am Quals'!A8,IF(OR(ISBLANK(K10),ISBLANK(K11)),"",IF(OR(O10="-",O11="-"),IF(O10="-",1,-1)*'Am Quals'!A8,IF(ABS(O10-O11)>'Am Quals'!A9,IF(O10-O11>'Am Quals'!A9,1,-1)*'Am Quals'!A9,ROUND(O10-O11,3)))))) | S11: =IF(B11="BYE","(BYE)",IF(ISERROR(J11+R11)=TRUE,"",IF(J11+R11=0,"","by "&ABS(J11+R11)&" seconds"))) -> (BYE) | U11: =IF(B11="BYE", B11, IF(ISERROR(J11+R11)=TRUE,"",IF(J11+R11>0,B10,B11))) -> BYE | V11: =IF(ISERROR(VLOOKUP(U11,'Am Quals'!U12:V111,2,FALSE))=TRUE,"",VLOOKUP(U11,'Am Quals'!U12:V111,2,FALSE)) | W11: =IF(ISERROR(VLOOKUP(U11,'Am Quals'!AL12:AO111,4,FALSE))=TRUE,"",VLOOKUP(U11,'Am Quals'!AL12:AO111,4,FALSE))
A12: 8 | B12: =IF(A3<A12,"BYE",IF(ISERROR(VLOOKUP(A12,'Am Quals'!AO12:'Am Quals'!AQ111,3,FALSE))=TRUE,"BYE",VLOOKUP(A12,'Am Quals'!AO12:'Am Quals'!AQ111,3,FALSE))) -> 20 YAKUSHKIN ANTON | I12: =IF(AND(LEFT(C12,1)="D",LEFT(C13,1)="D"),"",IF(OR(C12="DNR",C13="DNR"),IF(C12="DNR",B13,B12),IF(OR(ISBLANK(C12),ISBLANK(C13)),"",IF(G12=G13,"TIE",IF(G12>G13,B13,B12))))) | Q12: =IF(AND(LEFT(K12,1)="D",LEFT(K13,1)="D"),"",IF(OR(K12="DNR",K13="DNR"),IF(K12="DNR",B13,B12),IF(OR(ISBLANK(K12),ISBLANK(K13)),"",IF(O12=O13,"TIE",IF(O12>O13,B13,B12))))) | S12: =IF(B13="BYE", B12, IF(ISERROR(J13+R13)=TRUE,"",IF(J13+R13=0,"TIE - HOLD RUNOFF",IF(J13+R13>0,B13,B12)))) -> 20 YAKUSHKIN ANTON
